BEGIN:VCALENDAR
VERSION:2.0
PRODID:-//Tvoříme Evropu - ECPv6.15.0.1//NONSGML v1.0//EN
CALSCALE:GREGORIAN
METHOD:PUBLISH
X-WR-CALNAME:Tvoříme Evropu
X-ORIGINAL-URL:https://tvorimevropu.showyourweb.cz
X-WR-CALDESC:Akce na Tvoříme Evropu
REFRESH-INTERVAL;VALUE=DURATION:PT1H
X-Robots-Tag:noindex
X-PUBLISHED-TTL:PT1H
BEGIN:VTIMEZONE
TZID:Europe/Prague
BEGIN:DAYLIGHT
TZOFFSETFROM:+0100
TZOFFSETTO:+0200
TZNAME:CEST
DTSTART:20240331T010000
END:DAYLIGHT
BEGIN:STANDARD
TZOFFSETFROM:+0200
TZOFFSETTO:+0100
TZNAME:CET
DTSTART:20241027T010000
END:STANDARD
END:VTIMEZONE
BEGIN:VTIMEZONE
TZID:UTC
BEGIN:STANDARD
TZOFFSETFROM:+0000
TZOFFSETTO:+0000
TZNAME:UTC
DTSTART:20240101T000000
END:STANDARD
END:VTIMEZONE
BEGIN:VEVENT
DTSTART;TZID=Europe/Prague:20241112T110000
DTEND;TZID=Europe/Prague:20241112T123000
DTSTAMP:20260420T033135
CREATED:20241112T085240Z
LAST-MODIFIED:20241112T085240Z
UID:170360-1731409200-1731414600@tvorimevropu.showyourweb.cz
SUMMARY:Fakta a mýty o Green Dealu
DESCRIPTION:Eurocentrum Pardubice zve všechny zájemce na odborný seminář pro studenty Univerzity Pardubice – Univerzity třetího věku. \nBeseda se uskuteční dne 12. listopadu 2024 v době od 11:00 do 12:30 hodin v prostorách Dopravní fakulty Jana Pernera Univerzity Pardubice\, učebně B5. na konci příspěvku nebude chybět ani diskuse s účastníky. \nCílovou skupinou jsou primárně studenti Univerzity Pardubice a senioři. \nCílem akce je zvýšit povědomí o současných\, nejvíce diskutovaných evropských tématech\, kulturních rozmanitostech Evropy a činnosti sítě Eurocenter. \nPozvání na akci přijal Filip Křenek\, Institut pro evropskou politiku EUROPEUM.
URL:https://tvorimevropu.showyourweb.cz/event/fakta-a-myty-o-green-dealu-3/
CATEGORIES:Pardubice
END:VEVENT
BEGIN:VEVENT
DTSTART;TZID=UTC:20240406T140000
DTEND;TZID=UTC:20240406T180000
DTSTAMP:20260420T033135
CREATED:20240328T110904Z
LAST-MODIFIED:20240328T110904Z
UID:170083-1712412000-1712426400@tvorimevropu.showyourweb.cz
SUMMARY:Vítání jara
DESCRIPTION:Zveme Vás na tradiční akci v Bečovské botanické zahradě v Bečově. \nJedná se o celodenní akci pro veřejnost. Dopoledne se bude konat 2. ročník Bečovského horského půlmaratonu od 9.00 do 10:30. Cíl závodu je v Bečovské botanické zahradě. Více najdete v události na FB zde . \nRodiny s dětmi si budou moci projít botanickou zahradu a plnit úkoly. Nebude chybět ani tradiční průvod s Moranou a její hození do řeky jako rozlučka se zimou. \nSe zimní koupací sezónou se také rozloučí Karlovarský otužilecký spolek. Pro děti uvede Divadlo Letadlo Cestu kolem světa. \nPro návštěvníky zahrady bude tentokrát vstup zdarma a bude připravena možnost komentované prohlídky botanické zahrady. \nV kryté části zahrady bude stanoviště Eurocentra a EUROPE DIRECT Karlovy Vary\, kde od 14 do 17 hodin rády návštěvníkům poskytneme informace o Zelené dohodě\, udržitelném cestování a významu a ochraně rostlin v přírodě. Dále si návštěvníci budou moci zdarma na eko-workshopu zasadit rostliny do květináče a vyplnit tematický kvíz o drobné ceny. \nV pozdějších hodinách bude probíhat kulturní program. Sledujte podrobnosti na události na fb \nObčerstvení zajištěno (i BRAMBORÁKY) \nVstupné dobrovolné – ZAHÁJENÍ NÁVŠTEVNICKÉ SEZÓNY
URL:https://tvorimevropu.showyourweb.cz/event/vitani-jara-2-3/
CATEGORIES:Karlovy Vary
ATTACH;FMTTYPE=image/jpeg:https://tvorimevropu.showyourweb.cz/wp-content/uploads/2024/03/433621634_1005559197577372_1195420653567490301_n-e1711622644239.jpg
END:VEVENT
END:VCALENDAR