BEGIN:VCALENDAR
VERSION:2.0
PRODID:-//Tvoříme Evropu - ECPv6.15.0.1//NONSGML v1.0//EN
CALSCALE:GREGORIAN
METHOD:PUBLISH
X-WR-CALNAME:Tvoříme Evropu
X-ORIGINAL-URL:https://tvorimevropu.showyourweb.cz
X-WR-CALDESC:Akce na Tvoříme Evropu
REFRESH-INTERVAL;VALUE=DURATION:PT1H
X-Robots-Tag:noindex
X-PUBLISHED-TTL:PT1H
BEGIN:VTIMEZONE
TZID:UTC
BEGIN:STANDARD
TZOFFSETFROM:+0000
TZOFFSETTO:+0000
TZNAME:UTC
DTSTART:20230101T000000
END:STANDARD
END:VTIMEZONE
BEGIN:VEVENT
DTSTART;TZID=UTC:20240608T110000
DTEND;TZID=UTC:20240608T180000
DTSTAMP:20260420T053337
CREATED:20240425T193924Z
LAST-MODIFIED:20240425T193924Z
UID:170137-1717844400-1717869600@tvorimevropu.showyourweb.cz
SUMMARY:Den cyklostezky Ohře
DESCRIPTION:Již více než 20 let se buduje cyklistická infrastruktura v Karlovarském kraji. Významně k tomu přispěly evropské fondy\, které využil Karlovarský kraj. na hlavní cyklostezku Ohře navazuje řada místních cyklostezek\, které budovaly a budují obce Karlovarského kraje a vytváří hustou síť. \n\nDen cyklostezky Ohře se stal již tradicí a letos bude 8. června v Chebu na Krajince. Akce začne (jak jinak) cyklistickým závodem z obou sousedních německých zemí Bavorska a Saska. Po 12. hodině začne kulturní program a bavorské město Wunsiedel na své stage také představí bavorské lázeňské trasy. Nebudou chybět ani stánky dalších místních organizací včetně Eurocentra a EUROPE DIRECT Karlovy Vary\, kde nabídneme veřejnosti zábavné aktivity a připomeneme si 20 let ČR v EU. Zastavte se za námi! \n\nVíce informací přineseme brzy.
URL:https://tvorimevropu.showyourweb.cz/event/den-cyklostezky-ohre-3/
CATEGORIES:20 let v EU,Karlovy Vary
END:VEVENT
BEGIN:VEVENT
DTSTART;TZID=UTC:20240518T140000
DTEND;TZID=UTC:20240518T210000
DTSTAMP:20260420T053337
CREATED:20240517T131517Z
LAST-MODIFIED:20240517T131517Z
UID:170161-1716040800-1716066000@tvorimevropu.showyourweb.cz
SUMMARY:Mattoni Karlovy Vary Running festival 2024
DESCRIPTION:Běhání pro radost nebo dobrou kondici je stále populárnější. v Karlových Varech se pravidelně koná běžecký půlmaraton. Mattoni Karlovy Vary Running festival 2024 je každoroční akce pro příznivkyně a příznivce běhu. Letos je rozšířen o další běžecké kategorie\, takže si vyberou všichni – malí i velcí. \nStánek Eurocentra Karlovy Vary a EUROPE DIRECT Karlovy Vary najdete u hotelu Thermal nedaleko stratu/cíle. Přijďte za námi\, budeme soutěžit nebo si jen povídat o Evropské unii. Přijďte fandit závodnicím a závodníkům! \nRychlá a rovná trasa vede unikátní lázeňskou kolonádou\, která je pro Karlovy Vary typická. Běžci se dále můžou kochat pohledem nejen na světoznámé hotely Thermal a Pupp\, ale i další zajímavá místa\, díky kterým patří Karlovy Vary na seznam památek UNESCO. \nPodrobné informace o registraci\, jednotlivých závodech\, ale také o dopravních omezeních najdete na webu https://www.runczech.com/cs/akce/mattoni-karlovy-vary-running-festival-2024 nebo ve FB události.
URL:https://tvorimevropu.showyourweb.cz/event/mattoni-karlovy-vary-running-festival-2024-3/
CATEGORIES:Karlovy Vary
END:VEVENT
BEGIN:VEVENT
DTSTART;TZID=UTC:20230411T120000
DTEND;TZID=UTC:20230411T160000
DTSTAMP:20260420T053337
CREATED:20230403T151329Z
LAST-MODIFIED:20230403T151329Z
UID:169683-1681214400-1681228800@tvorimevropu.showyourweb.cz
SUMMARY:Juniorský maraton 2023
DESCRIPTION:V Karlových Varech se poběží v úterý 11. dubna 2023. \n25. ročník Juniorského maratonu je štafetový závod určený pro střední školy. Družstvo složené z 10 členů společnými silami překonává maratonskou trať (42\,125 km). Každý student zaběhne svůj úsek a celé družstvo se snaží dorazit do cíle dříve než soupeři. Spolupořadatelem akce je Evropská komise v ČR. \nSemifinálová kola proběhnou od 4. dubna do 27. dubna 2023. \nČtrnáct semifinálových závodů se bude konat v krajských městech po celé ČR (Středočeský kraj a Praha budou mít společné semifinálové kolo\, kdy ale výsledky budou oddělené). Ze semifinálových kol postoupí nejlepší týmy do finále\, které se bude konat v rámci prestižního mezinárodního Maratonu v Praze 7. května 2023! \nTento ročník Juniorského maratonu je věnován kromě běhu také podpoře a rozvoji mentálního zdraví. Svým rozsahem se Juniorský maraton stal největším běžeckým závodem pro střední školy v ČR. Neziskový projekt má za cíl propagovat zdravý životní styl a motivovat studenty k pohybu a sportu. Společně chceme rozběhat tolik studentů\, kolik to jen jde.\nVíce informací: \nhttps://www.runczech.com/cs/akce/juniorsky-maraton-2023 \nhttps://www.facebook.com/juniorskymaraton \n#JuniorskyMaraton #JMC2023 #JuniorMarathon
URL:https://tvorimevropu.showyourweb.cz/event/juniorsky-maraton-2023-3/
CATEGORIES:Karlovy Vary
END:VEVENT
END:VCALENDAR