BEGIN:VCALENDAR
VERSION:2.0
PRODID:-//Tvoříme Evropu - ECPv6.15.0.1//NONSGML v1.0//EN
CALSCALE:GREGORIAN
METHOD:PUBLISH
X-WR-CALNAME:Tvoříme Evropu
X-ORIGINAL-URL:https://tvorimevropu.showyourweb.cz
X-WR-CALDESC:Akce na Tvoříme Evropu
REFRESH-INTERVAL;VALUE=DURATION:PT1H
X-Robots-Tag:noindex
X-PUBLISHED-TTL:PT1H
BEGIN:VTIMEZONE
TZID:Europe/Prague
BEGIN:DAYLIGHT
TZOFFSETFROM:+0100
TZOFFSETTO:+0200
TZNAME:CEST
DTSTART:20250330T010000
END:DAYLIGHT
BEGIN:STANDARD
TZOFFSETFROM:+0200
TZOFFSETTO:+0100
TZNAME:CET
DTSTART:20251026T010000
END:STANDARD
END:VTIMEZONE
BEGIN:VEVENT
DTSTART;TZID=Europe/Prague:20250422T110000
DTEND;TZID=Europe/Prague:20250422T130000
DTSTAMP:20260420T053603
CREATED:20250314T125154Z
LAST-MODIFIED:20250314T125154Z
UID:170434-1745319600-1745326800@tvorimevropu.showyourweb.cz
SUMMARY:Vnější vztahy EU
DESCRIPTION:Eurocentrum Plzeň zve všechny zájemce na besedu Vnější vztahy EU\, která se uskuteční dne 22. dubna od 11.10 do 12.50 hodin na Fakultě filozofické ZČU\, Jungmannova 1\, v místnosti JJ-305. \nPřijďte na toto téma diskutovat s Jakubem KARFÍKEM\, vrchním ředitelem sekce evropské Ministerstva zahraničních věcí ČR. \nVstup zdarma.
URL:https://tvorimevropu.showyourweb.cz/event/vnejsi-vztahy-eu-3/
CATEGORIES:Plzeň
ATTACH;FMTTYPE=image/jpeg:https://tvorimevropu.showyourweb.cz/wp-content/uploads/2025/03/ECPlzen_Vnejsi-vztahy-EU.jpg
END:VEVENT
END:VCALENDAR