BEGIN:VCALENDAR
VERSION:2.0
PRODID:-//Tvoříme Evropu - ECPv6.15.0.1//NONSGML v1.0//EN
CALSCALE:GREGORIAN
METHOD:PUBLISH
X-WR-CALNAME:Tvoříme Evropu
X-ORIGINAL-URL:https://tvorimevropu.showyourweb.cz
X-WR-CALDESC:Akce na Tvoříme Evropu
REFRESH-INTERVAL;VALUE=DURATION:PT1H
X-Robots-Tag:noindex
X-PUBLISHED-TTL:PT1H
BEGIN:VTIMEZONE
TZID:Europe/Prague
BEGIN:DAYLIGHT
TZOFFSETFROM:+0100
TZOFFSETTO:+0200
TZNAME:CEST
DTSTART:20240331T010000
END:DAYLIGHT
BEGIN:STANDARD
TZOFFSETFROM:+0200
TZOFFSETTO:+0100
TZNAME:CET
DTSTART:20241027T010000
END:STANDARD
END:VTIMEZONE
BEGIN:VEVENT
DTSTART;TZID=Europe/Prague:20241107T090000
DTEND;TZID=Europe/Prague:20241109T150000
DTSTAMP:20260420T053500
CREATED:20241106T081338Z
LAST-MODIFIED:20241106T081338Z
UID:170358-1730970000-1731164400@tvorimevropu.showyourweb.cz
SUMMARY:Veletrh Vzdělání a řemeslo
DESCRIPTION:Ve dnech 7.-9. listopadu 2024 se na Výstavišti v Českých Budějovicích uskuteční tradiční veletrh Vzdělání a řemeslo. \n \nJe to největší třídenní přehlídka středních škol a učilišť v jižních Čechách i s expozicemi vysokých škol a zaměstnavatelů. a vstup je jako v minulých letech ZDARMA. \nNa našem stánku se dozvíte informace o možnostech zahraničních výjezdů (studium\, práce\, výměny mládeže\, dobrovolnictví\, stáže v institucích EU apod.) a můžete se zapojit také do soutěží. Pedagogům představíme naši nabídku bezplatných přednášek a workshopů s evropskou tematikou. \nVíce informací o veletrhu naleznete zde.
URL:https://tvorimevropu.showyourweb.cz/event/veletrh-vzdelani-a-remeslo-2-3/
CATEGORIES:České Budějovice
END:VEVENT
END:VCALENDAR