BEGIN:VCALENDAR
VERSION:2.0
PRODID:-//Tvoříme Evropu - ECPv6.15.0.1//NONSGML v1.0//EN
CALSCALE:GREGORIAN
METHOD:PUBLISH
X-WR-CALNAME:Tvoříme Evropu
X-ORIGINAL-URL:https://tvorimevropu.showyourweb.cz
X-WR-CALDESC:Akce na Tvoříme Evropu
REFRESH-INTERVAL;VALUE=DURATION:PT1H
X-Robots-Tag:noindex
X-PUBLISHED-TTL:PT1H
BEGIN:VTIMEZONE
TZID:UTC
BEGIN:STANDARD
TZOFFSETFROM:+0000
TZOFFSETTO:+0000
TZNAME:UTC
DTSTART:20220101T000000
END:STANDARD
END:VTIMEZONE
BEGIN:VEVENT
DTSTART;VALUE=DATE:20240501
DTEND;VALUE=DATE:20240901
DTSTAMP:20260420T032844
CREATED:20240426T075131Z
LAST-MODIFIED:20240426T075131Z
UID:170138-1714521600-1725148799@tvorimevropu.showyourweb.cz
SUMMARY:Literární soutěž: Všechny vůně Evropy
DESCRIPTION:Slavíme 20 let členství České republiky v Evropské unii! Oslavte s námi výročí vstupu do EU literární soutěží na téma „Všechny vůně Evropy“\, která je určena pro psavce a literáty bez rozdílu věku a žánru. Soutěž probíhá ve spolupráci s Knihovnou Ústeckého kraje do 31. srpna 2024. \n \nPopusťte uzdu své fantazie a představte si vůně Evropy\, které ve Vás vzbuzují inspiraci. Může se jednat o vůni jídla\, moře\, hor\, domova\, květin nebo třeba i vůni svobody. Záleží jen na Vás\, jaký literární žánr zvolíte. Odborná porota vybere nejlepší texty\, které budou oceněny zajímavými výhrami a vyjdou v září 2024 ve společném sborníku. \nZájemci mohou posílat své texty v maximální délce čtyři normostrany na e-mail eurocentrum.ul@vlada.gov.cz do 31. 8. 2024. Žánr textů není limitován\, stejně tak ani věk autorů. Příspěvky nesmí být nikde dříve publikovány a musí být psány v českém jazyce. \nKompletní pravidla soutěže naleznete ZDE.
URL:https://tvorimevropu.showyourweb.cz/event/literarni-soutez-vsechny-vune-evropy-3/
CATEGORIES:20 let v EU,Ústí nad Labem
END:VEVENT
BEGIN:VEVENT
DTSTART;TZID=UTC:20220317T080000
DTEND;TZID=UTC:20220331T230000
DTSTAMP:20260420T032844
CREATED:20220317T141535Z
LAST-MODIFIED:20220317T141535Z
UID:169194-1647504000-1648767600@tvorimevropu.showyourweb.cz
SUMMARY:Kvíz - Mezinárodní den žen
DESCRIPTION:Minulý týden jsme si\, jako každý rok\, připomněli Mezinárodní den žen. \nDozvěděli jste se letos něco nového? Ověřte si své znalosti v našem kvízu a 3 z Vás mohou vyhrát zajímavou knihu. Kvíz probíhá na platformě Kahoot! a pořádá ji Eurocentrum Plzeň a Eurocentrum České Budějovice. \nPřejeme hodně štěstí! \nKvíz najdete zde: https://bit.ly/3tjm5i4 \nSoutěž se koná v termínu od 17.03. do 31.03.2022 včetně. \nSoutěžící pro přesnou identifikaci v případě výhry uvede u poslední otázky své jméno a e-mail. Soutěžící může kvíz vyplnit jen jednou. Slosování v případě více účastníků se stejným skóre\, oznámení výherců a zaslání cen proběhne koncem dubna 2022. Cena bude výherci zaslána poštou na jeho doručovací adresu\, kterou uvede pořadateli soutěže. Pokud výherce nezareaguje na informaci o výhře do 7 dnů ode dne zveřejnění výsledků\, tak ztrácí nárok na výhru. na výhru není právní nárok. Soutěžící souhlasí s tím\, že jsou pořadatelé oprávněni v případě jeho výhry zveřejnit jeho osobní údaje (jméno\, iniciály příjmení).
URL:https://tvorimevropu.showyourweb.cz/event/kviz-mezinarodni-den-zen-3/
CATEGORIES:České Budějovice,Plzeň
ATTACH;FMTTYPE=:
END:VEVENT
END:VCALENDAR