BEGIN:VCALENDAR
VERSION:2.0
PRODID:-//Tvoříme Evropu - ECPv6.15.0.1//NONSGML v1.0//EN
CALSCALE:GREGORIAN
METHOD:PUBLISH
X-WR-CALNAME:Tvoříme Evropu
X-ORIGINAL-URL:https://tvorimevropu.showyourweb.cz
X-WR-CALDESC:Akce na Tvoříme Evropu
REFRESH-INTERVAL;VALUE=DURATION:PT1H
X-Robots-Tag:noindex
X-PUBLISHED-TTL:PT1H
BEGIN:VTIMEZONE
TZID:Europe/Prague
BEGIN:DAYLIGHT
TZOFFSETFROM:+0100
TZOFFSETTO:+0200
TZNAME:CEST
DTSTART:20240331T010000
END:DAYLIGHT
BEGIN:STANDARD
TZOFFSETFROM:+0200
TZOFFSETTO:+0100
TZNAME:CET
DTSTART:20241027T010000
END:STANDARD
END:VTIMEZONE
BEGIN:VTIMEZONE
TZID:UTC
BEGIN:STANDARD
TZOFFSETFROM:+0000
TZOFFSETTO:+0000
TZNAME:UTC
DTSTART:20240101T000000
END:STANDARD
END:VTIMEZONE
BEGIN:VEVENT
DTSTART;TZID=Europe/Prague:20241210T100000
DTEND;TZID=Europe/Prague:20241210T120000
DTSTAMP:20260420T014732
CREATED:20241118T101245Z
LAST-MODIFIED:20241118T101245Z
UID:170366-1733824800-1733832000@tvorimevropu.showyourweb.cz
SUMMARY:Evropská unie po volbách
DESCRIPTION:Jak dopadly volby do Evropského parlamentu? Mění se tím směřování Evropské unie? a jak probíhá schvalování komise? Nejen na tyto otázky odpovíme přednášce\, která bude věnovat proměně institucí unie po letošních volbách parlamentu. \nAkce je určena primárně seniorům z Klubu Aktiv\, z. s. \nS ohledem na kapacitu sálu je nutná předchozí rezervace. v případě zájmu o akci kontaktujte Klub Aktiv\, z. s. (klubaktiv@gmail.com). \n \n 
URL:https://tvorimevropu.showyourweb.cz/event/evropska-unie-po-volbach-3/
CATEGORIES:České Budějovice
END:VEVENT
BEGIN:VEVENT
DTSTART;TZID=UTC:20240428T090000
DTEND;TZID=UTC:20240428T170000
DTSTAMP:20260420T014732
CREATED:20240311T130551Z
LAST-MODIFIED:20240311T130551Z
UID:170049-1714294800-1714323600@tvorimevropu.showyourweb.cz
SUMMARY:Turnaj v minifotbale
DESCRIPTION:Přijďte si zasportovat a dozvědět se řadu informací o volbách do Evropského parlamentu. Tato sportovně-vzdělávací akce se bude konat v neděli 28. dubna 2024 na fotbalovém hřišti v Horním Žďáře u Jindřichova Hradce. \n \n  \nTurnaj se uskuteční ve dvou věkových kategoriích: \n\nU9 (děti do 9 let)\, začátek 9:00;\ndospělí\, začátek ve 13:00.\n\nSvůj tým můžete přihlásit na e-mailu: info@icmjh.cz\, startovné je zdarma. \nSoučástí akce je i zábavný doprovodný program zaměřený na volby do Evropského parlamentu a program Erasmus+. Kromě zajímavých informací pro Vás bude připravena i řada zábavných kvízů a soutěží.
URL:https://tvorimevropu.showyourweb.cz/event/turnaj-v-minifotbale-3/
CATEGORIES:České Budějovice
END:VEVENT
END:VCALENDAR