BEGIN:VCALENDAR
VERSION:2.0
PRODID:-//Tvoříme Evropu - ECPv6.15.0.1//NONSGML v1.0//EN
CALSCALE:GREGORIAN
METHOD:PUBLISH
X-ORIGINAL-URL:https://tvorimevropu.showyourweb.cz
X-WR-CALDESC:Akce na Tvoříme Evropu
REFRESH-INTERVAL;VALUE=DURATION:PT1H
X-Robots-Tag:noindex
X-PUBLISHED-TTL:PT1H
BEGIN:VTIMEZONE
TZID:Europe/Prague
BEGIN:DAYLIGHT
TZOFFSETFROM:+0100
TZOFFSETTO:+0200
TZNAME:CEST
DTSTART:20250330T010000
END:DAYLIGHT
BEGIN:STANDARD
TZOFFSETFROM:+0200
TZOFFSETTO:+0100
TZNAME:CET
DTSTART:20251026T010000
END:STANDARD
END:VTIMEZONE
BEGIN:VTIMEZONE
TZID:UTC
BEGIN:STANDARD
TZOFFSETFROM:+0000
TZOFFSETTO:+0000
TZNAME:UTC
DTSTART:20220101T000000
END:STANDARD
END:VTIMEZONE
BEGIN:VEVENT
DTSTART;TZID=Europe/Prague:20250415T140000
DTEND;TZID=Europe/Prague:20250415T144500
DTSTAMP:20260419T235009
CREATED:20250331T120503Z
LAST-MODIFIED:20250331T120503Z
UID:170450-1744725600-1744728300@tvorimevropu.showyourweb.cz
SUMMARY:Přednáška Velikonoce v Evropě
DESCRIPTION:Zveme Vás na přednášku o velikonočních zvycích v zemích Evropské unie. \nVstup zdarma. Registrace na akci probíhá přes Klub Aktiv\, z.s.
URL:https://tvorimevropu.showyourweb.cz/event/prednaska-velikonoce-v-evrope-3/
CATEGORIES:České Budějovice
END:VEVENT
BEGIN:VEVENT
DTSTART;VALUE=DATE:20250402
DTEND;VALUE=DATE:20250417
DTSTAMP:20260419T235009
CREATED:20250221T104721Z
LAST-MODIFIED:20250221T104721Z
UID:170415-1743552000-1744847999@tvorimevropu.showyourweb.cz
SUMMARY:Velikonoce v EU (cyklus přednášek)
DESCRIPTION:Eurocentrum Pardubice pořádá cyklus přednášek VELIKONOCE v ZEMÍCH EU pro žáky základních škol a seniorkluby v Pardubickém kraji! \nPojďte s námi nahlédnout pod pokličku velikonočních pokrmů zemí Evropské unie a seznámit se s rozmanitostí oslav velikonočních svátků v členských státech EU\, jejich různými tradicemi a zvyky. \nOblíbené přednášky seznamují žáky základních škol a seniory v regionu s velikonočními zvyky a tradicemi napříč Evropou. \nVelikonoce patří v celé Evropě mezi nejvýznamnější svátky roku\, nicméně při velikonočních oslavách si každá členská země EU zachovává své tradice. Ne všude chodí chlapci koledovat s pomlázkou\, a ne všude se peče mazanec. Jak to tedy v jiných zemích o Velikonocích vypadá? Přijďte se vše dozvědět na naši přednášku! \nŽáci a senioři budou během přednášky aktivně zapojeni a na konci je čeká kvíz nebo samostatná práce\, případně hra Riskuj o Velikonocích v EU! \nRezervaci Vaší třídy či skupiny provádějte telefonicky na čísle (+420) 720 970 600 nebo e-mailem na lucie.boukalova@vlada.gov.cz. \nTěšíme se na vás!
URL:https://tvorimevropu.showyourweb.cz/event/velikonoce-v-eu-cyklus-prednasek-4-3/
CATEGORIES:Pardubice
END:VEVENT
BEGIN:VEVENT
DTSTART;TZID=UTC:20240315T110000
DTEND;TZID=UTC:20240315T123000
DTSTAMP:20260419T235009
CREATED:20240308T153053Z
LAST-MODIFIED:20240308T153053Z
UID:170037-1710500400-1710505800@tvorimevropu.showyourweb.cz
SUMMARY:Velikonoce v EU a ve světě
DESCRIPTION:Eurocentrum Pardubice zve všechny zájemce na odborný seminář pro studenty Univerzity Pardubice i širokou veřejnost. \n \nBeseda se uskuteční dne 15. března 2024 v době od 11:00 do 12:30 hodin v prostorách Dopravní fakulty Jana Pernera Univerzity Pardubice\, učebně B5. na konci příspěvku nebude chybět ani diskuse s účastníky. \nCílovou skupinou jsou primárně studenti Univerzity Pardubice a senioři. \nCílem akce je zvýšit povědomí o současných\, nejvíce diskutovaných evropských tématech\, kulturních rozmanitostech Evropy a činnosti sítě Eurocenter. \nPozvání na akci přijala koordinátorka Eurocentra Pardubice\, Mgr. Lucie Boukalová. \nAkce také tematicky odpovídá prioritám Národního konventu o EU. Národní konvent o Evropské unii je diskuzní platforma\, která představuje stálé místo pro debatu o evropských otázkách v ČR a koordinaci pozice ČR v EU. Činnost Národního konventu probíhá formou konferencí\, kulatých stolů a veřejných debat (seminářů) v Praze a v regionech České republiky. \n \n 
URL:https://tvorimevropu.showyourweb.cz/event/velikonoce-v-eu-a-ve-svete-3/
CATEGORIES:Pardubice
END:VEVENT
BEGIN:VEVENT
DTSTART;TZID=UTC:20220412T180000
DTEND;TZID=UTC:20220412T190000
DTSTAMP:20260419T235009
CREATED:20220404T111456Z
LAST-MODIFIED:20220404T111456Z
UID:169212-1649786400-1649790000@tvorimevropu.showyourweb.cz
SUMMARY:Velikonoce v Evropské unii – zvyky\, tradice a zajímavosti
DESCRIPTION:Zveme Vás společně s Městskou knihovnou Varnsdorf na přednášku o Velikonocích v EU. \nVelikonoce jsou nejen křesťanským svátkem\, ale také oslavou vítání jara. Jak se slaví velikonoční svátky v evropských zemích? Které tradice a zvyky se liší napříč Evropou? Přijďte si poslechnout přednášku a dozvíte se více o velikonočních oslavách v EU. Vstup je zdarma. \nKdy? – 12. dubna 2022 v 18. hodin \nKde? – Městská knihovna Varnsdorf\, Otáhalova 1260\, 407 47 Varnsdorf 
URL:https://tvorimevropu.showyourweb.cz/event/velikonoce-v-evropske-unii-zvyky-tradice-a-zajimavosti-3/
CATEGORIES:Ústí nad Labem
ATTACH;FMTTYPE=:
END:VEVENT
BEGIN:VEVENT
DTSTART;VALUE=DATE:20220411
DTEND;VALUE=DATE:20220420
DTSTAMP:20260419T235009
CREATED:20220411T113014Z
LAST-MODIFIED:20220411T113014Z
UID:169214-1649635200-1650412799@tvorimevropu.showyourweb.cz
SUMMARY:Kvíz - Velikonoční zvyky a tradice
DESCRIPTION:VÝHERCI kvízu jsou: pan Jiří M.\, paní Eliška V. a pan Jakub M. Gratulujeme! \nJak dobře znáte české velikonoční zvyky a tradice? a co teprve oslavy Velikonoc ve státech EU? Zkuste velikonoční Kahoot kvíz a vyhrajte skvělé ceny. \n Stačí kliknout a hrát: https://kahoot.it/challenge/0811015?challenge-id=46da6917-77d2-4e2c-bfe2-151f88caa211_1649758194078 \nZe soutěžících\, kteří překonají hranici 6000 bodů\, vylosujeme tři výherce. \nSoutěžit můžete do 19. 4. 2022.
URL:https://tvorimevropu.showyourweb.cz/event/kviz-velikonocni-zvyky-a-tradice-3/
CATEGORIES:Ústí nad Labem
ATTACH;FMTTYPE=:
END:VEVENT
END:VCALENDAR