BEGIN:VCALENDAR
VERSION:2.0
PRODID:-//Tvoříme Evropu - ECPv6.15.0.1//NONSGML v1.0//EN
CALSCALE:GREGORIAN
METHOD:PUBLISH
X-WR-CALNAME:Tvoříme Evropu
X-ORIGINAL-URL:https://tvorimevropu.showyourweb.cz
X-WR-CALDESC:Akce na Tvoříme Evropu
REFRESH-INTERVAL;VALUE=DURATION:PT1H
X-Robots-Tag:noindex
X-PUBLISHED-TTL:PT1H
BEGIN:VTIMEZONE
TZID:UTC
BEGIN:STANDARD
TZOFFSETFROM:+0000
TZOFFSETTO:+0000
TZNAME:UTC
DTSTART:20220101T000000
END:STANDARD
END:VTIMEZONE
BEGIN:VEVENT
DTSTART;TZID=UTC:20240927T170000
DTEND;TZID=UTC:20240927T210000
DTSTAMP:20260419T234606
CREATED:20240912T120707Z
LAST-MODIFIED:20240912T120707Z
UID:170265-1727456400-1727470800@tvorimevropu.showyourweb.cz
SUMMARY:Noc vědců 2024
DESCRIPTION:Zveme Vás na oblíbenou Noc vědců! Přijďte 27. září 2024 na Univerzitu Jana Evangelisty Purkyně v Ústí nad Labem a přesvědčte se\, že věda není žádná nuda\, naopak dokáže být velmi zábavná. Proměňte svou představu o vědě a zažijte noc plnou zábavy\, pokusů\, stánků a dalších vědeckých zajímavostí.  \nSvět kolem nás se neustále mění a proto je letošním tématem Noci vědců PROMĚNA. Čekají Vás například proměny vědy\, metamorfóza hmyzu\, chemická show o reakcích\, které mění svět\, proměna a aktivita Slunce a další zajímavý program. \nSoučástí programu je také stánek Eurocentra Ústí nad Labem\, kde si vyzkoušíte mnoho zajímavých aktivit s tematikou Evropy a jejích proměn. Zároveň budete moct na našem stánku také soutěžit o zajímavou cenu. \nTěšíme se na Vás 27. září 2024 od 17 do 21 hodin v prostorách Centra přírodovědných a technických oborů (Kampus UJEP\, Pasteurova 15\, 400 96 Ústí nad Labem). \nKompletní program Noci vědců 2024.  
URL:https://tvorimevropu.showyourweb.cz/event/noc-vedcu-2024-3-3/
CATEGORIES:Ústí nad Labem
END:VEVENT
BEGIN:VEVENT
DTSTART;TZID=UTC:20240927T150000
DTEND;TZID=UTC:20240927T180000
DTSTAMP:20260419T234606
CREATED:20240911T085751Z
LAST-MODIFIED:20240911T085751Z
UID:170260-1727449200-1727460000@tvorimevropu.showyourweb.cz
SUMMARY:Noc vědců v Hradci Králové
DESCRIPTION:Pátek 27. září je věnován Noci vědců a letošním tématem je PROMĚNA! v Knihovně města Hradce Králové bude připraven zábavný odpolední program\, nejen pro rodiny s dětmi! \n„Když se Řehoř Samsa jednou ráno probudil z nepokojných snů\, shledal\, že se v posteli proměnil v jakýsi odporný hmyz.“ Proměna je letošním tématem Noci Vědců a stejně jako se proměnil Řehoř se mění i moderní technologie. Jak se proměnil svět od dob Franze Kafky? Jak si poradíte s roboty a s virtuální realitou? To vše můžete zjistit na zábavném odpoledni nejen pro rodiny s dětmi. \n  \n \nDo Noci vědců se zapojují i další instituce v Hradci Králové. Kompletní program naleznete na oficiálních stránkách Noci vědců.
URL:https://tvorimevropu.showyourweb.cz/event/noc-vedcu-v-hradci-kralove-3/
CATEGORIES:Hradec Králové
END:VEVENT
BEGIN:VEVENT
DTSTART;TZID=UTC:20231006T170000
DTEND;TZID=UTC:20231006T210000
DTSTAMP:20260419T234606
CREATED:20230830T071028Z
LAST-MODIFIED:20230830T071028Z
UID:169829-1696611600-1696626000@tvorimevropu.showyourweb.cz
SUMMARY:Noc vědců 2023
DESCRIPTION:Noc vědců je po roce opět tady! Přijďte se přesvědčit 6. října 2023\, že věda není žádná nuda\, naopak dokáže být velmi zábavná. v prostorách Univerzity Jana Evangelisty Purkyně v Ústí nad Labem se můžete těšit na tajuplnou noc plnou vědy\, zábavy\, pokusů\, stánků a dalších zajímavostí.  \nCelý program se bude odehrávat pod závojem tajemna. Letošním tématem Noci vědců je totiž TAJEMSTVÍ. Čekají Vás tajuplné stezky\, mysteriózní experimenty\, tajemné materiály\, roboti\, tajemství čokolády\, fotokoutek a mnoho dalšího k objevování. \nSoučástí programu je také stánek Eurocentra Ústí nad Labem\, kde si vyzkoušíte mnoho zajímavých aktivit s tematikou Evropy a EU. Jaké konkrétně? To je TAJEMSTVÍ\, které rozluštíte\, když přijdete. \nTěšíme se na Vás 6. 10. 2023 od 17  do 21 hodin v prostorách Centra přírodovědných a technických oborů (Kampus UJEP\, Pasteurova 15\, 400 96 Ústí nad Labem). \nProgram naleznete ZDE.
URL:https://tvorimevropu.showyourweb.cz/event/noc-vedcu-2023-3/
CATEGORIES:Ústí nad Labem
END:VEVENT
BEGIN:VEVENT
DTSTART;TZID=UTC:20220930T170000
DTEND;TZID=UTC:20220930T210000
DTSTAMP:20260419T234606
CREATED:20220922T095116Z
LAST-MODIFIED:20220922T095116Z
UID:169417-1664557200-1664571600@tvorimevropu.showyourweb.cz
SUMMARY:Noc vědců 2022
DESCRIPTION:V pátek 30. 9. proběhne tradiční akce Noc vědců 2022. V prostorách Univerzity Jana Evangelisty Purkyně se můžete těšit na zajímavé stánky včetně stánku Eurocentra Ústí nad Labem.  \nPřijďte si vyzkoušet zábavné aktivity\, kvízy\, hlavolamy a soutěže\, vše zaměřené na téma letošního ročníku Noci vědců – všemi smysly. \nSoučástí programu jsou také prohlídky\, experimenty\, debaty\, přednášky nebo třeba fotokoutek. Zažijte vědu všemi smysly! \nPřijďte 30. 9. od 17 do 21 hodin do nové budovy Centra přírodovědných a technických oborů (Kampus UJEP\, Pasteurova 15\, 400 96 Ústí nad Labem).  \nVíce informací včetně programu naleznete ZDE.
URL:https://tvorimevropu.showyourweb.cz/event/noc-vedcu-2022-3/
CATEGORIES:Ústí nad Labem
ATTACH;FMTTYPE=:
END:VEVENT
BEGIN:VEVENT
DTSTART;VALUE=DATE:20220623
DTEND;VALUE=DATE:20220625
DTSTAMP:20260419T234606
CREATED:20220630T104936Z
LAST-MODIFIED:20220630T104936Z
UID:169337-1655942400-1656115199@tvorimevropu.showyourweb.cz
SUMMARY:Hrajme si i hlavou
DESCRIPTION:Již 13. ročník akce Hrajme si i hlavou přináší pro všechny příznivce nejen přírodovědných disciplín mnoho zajímavostí přímo na ulici! Pořádá ji Katedra fyziky Univerzity Hradec Králové ve spolupráci s Hvězdárnou a planetáriem v Hradci Králové a je určena pro žáky a studenty základních a středních škol\, pro jejich rodiče a pro všechny\, kteří si rádi hrají\, přemýšlejí a bádají nad záhadami světa kolem nás. Letošním tématem je na VLNÁCH! \nNa akci vždy bylo a bude připraveno mnoho stánků naplněných tradičními\, ale i netradičními pokusy\, které se snažily zaujmout a přesvědčit i náhodně kolemjdoucí návštěvníky akce o tom\, že fyzika\, chemie\, matematika a další „nepopulární“ vědy nejsou zase tak hrozivé a nepochopitelné a že určitě stojí za naši pozornost. Všechny pokusy budou k dispozici návštěvníkům k vyzkoušení\, pro zájemce budou připraveny i návody pro domácí bádání\, matematické i fyzikální hračky a skládačky\, které byly také často odnášeny pro domácí zábavu. \nNa letošním ročníku se můžete těšit i na prezentaci hradeckých středních škol — představí se Biskupské gymnázium\, První soukromé jazykové gymnázium\, VOŠZ a SZŠ Hradec Králové či SOŠ a SOU Vocelova. \nNa akci nebude chybět ani stánek Eurocentra Pardubice a Hradec Králové i Domu zahraniční spolupráce se soutěžemi spojenými s evropskou vědou a cestováním. na ty nejšikovnější čekají lákavé odměny! \nKdy: 23. – 24. 6. 2022 \nKde: kampus Univerzity Hradec Králové\, Hradecká 1227/4\, 500 11 Hradec Králové \n \n 
URL:https://tvorimevropu.showyourweb.cz/event/hrajme-si-i-hlavou-3/
CATEGORIES:Pardubice
ATTACH;FMTTYPE=image/jpeg:https://tvorimevropu.showyourweb.cz/wp-content/uploads/2022/01/31894-blasko-2.jpg
END:VEVENT
BEGIN:VEVENT
DTSTART;TZID=UTC:20220518T180000
DTEND;TZID=UTC:20220518T193000
DTSTAMP:20260419T234606
CREATED:20220516T165959Z
LAST-MODIFIED:20220516T165959Z
UID:169283-1652896800-1652902200@tvorimevropu.showyourweb.cz
SUMMARY:Věda\, výzkum\, inovace: budoucnost v EU
DESCRIPTION:Věda\, výzkum a inovace jsou klíčovými tématy pro Jihomoravský kraj. Zásadními jsou v tomto směru vysoké školy a výzkumná centra\, jejichž velký podíl sídlí právě v oblasti jižní Moravy\, což vytváří skvělé podmínky pro inovace a podnikání a přispívá k dynamickému růstu počtu firem\, jež svůj vlastní výzkum a vývoj realizují. Tato skutečnost řadí Jihomoravský kraj do popředí z hlediska vývoje počtu firem realizující vlastní výzkum a vývoj v rámci celé České republiky.\n.\nv posledních letech se tato oblast dostává do popředí i v agendách Evropské unie\, což mj. značí například navýšení podílů financí do oblasti výzkumu\, vývoje a inovací ve velkém finančním rámci na období 2021-2027.\n.\nDokáže se Česká republika vymanit z negativní konotace „montovny Evropy“ a proměnit tak svůj potenciál a převzít pozici leadera v této oblasti? Jaké jsou výzvy v této oblasti\, kterým čelí výzkumníci Jihomoravského kraje/ČR? Je česká vědecko-výzkumná scéna připravena na absenci financování ze strukturálních fondů? Jaká je v tomto ohledu naše pozice ve srovnání s ostatními členy EU? Jaké budou priority v této oblasti během předsednictví České republiky v radě EU? Právě o tom a o dalších otázkách spojených s výzkumem\, vývojem a inovacemi budou naši hosté diskutovat. Pozvání přijali: \n\nNikola Kostlánová (vědecká tajmenice\, CEITEC MUNI)\nPavlína Pancová Šimková (Lesnická a dřevařská fakulta\, MENDELU)\nPatrik Reichl (ředitel Regionální rozvojové agentury jižní Moravy)\n\nDebatu moderuje Kateřina Zichová (Euractiv.cz) \n.\nDebatu bude možné sledovat na našich facebookových stránkách. Své dotazy můžete pokládat do komentářů k živému vysílání nebo využít již nyní aplikace Slido.com s hashtagem #CZPRESBrno2 \n.
URL:https://tvorimevropu.showyourweb.cz/event/veda-vyzkum-inovace-budoucnost-v-eu-3/
LOCATION:34426-120-f202102220490901
CATEGORIES:Brno
ATTACH;FMTTYPE=:
END:VEVENT
END:VCALENDAR