BEGIN:VCALENDAR
VERSION:2.0
PRODID:-//Tvoříme Evropu - ECPv6.15.0.1//NONSGML v1.0//EN
CALSCALE:GREGORIAN
METHOD:PUBLISH
X-ORIGINAL-URL:https://tvorimevropu.showyourweb.cz
X-WR-CALDESC:Akce na Tvoříme Evropu
REFRESH-INTERVAL;VALUE=DURATION:PT1H
X-Robots-Tag:noindex
X-PUBLISHED-TTL:PT1H
BEGIN:VTIMEZONE
TZID:Europe/Prague
BEGIN:DAYLIGHT
TZOFFSETFROM:+0100
TZOFFSETTO:+0200
TZNAME:CEST
DTSTART:20240331T010000
END:DAYLIGHT
BEGIN:STANDARD
TZOFFSETFROM:+0200
TZOFFSETTO:+0100
TZNAME:CET
DTSTART:20241027T010000
END:STANDARD
END:VTIMEZONE
BEGIN:VEVENT
DTSTART;VALUE=DATE:20241216
DTEND;VALUE=DATE:20241218
DTSTAMP:20260419T233751
CREATED:20241210T140206Z
LAST-MODIFIED:20241210T140206Z
UID:170380-1734307200-1734479999@tvorimevropu.showyourweb.cz
SUMMARY:Vánoce v EU
DESCRIPTION:Víte\, jak se slaví Vánoce ve Francii? Kdo roznáší dárky v Itálii? Odkud se vzalo zdobení stromečku? a staré české zvyky a svátky adventního času jsou Vám známé? \nEurocentrum EUROPE DIRECT Liberec a V-klub Liberec Vás zvou na přednášku s workshopem pro žáky základních škol z Libereckého kraje. \nKDY: 16. 12. a 17. 12. od 8:30 do 10:00 a od 10:15 do 11:45 \nKDE: v prostorách V-Klubu Liberec (ulice 5. května 36\, Liberec) \nVstup zdarma.  \n  \nPro koho: pro žáky ZŠ \nPočet žáků: max. 30 žáků \nDélka trvání: 1\,5 hod. (50 min. přednáška a 40 min workshop) \n  \nProgram pro svou třídu si můžete u nás předem rezervovat \nna emailu liberec@europe-direct.cz  nebo na tel. 720 970 598.  \npozvánka_Vánoce v EU_2024 \n 
URL:https://tvorimevropu.showyourweb.cz/event/vanoce-v-eu-6-3/
CATEGORIES:Liberec
END:VEVENT
END:VCALENDAR