BEGIN:VCALENDAR
VERSION:2.0
PRODID:-//Tvoříme Evropu - ECPv6.15.0.1//NONSGML v1.0//EN
CALSCALE:GREGORIAN
METHOD:PUBLISH
X-ORIGINAL-URL:https://tvorimevropu.showyourweb.cz
X-WR-CALDESC:Akce na Tvoříme Evropu
REFRESH-INTERVAL;VALUE=DURATION:PT1H
X-Robots-Tag:noindex
X-PUBLISHED-TTL:PT1H
BEGIN:VTIMEZONE
TZID:Europe/Prague
BEGIN:DAYLIGHT
TZOFFSETFROM:+0100
TZOFFSETTO:+0200
TZNAME:CEST
DTSTART:20240331T010000
END:DAYLIGHT
BEGIN:STANDARD
TZOFFSETFROM:+0200
TZOFFSETTO:+0100
TZNAME:CET
DTSTART:20241027T010000
END:STANDARD
END:VTIMEZONE
BEGIN:VTIMEZONE
TZID:UTC
BEGIN:STANDARD
TZOFFSETFROM:+0000
TZOFFSETTO:+0000
TZNAME:UTC
DTSTART:20220101T000000
END:STANDARD
END:VTIMEZONE
BEGIN:VEVENT
DTSTART;VALUE=DATE:20241204
DTEND;VALUE=DATE:20241212
DTSTAMP:20260420T033139
CREATED:20241126T103525Z
LAST-MODIFIED:20241126T103525Z
UID:170376-1733270400-1733961599@tvorimevropu.showyourweb.cz
SUMMARY:Vánoce v Evropě
DESCRIPTION:Eurocentrum Hradec Králové a Informační středisko Europe Direct Hradec Králové pořádají projektový den na téma: Vánoce v Evropě! \nKdo nosí dárky v Itálii? Jak se slaví Vánoce v severských zemích a jaké sladkosti pečou na Vánoce v Portugalsku? To vše se dozví děti základních škol z Královéhradecka v Knihovně města Hradce Králové ve dnech 4. 12. a 11. 12. 2024. \nAkce je určena pro objednané školní kolektivy. \nDěkujeme za velký zájem\, kapacita akce naplněna! \n \nPokud máte zájem o přednášku na téma Vánoc v Evropě přímo u Vás na škole\, kontaktujte nás na emailu: renata.cernilovska@vlada.gov.cz a pokusíme se Vám najít vhodný termín.
URL:https://tvorimevropu.showyourweb.cz/event/vanoce-v-evrope-2-3/
CATEGORIES:Hradec Králové
END:VEVENT
BEGIN:VEVENT
DTSTART;TZID=Europe/Prague:20241127T130000
DTEND;TZID=Europe/Prague:20241127T150000
DTSTAMP:20260420T033139
CREATED:20241118T100321Z
LAST-MODIFIED:20241118T100321Z
UID:170365-1732712400-1732719600@tvorimevropu.showyourweb.cz
SUMMARY:Vánoční zvyky v zemích EU
DESCRIPTION:Víte\, jaké vánoční tradice se dodržují u našich evropských sousedů? Kde nosí dárky Befana\, kde vítají vánočního posla a kde si lidé posílají oplatku v dopisech? Přijďte se vánočně naladit\, zjistit více o evropských tradicích a načerpat inspiraci nejen pro vánoční pečení! \nAkce je určena primárně seniorům z Klubu Aktiv\, z. s. \nS ohledem na kapacitu sálu je nutná předchozí rezervace. v případě zájmu o akci kontaktujte Klub Aktiv\, z. s. (klubaktiv@gmail.com). \n \n 
URL:https://tvorimevropu.showyourweb.cz/event/vanocni-zvyky-v-zemich-eu-3/
CATEGORIES:České Budějovice
END:VEVENT
BEGIN:VEVENT
DTSTART;VALUE=DATE:20241125
DTEND;VALUE=DATE:20241221
DTSTAMP:20260420T033139
CREATED:20241119T071131Z
LAST-MODIFIED:20241119T071131Z
UID:170369-1732492800-1734739199@tvorimevropu.showyourweb.cz
SUMMARY:Vánoce v EU (cyklus přednášek pro ZŠ)
DESCRIPTION:Eurocentrum Pardubice pořádá cyklus přednášek VÁNOCE v ZEMÍCH EU pro žáky základních škol v Pardubickém kraji! \nOblíbená přednáška seznamuje žáky s původem Vánoc a rozmanitostmi vánočních oslav\, tradic\, pokrmů a kuriozit napříč Evropou. \nVánoce patří v celé Evropě mezi nejvýznamnější svátky roku\, nicméně při vánočních oslavách si každá členská země EU zachovává své tradice. Ne všude naděluje dárky Ježíšek a ne všude mají na štědrovečerním stole smaženého kapra a bramborový salát. a jak to tedy v jiných zemích o Vánocích vypadá? Přijďte se s žáky dozvědět na naši přednášku! \nPojďte s námi nahlédnout do vánočních kuchyní zemí Evropské unie a seznámit se s rozmanitostí oslav vánočních svátků v členských zemích EU\, jejich různými tradicemi a zvyky! \nŽáci budou během přednášky aktivně zapojeni a na konci je čeká kvíz či samostatná práce ve skupinách\, případně hra Riskuj o Vánocích v EU! \nRezervaci Vaší třídy provádějte telefonicky nebo e-mailem. Děkujeme.
URL:https://tvorimevropu.showyourweb.cz/event/vanoce-v-eu-cyklus-prednasek-pro-zs-3/
CATEGORIES:Pardubice
END:VEVENT
BEGIN:VEVENT
DTSTART;VALUE=DATE:20241111
DTEND;VALUE=DATE:20241219
DTSTAMP:20260420T033139
CREATED:20241111T081220Z
LAST-MODIFIED:20241111T081220Z
UID:170359-1731283200-1734566399@tvorimevropu.showyourweb.cz
SUMMARY:Výtvarná soutěž Vánoční ozdoba z Evropy
DESCRIPTION:Eva a Honzík se už nemohou dočkat Vánoc. Mají kamarády v řadě zemí Evropské unie – a tak se rozhodli\, že si letos vyzdobí stromeček netradičně. Pomozte jim a pošlete nám obrázek vánoční ozdoby\, kde znázorníte některý z vánočních zvyků v zemích Evropské unie (kromě České republiky). \nAutoři nejkrásnějších ozdob vyhrají zajímavé ceny! \nPodmínky soutěže (podrobně viz dokument níže): \n\nkaždý soutěžící může zaslat jeden obrázek (velikost max. A3);\nnezapomeňte uvést: jméno autora\, věk/třídu\, kontakt na školu a na pedagoga (e-mailovou adresu / telefon pro kontaktování při případné výhře);\n\nSoutěž probíhá ve 2 kategoriích: \n\n1.–5. třída ZŠ;\n6.–9. třída ZŠ a odpovídajících ročníků víceletých gymnázií.\n\nSvá výtvarná díla zašlete do 18. 12. 2024 na adresu: poštovní schránka Eurocentra České Budějovice\, Krajský úřad Jihočeského kraje (budova B)\, B. Němcové 49/3\, 370 01 České Budějovice. na obálku připište kontaktní telefon Eurocentra: +420 720 970 597. \nSoutěž vyhlašují informační kanceláře Eurocentrum České Budějovice a EUROPE DIRECT České Budějovice. Upozorňujeme\, že soutěžní díla se po skončení soutěže nevrací a vyhlašovatelé soutěže si vyhrazují právo použít je pro své účely. \nPodrobné podmínky naleznete zde: Pravidla a podmínky soutěže Vánoční ozdoba z Evropy \n \n 
URL:https://tvorimevropu.showyourweb.cz/event/vytvarna-soutez-vanocni-ozdoba-z-evropy-3/
CATEGORIES:České Budějovice
END:VEVENT
BEGIN:VEVENT
DTSTART;TZID=UTC:20231209T100000
DTEND;TZID=UTC:20231209T180000
DTSTAMP:20260420T033139
CREATED:20231121T144117Z
LAST-MODIFIED:20231121T144117Z
UID:169944-1702116000-1702144800@tvorimevropu.showyourweb.cz
SUMMARY:Andělské Vánoce
DESCRIPTION:Advent se nezadržitelně blíží a my jsme pro vás přichystali poslední akci tohoto roku spolu s tradičním partnerem Krajskou knihovnou Karlovy Vary na tradiční téma andělského tvoření a povíme vám také něco o vánočních tradicích v Evropě. \nCelou sobotu 9. prosince budou v krajské knihovně probíhat vánoční trhy s kulturním programem. Vybere si určitě každý\, nikdo neodejde s prázdnou a program bude následující: \n\n\n\n10:30     Vánoční zvyky v Evropě – povídání a soutěže o vánočních tradicích v Evropě – přednáška Eurocentra Karlovy Vary\n11 – 12   Vystoupení pěveckého sboru ZUŠ Antonína Dvořáka „Zpíváme s radostí“ pod vedením Heleny Tašnerové\n12 – 16   Tvořivá dílna – vánoční dekorace\, hvězdy\, andělé a jiné tvoření s Romankou\n14 – 15   Vánoční a jiné písně s flašinetem – Eva Haufová\n15:30     Vánoční zvyky v Evropě – povídání a soutěže o vánočních tradicích v Evropě – přednáška Eurocentra Karlovy Vary \n16 – 17  Vánoční a jiné písně s kytarou – hrají členové kytarového klubu Krajské knihovny KV „Hrajeme na kytaru s Renatou“\n\n\n\nV průběhu celé akce:\n–  občerstvení a kavárenské posezení u vánočního čaje\, kávy nebo svařáku a něco sladkého na zoubek\n–  vánoční dárky pro návštěvníky pod vánočním stromkem\, každý si může něco odnést\n–  seznámení s flašinetem od 11 do 16\n–  vánoční foto koutek – udělejte si krásnou památku na Vánoce\, pošlete originální přání známým\n–  výstava andělů a betlémů v hale knihovny. \n \n 
URL:https://tvorimevropu.showyourweb.cz/event/andelske-vanoce-3/
CATEGORIES:Karlovy Vary
ATTACH;FMTTYPE=image/jpeg:https://tvorimevropu.showyourweb.cz/wp-content/uploads/2022/01/18419-120-aktualne.jpg
END:VEVENT
BEGIN:VEVENT
DTSTART;TZID=UTC:20231206T170000
DTEND;TZID=UTC:20231206T180000
DTSTAMP:20260420T033139
CREATED:20231201T120108Z
LAST-MODIFIED:20231201T120108Z
UID:169937-1701882000-1701885600@tvorimevropu.showyourweb.cz
SUMMARY:Přednáška: Vánoce v Evropě
DESCRIPTION:Víte\, jak se slaví Vánoce v evropských zemích? Kdo naděluje dárky v Itálii nebo kde si pochutnáte na vánočním polenu? Přijďte si poslechnout přednášku „Vánoce v Evropě“ a dozvíte se mnoho zajímavých informací o oslavách Vánoc v evropských zemích. \nKdy? 6. prosince 2023 od 17. hodin \nKde? Knihovna Ústeckého kraje\, přednáškový sál\, ulice Winstona Churchilla 3\, Ústí nad Labem \nTěšíme se na Vás! Vstup je zdarma. \n 
URL:https://tvorimevropu.showyourweb.cz/event/prednaska-vanoce-v-evrope-3/
CATEGORIES:Ústí nad Labem
ATTACH;FMTTYPE=:
END:VEVENT
BEGIN:VEVENT
DTSTART;VALUE=DATE:20231201
DTEND;VALUE=DATE:20231223
DTSTAMP:20260420T033139
CREATED:20231102T121631Z
LAST-MODIFIED:20231102T121631Z
UID:169930-1701388800-1703289599@tvorimevropu.showyourweb.cz
SUMMARY:Vánoce v EU (cyklus přednášek)
DESCRIPTION:Eurocentrum Pardubice pořádá cyklus přednášek VÁNOCE v ZEMÍCH EU pro žáky základních škol v Pardubickém kraji! \nOblíbená přednáška seznamuje žáky s původem Vánoc a rozmanitostmi vánočních oslav\, tradic\, pokrmů a kuriozit napříč Evropou. \nVánoce patří v celé Evropě mezi nejvýznamnější svátky roku\, nicméně při vánočních oslavách si každá členská země EU zachovává své tradice. Ne všude naděluje dárky Ježíšek a ne všude mají na štědrovečerním stole smaženého kapra a bramborový salát. a jak to tedy v jiných zemích o Vánocích vypadá? Přijďte se s žáky dozvědět na naši přednášku! \nPojďte s námi nahlédnout do vánočních kuchyní zemí Evropské unie a seznámit se s rozmanitostí oslav vánočních svátků v členských zemích EU\, jejich různými tradicemi a zvyky. \nŽáci budou během přednášky aktivně zapojeni a na konci je čeká kvíz či samostatná práce ve skupinách\, případně hra Riskuj o Vánocích v EU! \nRezervaci Vaší třídy provádějte telefonicky na čísle 720 970 600\, nebo e-mailem na boukalova.lucie@vlada.cz.  \nTěšíme se na setkání a spolupráci!
URL:https://tvorimevropu.showyourweb.cz/event/vanoce-v-eu-cyklus-prednasek-2-3/
CATEGORIES:Pardubice
ATTACH;FMTTYPE=:
END:VEVENT
BEGIN:VEVENT
DTSTART;VALUE=DATE:20231123
DTEND;VALUE=DATE:20231220
DTSTAMP:20260420T033139
CREATED:20231123T081507Z
LAST-MODIFIED:20231123T081507Z
UID:169946-1700697600-1703030399@tvorimevropu.showyourweb.cz
SUMMARY:Výtvarná soutěž Kapr ve vánoční Evropě
DESCRIPTION:„Karel\, rybí dobrodruh z malé české vesnice\, se rozhodl\, že letos Vánoce prožije mimo svůj rybník. Oblečen do vánočního klobouku a s radostným plácnutím ploutví vyrazil na cestu do Evropy.“ \nZapojte se do vánoční výtvarné soutěže a namalujte kapra Karla\, jak objevuje vánoční zvyky v zemích Evropské unie (kromě České republiky). Vyhrát můžete zajímavé ceny\, jako například deskové hry a puzzle! \nOrganizátory soutěže jsou Eurocentrum České Budějovice\, Eurocentrum Plzeň a EUROPE DIRECT České Budějovice. \nSoutěž probíhá ve dvou kategoriích: \n\n1.–5. třída ZŠ;\n6.–9. třída ZŠ a odpovídajících ročníků víceletých gymnázií.\n\nPodmínky soutěže: \n\nkaždý soutěžící může zaslat jedno výtvarné dílo;\nvýtvarné dílo musí být odesláno do 19. 12. 2023;\nnezapomeňte uvést: jméno autora\, třídu\, kontakt na školu a na pedagoga (e-mailovou adresu pro kontaktování při případné výhře).\n\nSvá díla zašlete na adresu Eurocentra České Budějovice: Krajský úřad Jihočeského kraje (poštovní schránka Eurocentra v budově B)\, B. Němcové 49/3\, 370 01 České Budějovice. \nUpozorňujeme\, že soutěžní díla se po skončení soutěže nevrací a vyhlašovatelé soutěže si vyhrazují právo použít je pro své účely. \n \nKapr ve vánoční Evropě
URL:https://tvorimevropu.showyourweb.cz/event/vytvarna-soutez-kapr-ve-vanocni-evrope-3/
CATEGORIES:České Budějovice,Plzeň
ATTACH;FMTTYPE=:
END:VEVENT
BEGIN:VEVENT
DTSTART;VALUE=DATE:20231115
DTEND;VALUE=DATE:20231223
DTSTAMP:20260420T033139
CREATED:20231116T155100Z
LAST-MODIFIED:20231116T155100Z
UID:169942-1700006400-1703289599@tvorimevropu.showyourweb.cz
SUMMARY:Nejkrásnější vánoční trhy v Evropě (výtvarná soutěž)
DESCRIPTION:Eurocentrum Pardubice a Eurocentrum Hradec Králové vyhlašují vánoční výtvarnou soutěž pro žáky ZŠ\, ZUŠ\, speciálních ZŠ\, víceletých gymnázií a DDM v Pardubickém a Královéhradeckém kraji. \nFinský Joulupukki se chystá na vánoční trhy do Evropy. Pomozte mu zjistit\, kde se mu líbilo nejvíce! Nakreslete vaše oblíbené vánoční trhy v EU libovolnou technikou a vyhrajte hodnotné ceny! \nŽáci v Pardubickém a Královéhradeckém kraji mohou soutěžit ve dvou kategoriích: \n– kategorie A: žáci 1. – 5. tříd základních škol a DDM (mladší žáci) \n– kategorie B: žáci 6. – 9. tříd základních škol\, odpovídajících ročníků víceletých gymnázií a DDM (starší žáci) \nCílem soutěže je nakreslit či vytvořit oblíbené vánoční trhy v jakékoliv zemi EU libovolnou technikou. Soutěž má upozornit na vánoční tradice či zvyky v zemích EU a rozmanitost těchto zemí. \nV každé kategorii budou odměněna tři nejzdařilejší díla. Výherci získají tematické deskové hry a bezplatnou prohlídku Strakovy akademie v Praze! \nTermín soutěže: 15. 11. 2023 – 22. 12. 2023. Vyhodnocení soutěže a zaslání cen proběhne v týdnu od 1. 1. 2024. \nSvé práce můžete posílat poštou či osobně donést na adresu Eurocenter. Adresu naleznete v sekci Kontakty. \nNEZAPOMEŇTE uvést jméno\, kategorii\, e-mailovou adresu a název školy\, abychom vás mohli v případě výhry kontaktovat. Děkujeme! \nOrganizátorem soutěže je Eurocentrum Pardubice a Eurocentrum Hradec Králové. \nPlakát ke stažení ZDE. \n \n 
URL:https://tvorimevropu.showyourweb.cz/event/nejkrasnejsi-vanocni-trhy-v-evrope-vytvarna-soutez-2-3/
CATEGORIES:Hradec Králové
ATTACH;FMTTYPE=:
END:VEVENT
BEGIN:VEVENT
DTSTART;VALUE=DATE:20221202
DTEND;VALUE=DATE:20221203
DTSTAMP:20260420T033139
CREATED:20221125T145125Z
LAST-MODIFIED:20221125T145125Z
UID:169506-1669939200-1670025599@tvorimevropu.showyourweb.cz
SUMMARY:České Vánoce
DESCRIPTION:Pojďte s námi prožít Vánoce trochu jinak. v Karlových Varech v kině Drahomíra (Vítězná 627/50)\, v pátek 2. prosince od 15:30 hod. Čekají na vás vánoční tradice z jiných evropských zemí\, přednáška o rodině Čapků nebo pořad Poezie a jazz – český speciál. Připraveny pro vás budou též české vánoční zvyky\, výroba netradičních ozdob a nebo si budete moci napsat přání Ježíškovi. \nAkce se koná při příležitosti předsednictví České republiky v Radě EU. \nVíce zde https://fb.me/e/2Y0cyFZfo \n 
URL:https://tvorimevropu.showyourweb.cz/event/ceske-vanoce-3/
CATEGORIES:Karlovy Vary
END:VEVENT
END:VCALENDAR