BEGIN:VCALENDAR
VERSION:2.0
PRODID:-//Tvoříme Evropu - ECPv6.15.0.1//NONSGML v1.0//EN
CALSCALE:GREGORIAN
METHOD:PUBLISH
X-ORIGINAL-URL:https://tvorimevropu.showyourweb.cz
X-WR-CALDESC:Akce na Tvoříme Evropu
REFRESH-INTERVAL;VALUE=DURATION:PT1H
X-Robots-Tag:noindex
X-PUBLISHED-TTL:PT1H
BEGIN:VTIMEZONE
TZID:Europe/Prague
BEGIN:DAYLIGHT
TZOFFSETFROM:+0100
TZOFFSETTO:+0200
TZNAME:CEST
DTSTART:20250330T010000
END:DAYLIGHT
BEGIN:STANDARD
TZOFFSETFROM:+0200
TZOFFSETTO:+0100
TZNAME:CET
DTSTART:20251026T010000
END:STANDARD
END:VTIMEZONE
BEGIN:VEVENT
DTSTART;VALUE=DATE:20250502
DTEND;VALUE=DATE:20250503
DTSTAMP:20260419T214242
CREATED:20250416T090308Z
LAST-MODIFIED:20250416T090308Z
UID:170468-1746144000-1746230399@tvorimevropu.showyourweb.cz
SUMMARY:United Islands 2025
DESCRIPTION:United Islands se v roce 2025 v Praze uskuteční už po dvaadvacáté a opět bude zdarma. \nEurocentrum Praha najdete na stánku s Univerzitou Karlovou. a na co se můžete těšit? na zábavné aktivity\, kterými si připomeneme vstup ČR do EU a samozřejmě hudební vystoupení a plno další zábavy.  \nJak se za námi dostanete? na Štvanici přijeďte veřejnou nebo sdílenou dopravou. Metrem jeďte na stanice Vltavská (C) nebo Křižíkova (B). v místě festivalu pak budou k dispozici mapky\, hledejte nás u Univerzity Karlovy. \nVstupné? Vše je zdarma. \n 
URL:https://tvorimevropu.showyourweb.cz/event/oslavy-evropy-united-islands-2025-2/
CATEGORIES:Praha
ATTACH;FMTTYPE=image/jpeg:https://tvorimevropu.showyourweb.cz/wp-content/uploads/2025/04/UI-plakat.jpg
END:VEVENT
END:VCALENDAR