BEGIN:VCALENDAR
VERSION:2.0
PRODID:-//Tvoříme Evropu - ECPv6.15.0.1//NONSGML v1.0//EN
CALSCALE:GREGORIAN
METHOD:PUBLISH
X-ORIGINAL-URL:https://tvorimevropu.showyourweb.cz
X-WR-CALDESC:Akce na Tvoříme Evropu
REFRESH-INTERVAL;VALUE=DURATION:PT1H
X-Robots-Tag:noindex
X-PUBLISHED-TTL:PT1H
BEGIN:VTIMEZONE
TZID:Europe/Prague
BEGIN:DAYLIGHT
TZOFFSETFROM:+0100
TZOFFSETTO:+0200
TZNAME:CEST
DTSTART:20250330T010000
END:DAYLIGHT
BEGIN:STANDARD
TZOFFSETFROM:+0200
TZOFFSETTO:+0100
TZNAME:CET
DTSTART:20251026T010000
END:STANDARD
END:VTIMEZONE
BEGIN:VTIMEZONE
TZID:UTC
BEGIN:STANDARD
TZOFFSETFROM:+0000
TZOFFSETTO:+0000
TZNAME:UTC
DTSTART:20230101T000000
END:STANDARD
END:VTIMEZONE
BEGIN:VEVENT
DTSTART;VALUE=DATE:20250616
DTEND;VALUE=DATE:20250901
DTSTAMP:20260419T235120
CREATED:20250805T151056Z
LAST-MODIFIED:20250805T151143Z
UID:173767-1750032000-1756684799@tvorimevropu.showyourweb.cz
SUMMARY:Letní fotosoutěž UDRŽITELNÁ EVROPA
DESCRIPTION:Regionální Eurocentra a Informační střediska Europe Direct Hradec Králové a Europe Direct Pardubice vyhlašují další ročník prázdninové fotosoutěže pro amatérské fotografy s názvem Udržitelná Evropa. Zachyťte svými fotoaparáty\, jak Evropa hledá rovnováhu mezi přírodou a pokrokem! \nPodařilo se Vám zachytit proměnu Evropy v důsledku klimatických změn či technologického pokroku na cestě k udržitelnosti? Byla Vaše fotografie pořízena v některé z členských či kandidátských zemí Evropské unie? Pak neváhejte a pošlete nám ji na e-mail fotosoutez.eurocentrum@vlada.gov.cz\, nebo nahrajte skrze formulář\, který naleznete níže na této stránce. \nSoutěžit můžete v následujících dvou kategoriích: \n\nPŘÍRODA (proměna přírody v důsledku klimatických změn)\nTECHNOLOGIE (udržitelné technologie\, architektura\, dopravní infrastruktura)\n\nFotosoutěž se koná v termínu 16. června – 31. srpna 2025 a je určena pro amatérské fotografy! \nTři nejzdařilejší snímky v každé kategorii vybere odborná porota složená z profesionálních fotografů. Speciální cena veřejnosti bude udělena autorovi fotografie s nejvíce udělenými „To se mi líbí“ na FB/IG profilu soutěže. Výherci získají hodnotné odměny v podobě tematických poukázek a balíčků v hodnotě 3000 Kč\, 2000 Kč a 1000 Kč! \nVíce informací a pravidla soutěže naleznete na facebookové stránce soutěže facebook.com/fotosoutezEU a na webových stránkách organizátorů tvorimevropu.cz a europedirect.cz. \nPlakát ke stažení ZDE. \nPravidla ke stažení ZDE. \n \n\n	Upozornění: u tohoto obsahu je vyžadován JavaScript.\nNebyla nalezena žádná pole.
URL:https://tvorimevropu.showyourweb.cz/event/letni-fotosoutez-udrzitelna-evropa/
CATEGORIES:Hradec Králové,Pardubice
END:VEVENT
BEGIN:VEVENT
DTSTART;VALUE=DATE:20240611
DTEND;VALUE=DATE:20240614
DTSTAMP:20260419T235120
CREATED:20240116T173840Z
LAST-MODIFIED:20240116T173840Z
UID:169958-1718064000-1718323199@tvorimevropu.showyourweb.cz
SUMMARY:Evropský týden udržitelné energie 2024 (EUSEW)
DESCRIPTION:Evropský týden udržitelné energie (EUSEW) je největší každoroční akce věnovaná obnovitelným zdrojům energie a efektivnímu využívání energie v EU. Zahrnuje řadu činností zaměřených na budování bezpečné energetické budoucnosti pro Evropu. \nLetošní 18. ročník politické konference se bude konat v hybridním formátu v Bruselu a online ve dnech 11.–13. června 2024. \nPokud přispíváte k vývoji nebo implementaci klimaticky neutrálních řešení nebo technologií pro komunitu\, podnik\, průmysl… pak je Evropský týden udržitelné energie právě pro vás. Každoroční akce je příležitostí setkat se se zúčastněnými stranami\, které podporují energetickou účinnost a obnovitelné zdroje energie\, seznámit se s úspěšnými opatřeními a politikami a inspirovat inovace ke splnění cílů EU v oblasti energetiky a klimatu. \nVíce o zapojení a konferenci EUSEW zde:  https://sustainable-energy-week.ec.europa.eu/news/calling-all-sustainable-energy-heroes-european-sustainable-energy-week-returns-2024-2023-12-11_en?prefLang=cs&etrans=cs \n \n 
URL:https://tvorimevropu.showyourweb.cz/event/evropsky-tyden-udrzitelne-energie-2024-eusew-3/
CATEGORIES:Ostrava
ATTACH;FMTTYPE=image/png:https://tvorimevropu.showyourweb.cz/wp-content/uploads/2024/01/eusew24-vector-banner-wide.png
END:VEVENT
BEGIN:VEVENT
DTSTART;TZID=UTC:20230615T093000
DTEND;TZID=UTC:20230615T120000
DTSTAMP:20260419T235120
CREATED:20230606T073137Z
LAST-MODIFIED:20230606T073137Z
UID:169788-1686821400-1686830400@tvorimevropu.showyourweb.cz
SUMMARY:UDRŽITELNOST - legislativa\, praxe a uhlíková stopa produktu
DESCRIPTION:Srdečně Vás zveme na zajímavý webinář! \nWebinář proběhne dne 15.6.2023 od 9:30 hod. prostřednictvím platformy Zoom. Během webináře se dozvíte\, jaká legislativa je spojena s CSRD\, co obnáší reporting dle standardu ESRS (European Sustaimability Reporting)\, jak se efektivně věnovat udržitelnosti nebo jak vám může pomoci výpočet uhlíkové stopy.\nLektory webináře budou i tentokrát odborníci ze společností Grant Thornton a EnviTrail.\nna akci se můžete přihlásit pro předchozí registraci nejpozději do 13.6.2023 na e-mailu: info@khkzk.cz. \nVíce informací zde
URL:https://tvorimevropu.showyourweb.cz/event/udrzitelnost-legislativa-praxe-a-uhlikova-stopa-produktu-3/
CATEGORIES:Zlín
ATTACH;FMTTYPE=:
END:VEVENT
BEGIN:VEVENT
DTSTART;TZID=UTC:20230419T100000
DTEND;TZID=UTC:20230419T180000
DTSTAMP:20260419T235120
CREATED:20230413T145610Z
LAST-MODIFIED:20230413T145610Z
UID:169689-1681898400-1681927200@tvorimevropu.showyourweb.cz
SUMMARY:GREEN DAY - šetrně k životnímu prostředí
DESCRIPTION:Při příležitosti Dne Země pořádáme spolu s partnery celodenní ekologickou akci v Krajské knihovně Karlovy Vary. Cílem je zvýšit povědomí o vlivu lidských aktivit na životní prostředí a propagovat ekologicky šetrné a udržitelné způsoby života. \nStačí jenom třídit odpad? Co se starými věcmi? Nakupujete nové věci nebo vyrábíte něco svého? Co je udržitelný rozvoj? Přijďte si s námi o tom popovídat a získat inspiraci. \nSouběžně budou probíhat různé aktivity: \nCharitativní bazárek – 10 – 18 hodin – oblečení\, bižuterie a doplňky za hubičku. Výtěžek půjde na podporu nevidomých a slabozrakých. \nProdejní stánky – 10 – 18 hodin – prodej přírodních produktů\, užitné věci – textilní recyklace\, bezobal\, výrobky klientů Tyflocentra a další. 10% z prodeje půjde na podporu slabozrakých. \nEkodílnička – 14 – 17 hodin – recyklujeme a vyrábíme jarní dekorace s Romankou. Cena 20\,- Kč (výtěžek nevidomým). \nFairtrade – 10\,00 – 17 hodin – co to je férový obchod? Výstavka a ochutnávka potravin vyrobených z fairtrade produktů. \nVýstavka eko věciček k běžnému používání – varianty ekologické a méně ekologické. Co používáte vy? \nFilmy o ekologii  – 14\,30 a 16\,30 hodin\n„Udržitelný Palacký“ 26 min. – 2019\, Ozvěny Ekofilmu\n„Květinová globalizace“ 25 min. – 2021\, Ozvěny Ekofilmu \nStánek Eurocentra Karlovy Vary – 10 – 16 hodin – informace o Zelené Dohodě pro Evropu\, kvíz o ceny \nVýstava knih k ekologii – 10\,00 – 18\,00 hodin. \nAkci doplňuje současně probíhající putovní výstava\, která shrnuje na 15 panelech hlavní problematiku ochrany přírody v České republice. 
URL:https://tvorimevropu.showyourweb.cz/event/green-day-setrne-k-zivotnimu-prostredi-3/
CATEGORIES:Karlovy Vary
ATTACH;FMTTYPE=image/jpeg:https://tvorimevropu.showyourweb.cz/wp-content/uploads/2022/01/28500-120-merkelova_volby2017.jpeg
END:VEVENT
BEGIN:VEVENT
DTSTART;TZID=UTC:20230330T090000
DTEND;TZID=UTC:20230330T150000
DTSTAMP:20260419T235120
CREATED:20230301T114305Z
LAST-MODIFIED:20230301T114305Z
UID:169619-1680166800-1680188400@tvorimevropu.showyourweb.cz
SUMMARY:Udržitelné a energeticky úsporné podnikání a podpory EU pro malé a střední firmy
DESCRIPTION:Evropská komise\, Technologické centrum Praha a síť Enterprise Europe Network ČR (EEN ČR) vnímají potřeby malých a středních firem\, které čelí narušení dodavatelských řetězců\, rostoucím cenám vstupů\, energií a dopravy. \nTyto instituce tedy společně tedy pořádají v Krajské knihovně Karlovy Vary seminář zaměřený na financování udržitelného podnikání\, energetiku\, úsporné technologie a inovace\, které mohou malým a středním firmám snížit náklady.  \nKromě informací o vybraných výzvách Národního plánu obnovy\, Modernizačního fondu\, OP TAK (Operační program Technologie a aplikace pro konkurenceschopnost) a finančních nástrojích pro zelenou transformaci firem uslyšíte na akci také úspěšné příklady realizovaných projektů přímo od majitelů firem. \nPodrobný program a odkaz pro registraci naleznete přímo na webu EEN zde  \nÚčast je bezplatná. \n  \n 
URL:https://tvorimevropu.showyourweb.cz/event/udrzitelne-a-energeticky-usporne-podnikani-a-podpory-eu-pro-male-a-stredni-firmy-3/
CATEGORIES:Karlovy Vary
ATTACH;FMTTYPE=:
END:VEVENT
END:VCALENDAR