BEGIN:VCALENDAR
VERSION:2.0
PRODID:-//Tvoříme Evropu - ECPv6.15.0.1//NONSGML v1.0//EN
CALSCALE:GREGORIAN
METHOD:PUBLISH
X-ORIGINAL-URL:https://tvorimevropu.showyourweb.cz
X-WR-CALDESC:Akce na Tvoříme Evropu
REFRESH-INTERVAL;VALUE=DURATION:PT1H
X-Robots-Tag:noindex
X-PUBLISHED-TTL:PT1H
BEGIN:VTIMEZONE
TZID:UTC
BEGIN:STANDARD
TZOFFSETFROM:+0000
TZOFFSETTO:+0000
TZNAME:UTC
DTSTART:20240101T000000
END:STANDARD
END:VTIMEZONE
BEGIN:VEVENT
DTSTART;TZID=UTC:20240421T080000
DTEND;TZID=UTC:20240421T170000
DTSTAMP:20260420T013857
CREATED:20240116T172401Z
LAST-MODIFIED:20240116T172401Z
UID:169957-1713686400-1713718800@tvorimevropu.showyourweb.cz
SUMMARY:Den Země v Opavě
DESCRIPTION:Oslava se uskuteční v neděli 21. dubna v Opavě\, program bude dále probíhat od dubna do května 2024. \nO chystaných oslavách a akcích pro veřejnost  vás budeme informovat v následujících týdnech.
URL:https://tvorimevropu.showyourweb.cz/event/den-zeme-v-opave-3/
CATEGORIES:Ostrava
ATTACH;FMTTYPE=image/jpeg:https://tvorimevropu.showyourweb.cz/wp-content/uploads/2024/01/344594120_1034280310877645_3581345996097548262_n-1.jpg
END:VEVENT
END:VCALENDAR