BEGIN:VCALENDAR
VERSION:2.0
PRODID:-//Tvoříme Evropu - ECPv6.15.0.1//NONSGML v1.0//EN
CALSCALE:GREGORIAN
METHOD:PUBLISH
X-ORIGINAL-URL:https://tvorimevropu.showyourweb.cz
X-WR-CALDESC:Akce na Tvoříme Evropu
REFRESH-INTERVAL;VALUE=DURATION:PT1H
X-Robots-Tag:noindex
X-PUBLISHED-TTL:PT1H
BEGIN:VTIMEZONE
TZID:Europe/Prague
BEGIN:DAYLIGHT
TZOFFSETFROM:+0100
TZOFFSETTO:+0200
TZNAME:CEST
DTSTART:20240331T010000
END:DAYLIGHT
BEGIN:STANDARD
TZOFFSETFROM:+0200
TZOFFSETTO:+0100
TZNAME:CET
DTSTART:20241027T010000
END:STANDARD
BEGIN:DAYLIGHT
TZOFFSETFROM:+0100
TZOFFSETTO:+0200
TZNAME:CEST
DTSTART:20250330T010000
END:DAYLIGHT
BEGIN:STANDARD
TZOFFSETFROM:+0200
TZOFFSETTO:+0100
TZNAME:CET
DTSTART:20251026T010000
END:STANDARD
END:VTIMEZONE
BEGIN:VTIMEZONE
TZID:UTC
BEGIN:STANDARD
TZOFFSETFROM:+0000
TZOFFSETTO:+0000
TZNAME:UTC
DTSTART:20230101T000000
END:STANDARD
END:VTIMEZONE
BEGIN:VEVENT
DTSTART;TZID=Europe/Prague:20250909T100000
DTEND;TZID=Europe/Prague:20250909T113000
DTSTAMP:20260419T235010
CREATED:20250718T075022Z
LAST-MODIFIED:20250718T075022Z
UID:169842-1757412000-1757417400@tvorimevropu.showyourweb.cz
SUMMARY:Umělá inteligence v praxi
DESCRIPTION:Co to je umělá inteligence (AI) a jak ji využít v každodenním životě? \nNejen na tyto otázky se zaměří praktická přednáška o umělé inteligenci. \nAkce probíhá v rámci Týdne pro Digitální Česko a je určena primárně seniorům z Klubu Aktiv\, z.s. \nS ohledem na omezenou kapacitu sálu je nutná předchozí registrace\, a to přes Klub Aktiv\, z.s.
URL:https://tvorimevropu.showyourweb.cz/event/umela-inteligence-v-praxi/
CATEGORIES:České Budějovice
END:VEVENT
BEGIN:VEVENT
DTSTART;TZID=Europe/Prague:20250908T103000
DTEND;TZID=Europe/Prague:20250908T120000
DTSTAMP:20260419T235010
CREATED:20250721T190417Z
LAST-MODIFIED:20250721T190417Z
UID:169844-1757327400-1757332800@tvorimevropu.showyourweb.cz
SUMMARY:Bezpečně na internetu
DESCRIPTION:Zveme především seniory na přednášku o bezpečnosti na internetu.  \nNa praktickém semináři\, který vede lektorka z Telekomunikační akademie ČTÚ\, se účastníci dozví informace o tom\, jak se chovat bezpečně na internetu a čeho se vyvarovat. Kromě vysvětlení základních pojmů a zásad se budeme věnovat také praktickým tipům a modelovým situacím. \nVstup zdarma. \nS ohledem na omezenou kapacitu sálu je nutná předchozí registrace\, a to na e-mailu katerina.markova@vlada.gov.cz. Registrace Vám bude následně potvrzena. \nAkce se koná v rámci Týdne pro Digitální Česko.
URL:https://tvorimevropu.showyourweb.cz/event/bezpecne-na-internetu/
CATEGORIES:České Budějovice
END:VEVENT
BEGIN:VEVENT
DTSTART;TZID=Europe/Prague:20241122T110000
DTEND;TZID=Europe/Prague:20241122T143000
DTSTAMP:20260419T235010
CREATED:20241119T070305Z
LAST-MODIFIED:20241119T070305Z
UID:170368-1732273200-1732285800@tvorimevropu.showyourweb.cz
SUMMARY:Digitální Česko: Budoucnost digitalizace a nové technologie AI
DESCRIPTION:Eurocentrum Pardubice zve všechny zájemce na odborný seminář pro studenty Univerzity Pardubice – Univerzity třetího věku. \nBeseda se uskuteční dne 22. listopadu 2024 v době od 11:00 do 14:30 hodin v prostorách Dopravní fakulty Jana Pernera Univerzity Pardubice\, učebně B5. na konci příspěvku nebude chybět ani diskuse s účastníky. \nCílovou skupinou jsou primárně studenti Univerzity Pardubice a senioři. \nCílem akce je zvýšit povědomí o současných\, nejvíce diskutovaných evropských tématech\, kulturních rozmanitostech Evropy a činnosti sítě Eurocenter. \nPozvání na akci přijal Mgr. Ing. Petr Kleiner\, Technologické centrum Hradec Králové. \nAkce probíhá pod záštitou Týdne pro Digitální Česko\, který se koná v termínu 18.11. – 24.11.2024. Více informací ZDE.
URL:https://tvorimevropu.showyourweb.cz/event/digitalni-cesko-budoucnost-digitalizace-a-nove-technologie-ai-3/
CATEGORIES:Pardubice
END:VEVENT
BEGIN:VEVENT
DTSTART;TZID=Europe/Prague:20241119T110000
DTEND;TZID=Europe/Prague:20241119T143000
DTSTAMP:20260419T235010
CREATED:20241119T064919Z
LAST-MODIFIED:20241119T064919Z
UID:170367-1732014000-1732026600@tvorimevropu.showyourweb.cz
SUMMARY:Digitální Česko: Digitální komunikace s veřejnou správou
DESCRIPTION:Eurocentrum Pardubice zve všechny zájemce na odborný seminář pro studenty Univerzity Pardubice – Univerzity třetího věku. \nBeseda se uskuteční dne 19. listopadu 2024 v době od 11:00 do 14:30 hodin v prostorách Dopravní fakulty Jana Pernera Univerzity Pardubice\, učebně B5. na konci příspěvku nebude chybět ani diskuse s účastníky. \nCílovou skupinou jsou primárně studenti Univerzity Pardubice a senioři. \nCílem akce je zvýšit povědomí o současných\, nejvíce diskutovaných evropských tématech\, kulturních rozmanitostech Evropy a činnosti sítě Eurocenter. \nPozvání na akci přijal Mgr. Jan Hodač\, Technologické centrum Hradec Králové. \nAkce probíhá pod záštitou Týdne pro Digitální Česko\, který se koná v termínu 18.11. – 24.11.2024. Více informací ZDE.
URL:https://tvorimevropu.showyourweb.cz/event/digitalni-cesko-digitalni-komunikace-s-verejnou-spravou-3/
CATEGORIES:Pardubice
END:VEVENT
BEGIN:VEVENT
DTSTART;TZID=UTC:20231120T080000
DTEND;TZID=UTC:20231120T170000
DTSTAMP:20260419T235010
CREATED:20231120T070458Z
LAST-MODIFIED:20231120T070458Z
UID:169943-1700467200-1700499600@tvorimevropu.showyourweb.cz
SUMMARY:Vývoj a perspektivy moderních technologií ve vzdělávání v oblasti ochrany obyvatelstva
DESCRIPTION:Společně s Vysokou školou evropských a regionálních studií v Českých Budějovicích Vás zveme na mezinárodní vědecký workshop\, jehož cílem je výměna zkušeností členů projektového týmu\, zástupců spolupracujících organizací a odborné veřejnosti o vývoji a perspektivách moderních technologií ve vzdělávání v oblasti ochrany obyvatelstva se zaměřením na virtuální realitu. \nRegistrovat na akci se můžete zde. \nBližší informace naleznete v pozvánce: Pozvanka_V4_cz.pdf.
URL:https://tvorimevropu.showyourweb.cz/event/vyvoj-a-perspektivy-modernich-technologii-ve-vzdelavani-v-oblasti-ochrany-obyvatelstva-3/
CATEGORIES:České Budějovice
ATTACH;FMTTYPE=image/jpeg:https://tvorimevropu.showyourweb.cz/wp-content/uploads/2022/01/18463-120-turkey_eu.jpg
END:VEVENT
END:VCALENDAR