BEGIN:VCALENDAR
VERSION:2.0
PRODID:-//Tvoříme Evropu - ECPv6.15.0.1//NONSGML v1.0//EN
CALSCALE:GREGORIAN
METHOD:PUBLISH
X-WR-CALNAME:Tvoříme Evropu
X-ORIGINAL-URL:https://tvorimevropu.showyourweb.cz
X-WR-CALDESC:Akce na Tvoříme Evropu
REFRESH-INTERVAL;VALUE=DURATION:PT1H
X-Robots-Tag:noindex
X-PUBLISHED-TTL:PT1H
BEGIN:VTIMEZONE
TZID:Europe/Prague
BEGIN:DAYLIGHT
TZOFFSETFROM:+0100
TZOFFSETTO:+0200
TZNAME:CEST
DTSTART:20250330T010000
END:DAYLIGHT
BEGIN:STANDARD
TZOFFSETFROM:+0200
TZOFFSETTO:+0100
TZNAME:CET
DTSTART:20251026T010000
END:STANDARD
END:VTIMEZONE
BEGIN:VEVENT
DTSTART;TZID=Europe/Prague:20250314T130000
DTEND;TZID=Europe/Prague:20250314T143000
DTSTAMP:20260419T233726
CREATED:20250221T102939Z
LAST-MODIFIED:20250221T102939Z
UID:170413-1741957200-1741962600@tvorimevropu.showyourweb.cz
SUMMARY:Historie značení turistických tras v ČR a Evropě
DESCRIPTION:Eurocentrum Pardubice zve všechny zájemce na odborný seminář pro studenty Univerzity Pardubice – Univerzity třetího věku. \nBeseda se uskuteční dne 14. března 2025 v době od 13:00 do 14:30 hodin v prostorách Dopravní fakulty Jana Pernera Univerzity Pardubice\, učebně B5. na konci příspěvku nebude chybět ani diskuse s účastníky. \nCílovou skupinou jsou primárně studenti Univerzity Pardubice a senioři. \nCílem akce je zvýšit povědomí o současných\, nejvíce diskutovaných evropských tématech\, kulturních rozmanitostech Evropy a činnosti sítě Eurocenter. \nPozvání na akci přijal Vlastimil Škvára\, předseda OV Klubu českých turistů pro Pardubický kraj.
URL:https://tvorimevropu.showyourweb.cz/event/historie-znaceni-turistickych-tras-v-cr-a-v-evrope-3/
CATEGORIES:Pardubice
END:VEVENT
END:VCALENDAR