BEGIN:VCALENDAR
VERSION:2.0
PRODID:-//Tvoříme Evropu - ECPv6.15.0.1//NONSGML v1.0//EN
CALSCALE:GREGORIAN
METHOD:PUBLISH
X-WR-CALNAME:Tvoříme Evropu
X-ORIGINAL-URL:https://tvorimevropu.showyourweb.cz
X-WR-CALDESC:Akce na Tvoříme Evropu
REFRESH-INTERVAL;VALUE=DURATION:PT1H
X-Robots-Tag:noindex
X-PUBLISHED-TTL:PT1H
BEGIN:VTIMEZONE
TZID:UTC
BEGIN:STANDARD
TZOFFSETFROM:+0000
TZOFFSETTO:+0000
TZNAME:UTC
DTSTART:20230101T000000
END:STANDARD
END:VTIMEZONE
BEGIN:VTIMEZONE
TZID:Europe/Prague
BEGIN:DAYLIGHT
TZOFFSETFROM:+0100
TZOFFSETTO:+0200
TZNAME:CEST
DTSTART:20240331T010000
END:DAYLIGHT
BEGIN:STANDARD
TZOFFSETFROM:+0200
TZOFFSETTO:+0100
TZNAME:CET
DTSTART:20241027T010000
END:STANDARD
END:VTIMEZONE
BEGIN:VEVENT
DTSTART;TZID=UTC:20241023T090000
DTEND;TZID=UTC:20241023T110000
DTSTAMP:20260420T033028
CREATED:20240919T120530Z
LAST-MODIFIED:20240919T120530Z
UID:170288-1729674000-1729681200@tvorimevropu.showyourweb.cz
SUMMARY:Evropa mýma očima
DESCRIPTION:Přijďte besedovat s mladými cestovateli a poslechnout si jejich zážitky z cest po Evropě! Jak vypadají projekty výměny mládeže a proč se jich zúčastnit? Jaké je to být dobrovolníkem ve Francii? Jaké zážitky si odnesete z cesty vlakem napříč Evropou? Poslechněte si autentická vyprávění mladých lidí\, kteří se nebáli vycestovat a vyjeďte také! \nProgram besedy: \n9:00 – 9:30  Kryštof Vejmola: DiscoverEU aneb jak projet celou Evropu zadarmo \n9:30 – 10:00 Nela Ferenčíková: Kam se podíváte díky Evropské výměně mládeže \n10:00 – 10:30 Martin Hrouda: v osmnácti dobrovolníkem ve Francii \n10:30 – 11:00 Vojtěch Hovorka: Budování středověké zahrady na workcampu \nAkce se koná v rámci celoevropské kampaně Time to move. Partnerem akce je síť Eurodesk. Vstup na akci zdarma! Registrace účasti na eurocentrum.hk@vlada.gov.cz! Akce se koná ve dvou termínech: 16. a 23. 10. 2024.
URL:https://tvorimevropu.showyourweb.cz/event/evropa-myma-ocima-3/
CATEGORIES:Hradec Králové
END:VEVENT
BEGIN:VEVENT
DTSTART;TZID=UTC:20241016T090000
DTEND;TZID=UTC:20241016T140000
DTSTAMP:20260420T033028
CREATED:20240930T173622Z
LAST-MODIFIED:20240930T173622Z
UID:170303-1729069200-1729087200@tvorimevropu.showyourweb.cz
SUMMARY:Den dobrovolnických příležitostí (Time To Move 2024)
DESCRIPTION:Přemýšlíte o DOBROVOLNICTVÍ\, a to nejen v ČR? Máte čas zhruba hodinu týdně a rádi byste ho strávili s ostatními? \nPřijďte za námi do sálu Lidového domu a dozvíte se\, v jakých organizacích (nově i v domácnosti) můžete pomáhat! na místě se hravou formou představí místní i okolní organizace\, kde dobrovolníci již působí. \nDozvíte se také o zahraničních příležitostech\, které mají mladí lidé od 13-30 let a které jsou hrazené z prostředků Evropské unie! Zde se představí také Eurocentrum Pardubice se svými aktivitami o Evropě pro všechny zájemce\, přičemž připraven bude rovněž soutěžní Actionbound Pár kroků do Evropy o cenné odměny kampaně Time To Move 2024\, jež má za cíl informovat o evropských mobilitách. Soutěž bude probíhat v týdnu od 14.10. do 20.10.2024. Následně budou vybráni tři náhodně vylosovaní soutěžící a budou jim zaslány ceny. Zapojte se také a užijte si zábavu i poučení\, ale především interaktivní procházku po Litomyšli! \nAkce se koná v rámci kampaně #TimeToMove\, kterou pořádá síť Eurodesk a která má za cíl přiblížit možnosti mladých nejen v zahraničí. Akci pořádá Dobrovolnické centrum Litomyšl při Farní charitě Litomyšl. Partnerem akce je Eurocentrum Pardubice.Více zde: https://timetomove.eurodesk.eu/cs/ a zde: https://www.eurodesk.cz/. \nKdy: středa 16.10.2024\, 9:00 – 14:00 \nKde: Lidový dům Litomyšl\, Bělidla 392\, 570 01 Litomyšl \nTěšíme se na vás!
URL:https://tvorimevropu.showyourweb.cz/event/den-dobrovolnickych-prilezitosti-time-to-move-2024-3/
CATEGORIES:Pardubice
END:VEVENT
BEGIN:VEVENT
DTSTART;VALUE=DATE:20241014
DTEND;VALUE=DATE:20241021
DTSTAMP:20260420T033028
CREATED:20241010T160252Z
LAST-MODIFIED:20241010T160252Z
UID:170315-1728864000-1729468799@tvorimevropu.showyourweb.cz
SUMMARY:Actionbound Pár kroků do Evropy (Time To Move 2024)
DESCRIPTION:Vítejte v boundu\, díky kterému poznáte krásné město Litomyšl ve spojení s Evropou\, dobrovolnictvím a příležitostmi\, které na Vás čekají v zahraničí! \n \nVaším cílem bude navštívit několik míst a splnit různé úkoly. Někde zodpovíte otázku\, jinde splníte jednoduchý úkol. Užijte si úkoly\, které jsou pro Vás nachystány\, a dobře se bavte! Každý\, komu se podaří dokončit bound a zodpovědět co nejvíce správných odpovědí\, má šanci vyhrát zajímavé ceny! \nSoutěž probíhá v termínu 14.10. – 20.10.2024 a v rámci akce Den dobrovolnických příležitostí v Litomyšli dne 16.10.2024. Vyhlášení vítězů a zaslání cen proběhne v týdnu od 21.10.2024. \nAktivitu pro Vás připravil tým Eurocentra Pardubice a Dobrovolnického centra při Farní charitě Litomyšl za podpory sítě Eurodesk. Akce probíhá v rámci kampaně Time To Move 2024. \nPřejeme hodně zábavy a poučení! \nPravidla hry ke stažení ZDE. \nPlakát ke stažení ZDE.
URL:https://tvorimevropu.showyourweb.cz/event/actionbound-par-kroku-do-evropy-time-to-move-2024-3/
CATEGORIES:Pardubice
END:VEVENT
BEGIN:VEVENT
DTSTART;TZID=UTC:20231002T000000
DTEND;TZID=UTC:20231031T000000
DTSTAMP:20260420T033028
CREATED:20231009T125328Z
LAST-MODIFIED:20231009T125328Z
UID:169899-1696204800-1698710400@tvorimevropu.showyourweb.cz
SUMMARY:Time To Move! Europe (soutěžní kvíz)
DESCRIPTION:Eurocentrum Pardubice jako partner sítě Eurodesk si pro všechny zájemce připravilo soutěžní kvíz Time To Move! Europe\, a to po celý říjen! Proč? v měsíci říjnu totiž pravidelně probíhá stejnojmenná kampaň pro podporu evropských mobilit! \nTak neváhej a vyraz do Evropy na zkušenou! Prostřednictvím našeho kvízu se můžeš dozvědět zajímavé informace o možnostech studia\, stáží a dobrovolnictví nejen v zemích Evropské unie\, a navíc vyhrát tematické ceny! \nTři výherce s nejvyšším počtem správně zodpovězených otázek odměníme hodnotnými cenami na cesty po Evropě! \nPřejeme hodně štěstí! \nOdkaz na kvíz ZDE. \n 
URL:https://tvorimevropu.showyourweb.cz/event/time-to-move-europe-soutezni-kviz-3/
CATEGORIES:Pardubice
ATTACH;FMTTYPE=image/jpeg:https://tvorimevropu.showyourweb.cz/wp-content/uploads/2022/01/23310-christine_lagarde_480.jpg
END:VEVENT
END:VCALENDAR