BEGIN:VCALENDAR
VERSION:2.0
PRODID:-//Tvoříme Evropu - ECPv6.15.0.1//NONSGML v1.0//EN
CALSCALE:GREGORIAN
METHOD:PUBLISH
X-ORIGINAL-URL:https://tvorimevropu.showyourweb.cz
X-WR-CALDESC:Akce na Tvoříme Evropu
REFRESH-INTERVAL;VALUE=DURATION:PT1H
X-Robots-Tag:noindex
X-PUBLISHED-TTL:PT1H
BEGIN:VTIMEZONE
TZID:Europe/Prague
BEGIN:DAYLIGHT
TZOFFSETFROM:+0100
TZOFFSETTO:+0200
TZNAME:CEST
DTSTART:20250330T010000
END:DAYLIGHT
BEGIN:STANDARD
TZOFFSETFROM:+0200
TZOFFSETTO:+0100
TZNAME:CET
DTSTART:20251026T010000
END:STANDARD
END:VTIMEZONE
BEGIN:VTIMEZONE
TZID:UTC
BEGIN:STANDARD
TZOFFSETFROM:+0000
TZOFFSETTO:+0000
TZNAME:UTC
DTSTART:20230101T000000
END:STANDARD
END:VTIMEZONE
BEGIN:VEVENT
DTSTART;TZID=Europe/Prague:20250618T084500
DTEND;TZID=Europe/Prague:20250618T124500
DTSTAMP:20260420T033040
CREATED:20250529T102701Z
LAST-MODIFIED:20250529T102701Z
UID:170508-1750236300-1750250700@tvorimevropu.showyourweb.cz
SUMMARY:Interaktivní program pro školy: Pod skandinávským křížem
DESCRIPTION:Eurocentrum České Budějovice zve žáky 2. stupně ZŠ a odpovídajících ročníků víceletých gymnázií na zábavně-vzdělávací program „Pod skandinávským křížem: Dánsko a další severské země“. \nŽáci se prostřednictvím vědomostních kvízů\, jazykových her a různých úkolů dozví řadu historických\, zeměpisných a kulturních zajímavostí o Dánsku Švédsku a Finsku. Akce se koná u příležitosti blížícího se dánského předsednictví Radě EU. \nProgram v délce přibližně 50 minut se uskuteční ve středu 18. června 2025 v sídle Domu dětí a mládeže (U Zimního stadionu 19/1\, České Budějovice)\, a to v těchto časech: \n\n8:45 –  obsazeno;\n9:45 –  obsazeno;\n10:45 –  obsazeno;\n11:45.\n\nMaximální počet žáků na 1 termín je 60 a je možné volit variantu programu pouze v češtině\, nebo kombinovanou (v češtině a angličtině). \nAkce je zdarma. \nS ohledem na kapacitu je nutná předchozí registrace konkrétního času programu\, a to na e-mailu katerina.markova@vlada.gov.cz. Do zprávy uveďte prosím věk (třídu) a počet žáků a dále\, zda si přejete program celý v češtině\, nebo kombinovaný v češtině a angličtině.
URL:https://tvorimevropu.showyourweb.cz/event/interaktivni-program-pro-skoly-pod-skandinavskym-krizem-2/
LOCATION:13631-vaza_bezci00001
CATEGORIES:České Budějovice
END:VEVENT
BEGIN:VEVENT
DTSTART;TZID=UTC:20230601T080000
DTEND;TZID=UTC:20230630T170000
DTSTAMP:20260420T033040
CREATED:20230201T153032Z
LAST-MODIFIED:20230201T153032Z
UID:169572-1685606400-1688144400@tvorimevropu.showyourweb.cz
SUMMARY:Švédské předsednictví v Radě EU (přednášky)
DESCRIPTION:
URL:https://tvorimevropu.showyourweb.cz/event/svedske-predsednictvi-v-rade-eu-prednasky-3/
CATEGORIES:České Budějovice
ATTACH;FMTTYPE=:
END:VEVENT
BEGIN:VEVENT
DTSTART;TZID=UTC:20230502T083000
DTEND;TZID=UTC:20230502T120000
DTSTAMP:20260420T033040
CREATED:20230428T140737Z
LAST-MODIFIED:20230428T140737Z
UID:169740-1683016200-1683028800@tvorimevropu.showyourweb.cz
SUMMARY:Švédský den
DESCRIPTION:V souvislosti s právě probíhajícím švédským předsednictvím v Radě EU jsme vyzvali studentky a studenty ze Školy Můj projekt Mánesova\, aby se na Švédsko podívali trochu podrobněji\, než jak je to v zeměpise obvyklé. Tato evropská země\, která předsednictví převzala po České republice\, má spoustu zajímavostí nejen geografických\, ale i kulturních a společenských. \nBěhem dubna studentky a studenti za podpory svých pedagogů hledali\, četli\, analyzovali různé zdroje a švédské reálie a připravovali si prezentace. Výsledky jejich práce shlédneme společně v úterý 2. května v Městské knihovně v Lokti (ve škole v Sokolově totiž probíhají maturity ;-/) a ještě s nimi podiskutujeme nad jejich prezentacemi o Švédsku. Ty nejaktivnější odměníme. \nRozhodně se na výsledky jejich bádání těšíme a informace určitě zveřejníme na našem facebooku. \n  \n 
URL:https://tvorimevropu.showyourweb.cz/event/svedsky-den-3/
CATEGORIES:Karlovy Vary
ATTACH;FMTTYPE=image/jpeg:https://tvorimevropu.showyourweb.cz/wp-content/uploads/2022/01/27756-120-vlajka_eiffelovka.jpg
END:VEVENT
BEGIN:VEVENT
DTSTART;TZID=UTC:20230413T170000
DTEND;TZID=UTC:20230413T190000
DTSTAMP:20260420T033040
CREATED:20230324T091438Z
LAST-MODIFIED:20230324T091438Z
UID:169656-1681405200-1681412400@tvorimevropu.showyourweb.cz
SUMMARY:Přednáška: Století staříci v Bullerbynu – současná švédská literatura
DESCRIPTION:Přijďte si poslechnout zajímavou přednášku o současné švédské literatuře. Dozvíte se mnoho informací nejen o známých autorech švédských detektivních románů\, ale také o autorech\, kteří jsou u nás téměř neznámí. Součástí přednášky budou i zajímavosti z oblasti překladatelství a vydávání knih. Přednášet pro Vás bude Skandinávský dům. Vstup je zdarma.  \nKdy? – 13. dubna v 17:00 \nKde? – Café Maryša\, Velká Hradební 49 (budova Knihovny Ústeckého kraje)\, Ústí nad Labem \nAkce probíhá ve spolupráci s Knihovnou Ústeckého kraje a Skandinávským domem v rámci předsednictví Švédska v Radě EU.
URL:https://tvorimevropu.showyourweb.cz/event/prednaska-stoleti-starici-v-bullerbynu-soucasna-svedska-literatura-3/
CATEGORIES:Ústí nad Labem
ATTACH;FMTTYPE=:
END:VEVENT
BEGIN:VEVENT
DTSTART;VALUE=DATE:20230322
DTEND;VALUE=DATE:20230414
DTSTAMP:20260420T033040
CREATED:20230322T100949Z
LAST-MODIFIED:20230322T100949Z
UID:169644-1679443200-1681430399@tvorimevropu.showyourweb.cz
SUMMARY:Kvíz: Do Švédska za literaturou
DESCRIPTION:VÝHERCI soutěže jsou: pan Jiří Z.\, paní Jana L. a paní Věra B. Gratulujeme! \nŠvédsko momentálně předsedá Radě EU\, proto jsme pro Vás připravili zábavný kvíz. Konkrétně se můžete dozvědět zajímavé informace o švédské literatuře\, která je známá nejen temnými detektivními romány\, ale také literaturou pro děti. Jak dobře znáte švédskou literaturu? Dokážete získat minimálně 7000 bodů? Pokud ano\, budete zařazeni do slosováni o ceny. \nStačí kliknout ZDE a hrát.  \nPravidla soutěže: \n\nSoutěž trvá do 13. dubna 2023.\nSoutěžící musí získat minimálně 7000 bodů a vyplnit své jméno a e-mail\, aby byli zařazeni do slosování o ceny.\nSlosování proběhne v druhé polovině dubna 2023. Vylosováni budou tři výherci\, kteří budou kontaktováni e-mailem. Výhry budou odeslány poštou do konce května 2023.\nVýhry odesíláme pouze na území České republiky\, do zahraničí není možné výhry zaslat.\n\nSoutěž probíhá ve spolupráci s Knihovnou Ústeckého kraje.
URL:https://tvorimevropu.showyourweb.cz/event/kviz-do-svedska-za-literaturou-3/
CATEGORIES:Ústí nad Labem
ATTACH;FMTTYPE=image/jpeg:https://tvorimevropu.showyourweb.cz/wp-content/uploads/2022/01/29711-macron_ep_duben2018.jpg
END:VEVENT
BEGIN:VEVENT
DTSTART;TZID=UTC:20230213T080000
DTEND;TZID=UTC:20230314T000000
DTSTAMP:20260420T033040
CREATED:20230213T171003Z
LAST-MODIFIED:20230213T171003Z
UID:169599-1676275200-1678752000@tvorimevropu.showyourweb.cz
SUMMARY:Poznáváme Švédsko: soutěž
DESCRIPTION:Švédsko se od 1.1. 2023 ujalo role předsedajícího státu Rady EU. Znáte tuto zemi? Připravili jsme pro vás kvíz\, ve kterém si můžete ověřit své znalosti o švédských památkách\, místní kultuře\, přírodě či se dozvědět mnohé zajímavosti. Tři soutěžící s nejvíce správnými odpověďmi budou odměněni tématickými cenami. \nDo soutěže se můžete zapojit na platformě Kahoot.it zadáním herního pinu: 05547135 nebo kliknutím na následující odkaz: https://kahoot.it/challenge/05547135 \nSoutěž probíhá od 13.2. do 13.3. 2023.  \n 
URL:https://tvorimevropu.showyourweb.cz/event/poznavame-svedsko-soutez-3/
CATEGORIES:Jihlava
ATTACH;FMTTYPE=:
END:VEVENT
BEGIN:VEVENT
DTSTART;VALUE=DATE:20230201
DTEND;VALUE=DATE:20230223
DTSTAMP:20260420T033040
CREATED:20230201T125030Z
LAST-MODIFIED:20230201T125030Z
UID:169565-1675209600-1677110399@tvorimevropu.showyourweb.cz
SUMMARY:Soutěž - Poznejte Švédsko
DESCRIPTION:Severská země Švédsko nabízí mnoho zajímavých míst k poznání. Čistá příroda\, skalnaté pobřeží\, rozlehlá jezera nebo města s nevšední architekturou. Zkuste poznat šest zajímavých míst Švédska a vyhrajte skvělé ceny! \nVaše odpovědi posílejte na e-mail: eurocentrum.ul@euroskop.cz  \nSoutěž probíhá do 22. 2. 2023.  \n \nSoutěž se koná v rámci předsednictví Švédska v Radě EU\, které trvá do 30. 6. 2023. \nZe správných odpovědí budou vylosování tři výherci\, kteří budou kontaktováni e-mailem. Výhry budou odeslány v první polovině března 2023.
URL:https://tvorimevropu.showyourweb.cz/event/soutez-poznejte-svedsko-3/
CATEGORIES:Ústí nad Labem
ATTACH;FMTTYPE=:
END:VEVENT
END:VCALENDAR