BEGIN:VCALENDAR
VERSION:2.0
PRODID:-//Tvoříme Evropu - ECPv6.15.0.1//NONSGML v1.0//EN
CALSCALE:GREGORIAN
METHOD:PUBLISH
X-ORIGINAL-URL:https://tvorimevropu.showyourweb.cz
X-WR-CALDESC:Akce na Tvoříme Evropu
REFRESH-INTERVAL;VALUE=DURATION:PT1H
X-Robots-Tag:noindex
X-PUBLISHED-TTL:PT1H
BEGIN:VTIMEZONE
TZID:Europe/Prague
BEGIN:DAYLIGHT
TZOFFSETFROM:+0100
TZOFFSETTO:+0200
TZNAME:CEST
DTSTART:20240331T010000
END:DAYLIGHT
BEGIN:STANDARD
TZOFFSETFROM:+0200
TZOFFSETTO:+0100
TZNAME:CET
DTSTART:20241027T010000
END:STANDARD
END:VTIMEZONE
BEGIN:VEVENT
DTSTART;TZID=Europe/Prague:20241031T153000
DTEND;TZID=Europe/Prague:20241031T180000
DTSTAMP:20260419T235120
CREATED:20241016T130935Z
LAST-MODIFIED:20241016T130935Z
UID:170318-1730388600-1730397600@tvorimevropu.showyourweb.cz
SUMMARY:Svátky zesnulých v knihovně
DESCRIPTION:Konec října a začátek listopadu je často spojen s tajemnou atmosférou plnou duchů\, strašidel a nadpřirozených jevů. ale tento čas nemusí být jen o strašení – tradice Halloween\, Día de los Muertos a Dušičky nám nabízejí nádhernou příležitost uctít památku našich blízkých a oslavit krásu života\, který jsme s nimi sdíleli. Přijďte do Dětského oddělení Knihovny Ústeckého kraje oslavit všechny tři svátky najednou! \n \nCo je pro Vás a Vaše děti připraveno? Čekají vás výtvarné aktivity\, jazykové hry\, dvoujazyčné čtení pohádek (česko-anglické a česko-německé)\, malování na obličej a spousta zábavy v kostýmech. na stánku Eurocentra Ústí nad Labem si můžete vyrobit postavičku Drákuly a dozvědět se o něm zajímavé  informace. \nTěšíme se na Vás 31. října 2024 od 15:30 v knihovně!
URL:https://tvorimevropu.showyourweb.cz/event/svatky-zesnulych-v-knihovne-3/
CATEGORIES:Ústí nad Labem
END:VEVENT
END:VCALENDAR