BEGIN:VCALENDAR
VERSION:2.0
PRODID:-//Tvoříme Evropu - ECPv6.15.0.1//NONSGML v1.0//EN
CALSCALE:GREGORIAN
METHOD:PUBLISH
X-WR-CALNAME:Tvoříme Evropu
X-ORIGINAL-URL:https://tvorimevropu.showyourweb.cz
X-WR-CALDESC:Akce na Tvoříme Evropu
REFRESH-INTERVAL;VALUE=DURATION:PT1H
X-Robots-Tag:noindex
X-PUBLISHED-TTL:PT1H
BEGIN:VTIMEZONE
TZID:UTC
BEGIN:STANDARD
TZOFFSETFROM:+0000
TZOFFSETTO:+0000
TZNAME:UTC
DTSTART:20240101T000000
END:STANDARD
END:VTIMEZONE
BEGIN:VEVENT
DTSTART;TZID=UTC:20241114T090000
DTEND;TZID=UTC:20241114T170000
DTSTAMP:20260419T233236
CREATED:20240821T152126Z
LAST-MODIFIED:20240821T152126Z
UID:170228-1731574800-1731603600@tvorimevropu.showyourweb.cz
SUMMARY:Studijní veletrh v Krnově 2024
DESCRIPTION:Ve spolupráci se Střediskem volného času v Krnově si vás dovolujeme pozvat na studijní veletrh 2024 na kterém žáci SŠ budou mít příležitost seznámit se s nabídkami českých vysokých škol\, které se budou prezentovat se svými studijními obory. \nAkce také nabídne řadu přednášek a workshopů jako například o studium v EU a další. \n 
URL:https://tvorimevropu.showyourweb.cz/event/studijni-veletrh-v-krnove-2024-3/
CATEGORIES:Ostrava
ATTACH;FMTTYPE=image/jpeg:https://tvorimevropu.showyourweb.cz/wp-content/uploads/2024/08/studium-na-vs.jpg
END:VEVENT
BEGIN:VEVENT
DTSTART;VALUE=DATE:20241009
DTEND;VALUE=DATE:20241011
DTSTAMP:20260419T233236
CREATED:20240821T153354Z
LAST-MODIFIED:20240821T153354Z
UID:170229-1728432000-1728604799@tvorimevropu.showyourweb.cz
SUMMARY:Talent city
DESCRIPTION:Ve dnech 9. – 10. 10. letošního roku proběhne 3. ročník konference Talent City pořádané statutárním městem Ostrava pod záštitou manželky prezidenta České republiky Evy Pavlové. Statutární město Ostrava dlouhodobě podporuje talentované a nadané děti\, žáky a studenty prostřednictvím Programu a Výzvy na podporu talentmanagementu. \nAkce je cílena jak na děti ze základních a středních škol v podobě workshopů\, tak na dospělé\, na které čekají besedy a diskuze. \nVíce: https://talentova.cz/projekty-mesta/talent-city/ \n 
URL:https://tvorimevropu.showyourweb.cz/event/talent-city-3/
CATEGORIES:Ostrava
ATTACH;FMTTYPE=image/jpeg:https://tvorimevropu.showyourweb.cz/wp-content/uploads/2024/08/TC24-grafika-590-x-408-px-590-x-350-px.jpg
END:VEVENT
BEGIN:VEVENT
DTSTART;TZID=UTC:20240126T090000
DTEND;TZID=UTC:20240126T170000
DTSTAMP:20260419T233236
CREATED:20240116T163225Z
LAST-MODIFIED:20240116T163225Z
UID:169956-1706259600-1706288400@tvorimevropu.showyourweb.cz
SUMMARY:Den otevřených dveří na Ostravské univerzitě
DESCRIPTION:Na všechny zájemce o studium na Ostravské univerzitě se budou těšit v Ostravě na jednotlivých fakultách v pátek 26. ledna 2024. Zájemci si mohou prohlédnout fakulty a jejich zázemí\, setkat se s vyučujícími\, studijními poradci i současnými studenty. \nPřihlášky ke studiu bude možné podávat od 15. listopadu 2023 do 15. března 2024. \n  \nVíce informací a odkazy na jednotlivé fakulty zde: https://www.osu.cz/dny-otevrenych-dveri/
URL:https://tvorimevropu.showyourweb.cz/event/den-otevrenych-dveri-na-ostravske-univerzite-3/
CATEGORIES:Ostrava
ATTACH;FMTTYPE=image/jpeg:https://tvorimevropu.showyourweb.cz/wp-content/uploads/2024/01/5891.jpg
END:VEVENT
BEGIN:VEVENT
DTSTART;TZID=UTC:20240126T080000
DTEND;TZID=UTC:20240126T150000
DTSTAMP:20260419T233236
CREATED:20240116T160356Z
LAST-MODIFIED:20240116T160356Z
UID:169955-1706256000-1706281200@tvorimevropu.showyourweb.cz
SUMMARY:Den otevřených dveří na VŠB-TUO
DESCRIPTION:Na Dnech otevřených dveří VŠB-TUO se představí všechny fakulty. Zájemci se tak budou moci seznámit  se s technickými\, ekonomickými\, přírodovědnými a uměleckými studijními programy\, setkají se se studenty\, studentkami a vyučujícími\, kteří je provedou nejen studiem na VŠB-TUO\, ale také studentským životem na VŠB-TUO. Těšit se tak zájemci mohou na přednášky a exkurze do pracovišť a laboratoří. \nPokud vás zajímá například studium EU\, doporučujeme navštívit budovu C\, kde bude mít své stanoviště Ekonomická fakulta VŠB-TUO.  Upozornění pro zájemce – Ekonomická fakulta je nyní přestěhovaná rovněž do areálu kampusu VŠB-TUO.
URL:https://tvorimevropu.showyourweb.cz/event/den-otevrenych-dveri-na-vsb-tuo-3/
CATEGORIES:Ostrava
ATTACH;FMTTYPE=image/png:https://tvorimevropu.showyourweb.cz/wp-content/uploads/2024/01/DOD_foto_2023_naweb.png
END:VEVENT
END:VCALENDAR