BEGIN:VCALENDAR
VERSION:2.0
PRODID:-//Tvoříme Evropu - ECPv6.15.0.1//NONSGML v1.0//EN
CALSCALE:GREGORIAN
METHOD:PUBLISH
X-WR-CALNAME:Tvoříme Evropu
X-ORIGINAL-URL:https://tvorimevropu.showyourweb.cz
X-WR-CALDESC:Akce na Tvoříme Evropu
REFRESH-INTERVAL;VALUE=DURATION:PT1H
X-Robots-Tag:noindex
X-PUBLISHED-TTL:PT1H
BEGIN:VTIMEZONE
TZID:UTC
BEGIN:STANDARD
TZOFFSETFROM:+0000
TZOFFSETTO:+0000
TZNAME:UTC
DTSTART:20240101T000000
END:STANDARD
END:VTIMEZONE
BEGIN:VEVENT
DTSTART;TZID=UTC:20240416T100000
DTEND;TZID=UTC:20240416T160000
DTSTAMP:20260420T051007
CREATED:20240411T125605Z
LAST-MODIFIED:20240411T125605Z
UID:170109-1713261600-1713283200@tvorimevropu.showyourweb.cz
SUMMARY:StuduJU & CestuJU
DESCRIPTION:Akce plná informací o výjezdech do zahraničí pro studenty Jihočeské univerzity v Českých Budějovicích se blíží a my budeme u toho! Přijďte se dozvědět podrobnosti o možnostech výjezdů do Evropské unie a poslechnout si zážitky ze stáže v Evropské komisi. \nAkce se uskuteční v úterý 16. dubna 2024 (od 10:00 do 16:00) ve vestibulu Akademické knihovny JU . na našem informačním stánku (který sdílíme s EUROPE DIRECT ČB) získáte informace o možnostech výjezdů podpořených Evropskou unií (výměny mládeže\, Evropský sbor solidarity\, stáže v institucích EU atd.). \nOd 13 hod. pak budeme mít prezentaci\, ve které shrneme možnosti výjezdů\, a podělíme se o své zkušenosti ze stáže v Evropské komisi. \nTěšíme se na Vás! \n \n 
URL:https://tvorimevropu.showyourweb.cz/event/studujucestuju-3/
CATEGORIES:České Budějovice
ATTACH;FMTTYPE=image/png:https://tvorimevropu.showyourweb.cz/wp-content/uploads/2024/04/StuduJU-CestuJU-nahledb.png
END:VEVENT
END:VCALENDAR