BEGIN:VCALENDAR
VERSION:2.0
PRODID:-//Tvoříme Evropu - ECPv6.15.0.1//NONSGML v1.0//EN
CALSCALE:GREGORIAN
METHOD:PUBLISH
X-WR-CALNAME:Tvoříme Evropu
X-ORIGINAL-URL:https://tvorimevropu.showyourweb.cz
X-WR-CALDESC:Akce na Tvoříme Evropu
REFRESH-INTERVAL;VALUE=DURATION:PT1H
X-Robots-Tag:noindex
X-PUBLISHED-TTL:PT1H
BEGIN:VTIMEZONE
TZID:UTC
BEGIN:STANDARD
TZOFFSETFROM:+0000
TZOFFSETTO:+0000
TZNAME:UTC
DTSTART:20240101T000000
END:STANDARD
END:VTIMEZONE
BEGIN:VEVENT
DTSTART;TZID=UTC:20240425T090000
DTEND;TZID=UTC:20240425T173000
DTSTAMP:20260420T052316
CREATED:20240411T111633Z
LAST-MODIFIED:20240411T111633Z
UID:170108-1714035600-1714066200@tvorimevropu.showyourweb.cz
SUMMARY:DOBROTYL
DESCRIPTION:Srdečně Vás zveme na akci DOBROTYL! \nAkce se bude konat 25. 4. od 9:00 do 17:30 na Tylově nábřeží. Budete mít možnost seznámit se s organizacemi\, které spolupracují s dobrovolníky\, zároveň si vyzkoušet kreativní workshopy a aktivity. Akci můžete také zakončit charitativním během. Eurocentrum HK bude prezentovat na stánku možnosti dobrovolnictví v zahraničí\, ale i dalších mobilit v rámci EU a síť Eurodesk. Akce se koná v rámci Dnů dobrovolnictví\, které probíhají od 25. do 28. dubna 2024 a Evropského týdne mládeže. \nTěšíme se na Vás!
URL:https://tvorimevropu.showyourweb.cz/event/dobrotyl-3/
CATEGORIES:Hradec Králové
END:VEVENT
BEGIN:VEVENT
DTSTART;VALUE=DATE:20240401
DTEND;VALUE=DATE:20240601
DTSTAMP:20260420T052316
CREATED:20240311T132204Z
LAST-MODIFIED:20240311T132204Z
UID:170050-1711929600-1717199999@tvorimevropu.showyourweb.cz
SUMMARY:Jak jsem zažil/a Evropu (literární soutěž)
DESCRIPTION:Potkali jste životní lásku na studijním pobytu Erasmus+? Vyjeli jste na pracovní stáž a získali díky tomu práci snů? Pomáhali jste jako dobrovolník v zahraničí a změnilo to Váš pohled na život? Napište nám o tom! \nNezáleží na tom\, zda jste změnili svět k lepšímu\, získali kamarády na celý život\, zažili nejlepší párty svého života nebo jen lépe poznali sami sebe. Napište nám svůj příběh\, jak jste zažili Evropu\, a vyhrajte skvělé ceny! \nLibovolnou formou (esej\, fejeton\, deník atp.) a v rozsahu alespoň 1 normostrany nám napište své zkušenosti\, příběhy a zážitky z různých evropských projektů a tři nejlepší z Vás odměníme otevřenými jízdenkami po Evropě od společnosti RegioJet v celkové hodnotě 6000 Kč! \nTermín soutěže: 1. 4. – 31. 5. 2024. \nSvé příběhy nám zasílejte na email: eurocentrum.hk@euroskop.cz\, případně nahrajte skrze formulář níže. Nezapomeňte uvést Vaše jméno\, příjmení\, kontakt\, termín a místo zahraniční mobility. Začátkem června vybereme nejlepší z účastníků a pozveme je na autorské čtení spojené s předáním cen vítězům! \nTěšíme se na Vaše příběhy! \nLiterární soutěže se mohou zúčastnit osoby ve věku 16 – 35 let\, které využily některou z možností mobilit v Evropské unii (studium\, výměnné pobyty a stáže přes program Erasmus+\, stáže v institucích EU\, Erasmus+ výměny mládeže\, dobrovolnictví v rámci Evropského sboru solidarity\, soutěž Discover EU aj.). \nAkce je organizována u příležitosti 20 let ČR v EU a Evropského týdne mládeže 2024. \nOrganizátorem soutěže je Eurocentrum Pardubice a Eurocentrum Hradec Králové. Partnerem akce je středisko Europe Direct Hradec Králové. Akce je podpořena sítí Eurodesk\, evropskou informační sítí pro mládež. Organizátoři jsou partnery této sítě. \n#20letvregionech \nPlakát ke stažení ZDE. \nPravidla soutěže naleznete ZDE. \n \n  \n\n	Upozornění: u tohoto obsahu je vyžadován JavaScript.
URL:https://tvorimevropu.showyourweb.cz/event/jak-jsem-zazila-evropu-literarni-soutez-3/
CATEGORIES:20 let v EU,Pardubice
END:VEVENT
BEGIN:VEVENT
DTSTART;TZID=UTC:20240320T090000
DTEND;TZID=UTC:20240320T150000
DTSTAMP:20260420T052316
CREATED:20240205T114858Z
LAST-MODIFIED:20240205T114858Z
UID:169986-1710925200-1710946800@tvorimevropu.showyourweb.cz
SUMMARY:Veletrh KONTAKT 2024
DESCRIPTION:KONTAKT 2024 je veletrh pracovních příležitostí pro studenty a absolventy Univerzity Pardubice. Je založen na osobním kontaktu mezi studenty a zástupci firem a odehrává se přímo v prostorách Univerzity Pardubice. KONTAKT 2024 nabízí studentům aktuální pracovní pozice\, stáže a brigády\, konzultace životopisů\, pohovory nanečisto i různé soutěže. \nKdy: středa 20. března 2024 od 9:00 do 15:00 hodin \nKde: Aula Univerzity Pardubice a areál Fakulty chemicko-technologické Univerzity Pardubice \nNa veletrhu nebude chybět tradiční stánek Eurocentra Pardubice\, sítě EURODESK ČR a EURES Úřadu práce ČR s informacemi o EU a mobilitách – možnostech studia\, práce\, stáží a dobrovolnictví nejen v zemích EU\, stejně jako o možnostech kariéry v EU institucích. Cílem těchto aktivit je informovat o možnostech práce v institucích EU a motivovat studenty k zapojení do navazujících seminářů\, které se budou specializovat přímo na výběrová řízení EPSO. Dalším cílem je poskytování informací o nadcházejících volbách do Evropského parlamentu\, oslavách 20 let ČR v EU i Evropského týdnu mládeže 2024 (12. – 19. dubna 2024). \nNa stánku budou probíhat osobní konzultace s návštěvníky veletrhu a distribuce informačních materiálů a brožur. Doprovodnou aktivitou budou soutěže o drobné ceny Eurocentra Pardubice a sítě EURODESK. \nAkci pořádá Fakulta chemicko-technologická a Fakulta ekonomicko-správní Univerzity Pardubice. \n \n 
URL:https://tvorimevropu.showyourweb.cz/event/veletrh-kontakt-2024-3/
CATEGORIES:Pardubice
ATTACH;FMTTYPE=image/webp:https://tvorimevropu.showyourweb.cz/wp-content/uploads/2024/02/kontakt-baner-na-web86162.png.webp
END:VEVENT
END:VCALENDAR