BEGIN:VCALENDAR
VERSION:2.0
PRODID:-//Tvoříme Evropu - ECPv6.15.0.1//NONSGML v1.0//EN
CALSCALE:GREGORIAN
METHOD:PUBLISH
X-WR-CALNAME:Tvoříme Evropu
X-ORIGINAL-URL:https://tvorimevropu.showyourweb.cz
X-WR-CALDESC:Akce na Tvoříme Evropu
REFRESH-INTERVAL;VALUE=DURATION:PT1H
X-Robots-Tag:noindex
X-PUBLISHED-TTL:PT1H
BEGIN:VTIMEZONE
TZID:UTC
BEGIN:STANDARD
TZOFFSETFROM:+0000
TZOFFSETTO:+0000
TZNAME:UTC
DTSTART:20230101T000000
END:STANDARD
END:VTIMEZONE
BEGIN:VEVENT
DTSTART;TZID=UTC:20240522T080000
DTEND;TZID=UTC:20240522T170000
DTSTAMP:20260420T051113
CREATED:20240423T204705Z
LAST-MODIFIED:20240423T204705Z
UID:170130-1716364800-1716397200@tvorimevropu.showyourweb.cz
SUMMARY:Společně zlepšujeme život v regionech již 20 let!
DESCRIPTION:Přijďte se podívat jak to děláme. Společná akce v Karlovarském kraji k 20 letům ČR v EU. \nDopoledne je vyhrazeno pro studentky a studenty karlovarských středních škol\, odpoledne pro veřejnost. Cílem akce je seznámit je s přípravou a realizací projektů financovaných z evropských fondů. Budete mít možnost konzultace projektového záměru. \n \nPodrobněji na webu https://crr.gov.cz/kalendar/slavime-20-let-eu-v-regionech-testovaci-kraj/ \nPartneři akce: \nCentrum pro regionální rozvoj ČR v Karlovarském kraji \nEurocentrum Karlovy Vary \nMinisterstvo pro místní rozvoj ČR \nÚřad vlády ČR
URL:https://tvorimevropu.showyourweb.cz/event/spolecne-zlepsujeme-zivot-v-regionech-jiz-20-let-3/
CATEGORIES:Karlovy Vary
END:VEVENT
BEGIN:VEVENT
DTSTART;TZID=UTC:20230523T140000
DTEND;TZID=UTC:20230523T160000
DTSTAMP:20260420T051113
CREATED:20230516T105151Z
LAST-MODIFIED:20230516T105151Z
UID:169763-1684850400-1684857600@tvorimevropu.showyourweb.cz
SUMMARY:Teritoriální seminář ve Zlíně - Mexiko\, Kolumbie\, Guatemala a Panama
DESCRIPTION:  \nVážená paní\, vážený pane\, \n  \ndovolujeme si Vás srdečně pozvat na teritoriální seminář\, který je zaměřen na obchodní příležitosti pro české firmy na trzích Mexika\, Kolumbie\, Panamy a Guatemaly. Tento seminář pořádáme ve spolupráci s Ministerstvem zahraničních věcí ČR. \nAkce se uskuteční ve Zlíně dne 23. května od 14 do cca 16 hodin v expozici (přízemí) budovy Krajského úřadu Zlínského kraje (budova č. 21\, Tř. Tomáše Bati). Seminář je ideální příležitostí pro firmy\, které se zajímají o rozšíření svého obchodního portfolia v Latinské Americe. \n  \nV úvodní části vystoupí zástupce Ministerstva zahraničních věcí\, který Vám krátce představí nástroje na podporu exportu ze strany státu. Informace o příležitostech na mexickém a guatemalském trhu Vám předá Zuzana Stiborová\, ekonomická diplomatka Velvyslanectví ČR v Mexiku. o možnostech spolupráce na kolumbijském a panamském trhu se online podělí Bohdan Malaniuk\, ekonomický diplomat Velvyslanectví ČR v Bogotě. Hosté Vám představí aktuální obchodní a investiční příležitosti na jednotlivých trzích\, seznámí Vás s kulturou obchodního jednání a specifiky trhů jednotlivých zemí. \n  \nPo skončení prezentací budete mít možnost individuální konzultace s paní Zuzanou Stiborovou ze ZÚ Mexiko. \n  \nZákladní informace o jednotlivých trzích naleznete v aktuální Souhrnné teritoriální informaci zpracované pro Mexiko\, Kolumbii\, Guatemalu a Panamu. \n  \nÚčast na tomto semináři je ZDARMA\, ale počet míst je omezen. Proto prosím potvrďte Vaši účast nejpozději do 19.5.2023 na e-mailu: lavrovicova@khkzk.cz. \n  \nPokud již na výše uvedených trzích působíte\, budeme rádi\, když se podělíte o své zkušenosti. \n  \nTěšíme se na setkání s Vámi.  Krajská hospodářská komora Zlín
URL:https://tvorimevropu.showyourweb.cz/event/teritorialni-seminar-ve-zline-mexiko-kolumbie-guatemala-a-panama-3/
CATEGORIES:Zlín
ATTACH;FMTTYPE=image/jpeg:https://tvorimevropu.showyourweb.cz/wp-content/uploads/2022/01/28330-120-setkani_ministru_cr_a_japonska_007_3.jpg
END:VEVENT
END:VCALENDAR