BEGIN:VCALENDAR
VERSION:2.0
PRODID:-//Tvoříme Evropu - ECPv6.15.0.1//NONSGML v1.0//EN
CALSCALE:GREGORIAN
METHOD:PUBLISH
X-ORIGINAL-URL:https://tvorimevropu.showyourweb.cz
X-WR-CALDESC:Akce na Tvoříme Evropu
REFRESH-INTERVAL;VALUE=DURATION:PT1H
X-Robots-Tag:noindex
X-PUBLISHED-TTL:PT1H
BEGIN:VTIMEZONE
TZID:UTC
BEGIN:STANDARD
TZOFFSETFROM:+0000
TZOFFSETTO:+0000
TZNAME:UTC
DTSTART:20230101T000000
END:STANDARD
END:VTIMEZONE
BEGIN:VEVENT
DTSTART;VALUE=DATE:20240108
DTEND;VALUE=DATE:20240201
DTSTAMP:20260420T033025
CREATED:20240122T084651Z
LAST-MODIFIED:20240122T084651Z
UID:169973-1704672000-1706745599@tvorimevropu.showyourweb.cz
SUMMARY:Výstava "Výlet do Španělska"
DESCRIPTION:Celý leden si můžete v prostorách Knihovny Ústeckého kraje prohlédnout výtvarná díla žáků základních škol z Ústeckého kraje\, kteří nakreslili\, jak by vypadal jejich výlet do slunného Španělska. \nDesítky krásných obrázků\, nacházejících se ve Wolfrumově čítárně\, Vás zavedou na španělské pláže\, do prosluněných španělských měst\, ale také na fotbal slavných španělských klubů. Výstava je k vidění do konce ledna. Vstup je zdarma. \n         \n  \n  \n  \n 
URL:https://tvorimevropu.showyourweb.cz/event/vystava-vylet-do-spanelska-3/
CATEGORIES:Ústí nad Labem
ATTACH;FMTTYPE=image/png:https://tvorimevropu.showyourweb.cz/wp-content/uploads/2024/01/Vystava-Vylet-do-Spanelska.png
END:VEVENT
BEGIN:VEVENT
DTSTART;VALUE=DATE:20231003
DTEND;VALUE=DATE:20231201
DTSTAMP:20260420T033025
CREATED:20231003T061015Z
LAST-MODIFIED:20231003T061015Z
UID:169893-1696291200-1701388799@tvorimevropu.showyourweb.cz
SUMMARY:Výtvarná soutěž: Výlet do Španělska
DESCRIPTION:Pro žáky základních škol Ústeckého kraje připravilo Eurocentrum Ústí nad Labem výtvarnou soutěž o ceny na téma „Výlet do Španělska“. \n \nSlunce\, teplo\, moře\, hory a města\, to je Španělsko! v této prosluněné zemi najdete plno zajímavých míst\, která stojí za to vidět. a co je pro Španělsko typické? Fotbal\, paella\, býčí zápasy\, tanec flamenco\, písčité pláže a krásná města jako je třeba Barcelona. \nNakreslete\, jak by vypadal váš výlet do slunného Španělska. Výherci dostanou hodnotné ceny a navíc všechny zaslané obrázky budou vystaveny v lednu 2024 v Knihovně Ústeckého kraje v Ústí nad Labem.  \nPravidla soutěže: \n\nKaždý soutěžící může poslat jedno soutěžní dílo zpracované jakoukoli výtvarnou technikou.\nSoutěžní díla posílejte poštou na adresu Eurocentrum Ústí nad Labem\, Velká Hradební 48\, 400 01 Ústí nad Labem nebo na e-mail eurocentrum.ul@euroskop.cz\nNa každém díle musí být uvedeno jméno a příjmení autora\, věk/třída\, kontakt na školu a pedagoga.\nSoutěž probíhá do 30. listopadu 2023. \nSoutěž je rozdělena do dvou kategorií – 1. stupeň ZŠ (3 výherci) a 2. stupeň ZŠ (tři výherci). Výherci budou vybráni odbornou porotou. Výhry budou odeslány na adresu školy\, kde je pedagog předá žákovi.\nSoutěž probíhá v rámci předsednictví Španělska v Radě EU.
URL:https://tvorimevropu.showyourweb.cz/event/vytvarna-soutez-vylet-do-spanelska-3/
CATEGORIES:Ústí nad Labem
ATTACH;FMTTYPE=image/jpeg:https://tvorimevropu.showyourweb.cz/wp-content/uploads/2022/01/23459-henderson_v_telci_480.jpg
END:VEVENT
BEGIN:VEVENT
DTSTART;VALUE=DATE:20230919
DTEND;VALUE=DATE:20231016
DTSTAMP:20260420T033025
CREATED:20230919T074058Z
LAST-MODIFIED:20230919T074058Z
UID:169879-1695081600-1697414399@tvorimevropu.showyourweb.cz
SUMMARY:Soutěž: Poznejte Španělsko
DESCRIPTION:Španělsko je slunná země plná zajímavých míst k poznání\, která jsou výjimečná unikátní architekturou a vzhledem. Zároveň zde najdete nevšední přírodní úkazy nebo ostrovy s nádhernými plážemi. \n Zkuste poznat šest známých míst Španělska a vyhrajte skvělé ceny!  \nPravidla soutěže: \n\nSoutěž probíhá do 15. 10. 2023. \nVaše odpovědi posílejte na e-mail: eurocentrum.ul@euroskop.cz\nSlosování proběhne v druhé polovině října 2023. Ze správných odpovědí budou vylosování tři výherci\, kteří budou kontaktování e-mailem. Výhry budou odeslány do konce října 2023.\nVýhry odesíláme pouze na území České republiky\, do zahraničí není možné výhry zaslat.\n\nSoutěž se koná v rámci předsednictví Španělska v Radě EU\, které trvá do 31. 12. 2023. Více informací o španělském předsednictví se dozvíte ZDE.
URL:https://tvorimevropu.showyourweb.cz/event/soutez-poznejte-spanelsko-3/
CATEGORIES:Ústí nad Labem
ATTACH;FMTTYPE=:
END:VEVENT
END:VCALENDAR