BEGIN:VCALENDAR
VERSION:2.0
PRODID:-//Tvoříme Evropu - ECPv6.15.0.1//NONSGML v1.0//EN
CALSCALE:GREGORIAN
METHOD:PUBLISH
X-ORIGINAL-URL:https://tvorimevropu.showyourweb.cz
X-WR-CALDESC:Akce na Tvoříme Evropu
REFRESH-INTERVAL;VALUE=DURATION:PT1H
X-Robots-Tag:noindex
X-PUBLISHED-TTL:PT1H
BEGIN:VTIMEZONE
TZID:UTC
BEGIN:STANDARD
TZOFFSETFROM:+0000
TZOFFSETTO:+0000
TZNAME:UTC
DTSTART:20240101T000000
END:STANDARD
END:VTIMEZONE
BEGIN:VEVENT
DTSTART;VALUE=DATE:20240206
DTEND;VALUE=DATE:20240614
DTSTAMP:20260420T053548
CREATED:20240206T081446Z
LAST-MODIFIED:20240206T081446Z
UID:169994-1707177600-1718323199@tvorimevropu.showyourweb.cz
SUMMARY:Moje město Liberec: 7 tváří Liberce
DESCRIPTION:Již 33. ročník soutěže pro 2. stupeň ZŠ v Liberci a okolí je tu! \n\n\n\nLiberec\, malebné město zasazené ve středu Evropy na pomezí polských a německých hranic\, ukrývá spoustu zajímavostí. Tentokrát ho budeme poznávat podle jeho počátečních písmen. Pojďte zjistit\, co třeba o našem krásném městě ještě nevíte.  Přihlaste se do soutěže\, vyplňte soutěžní arch\, udělejte pár fotek\, videí a vyhrajte zajímavé ceny! \n\n\n\nTéma: 7 tváří Liberce aneb Liberec lyžařský\, industriální\, barevný\, evropský\, romantický\, ekologický a cool! \n \n\n\n\nO co jde?\n\n\n\nPro každý dvoučlenný tým je připraven soutěžní arch\, který obsahuje 7 okruhů pro vypracování. Vaším cílem bude zodpovědět a splnit jich co nejvíce. Čím více se vám jich podaří dokončit\, tím větší budete mít šanci na výhru. Zvítězí tým\, který získá největší počet bodů. Veškeré podklady k soutěži včetně propozic si můžete stáhnout níže na této stránce. Máme dvě soutěžní kategorie: I. kategorie: 6. a 7. třída ZŠ; prima a sekunda gymnázií a II. kategorie: 8. a 9. třída ZŠ; tercie a kvarta gymnázií.  \n\nDůležité termíny: \n\n\n\nTermín zveřejnění soutěžních materiálů: 6. 2. 2024 \n\n\n\nTermín odevzdání přihlášek: 12. 4. 2024 \n\n\n\nTermín odevzdání soutěžních archů: 23. 5. 2024 \n\n\n\nVyhlášení výsledků: 13. 6. 2024 od 16:00 ve V-klubu Liberec \n\n\n\nPodklady:\nMoje město Liberec 2024 pravidla soutěže: MML-2024-PROPOZICE \nMoje město Liberec 2024 soutěžní otázky: MML-2024-SOUTEZNI-ARCH \nMoje město Liberec 2024 přihláška: MML-2024-PRIHLASKA \n  \n\n\n\n 
URL:https://tvorimevropu.showyourweb.cz/event/moje-mesto-liberec-7-tvari-liberce-3/
CATEGORIES:Liberec
END:VEVENT
END:VCALENDAR