BEGIN:VCALENDAR
VERSION:2.0
PRODID:-//Tvoříme Evropu - ECPv6.15.0.1//NONSGML v1.0//EN
CALSCALE:GREGORIAN
METHOD:PUBLISH
X-WR-CALNAME:Tvoříme Evropu
X-ORIGINAL-URL:https://tvorimevropu.showyourweb.cz
X-WR-CALDESC:Akce na Tvoříme Evropu
REFRESH-INTERVAL;VALUE=DURATION:PT1H
X-Robots-Tag:noindex
X-PUBLISHED-TTL:PT1H
BEGIN:VTIMEZONE
TZID:UTC
BEGIN:STANDARD
TZOFFSETFROM:+0000
TZOFFSETTO:+0000
TZNAME:UTC
DTSTART:20240101T000000
END:STANDARD
END:VTIMEZONE
BEGIN:VEVENT
DTSTART;TZID=UTC:20240529T080000
DTEND;TZID=UTC:20240618T235900
DTSTAMP:20260420T053500
CREATED:20240529T110819Z
LAST-MODIFIED:20240529T110819Z
UID:170191-1716969600-1718755140@tvorimevropu.showyourweb.cz
SUMMARY:Soutěž: 20 let spolu v Evropě
DESCRIPTION:Soutěžní kvíz přes Kahoot! k příležitosti 20 let České republiky v Evropské unii je určen  pro každého\, kdo rád soutěží a chce se dozvědět více o EU a Evropě! \nPravidla soutěže:\n\nKvíz obsahu 10 otázek. Získejte alespoň 4500 bodů a dostanete se do slosování o deskovou stolní hru „Jízdenky prosím! Evropa“ Pro to abyste ji mohli vyhrát je na konci nutné vyplnit vaše kontaktní údaje. Po ukončení soutěže výherce budeme kontaktovat. v případě\, že neodpoví do 7 dní\, tak jeho nárok na výhru propadá a budeme kontaktovat náhradníka. Soutěžíme do 18.06. \nKvíz naleznete ZDE\, nebo můžete zadat soutěžní pin 04319697 na kahoot.it
URL:https://tvorimevropu.showyourweb.cz/event/20-let-spolu-v-evrope-3/
CATEGORIES:Liberec
END:VEVENT
END:VCALENDAR