BEGIN:VCALENDAR
VERSION:2.0
PRODID:-//Tvoříme Evropu - ECPv6.15.0.1//NONSGML v1.0//EN
CALSCALE:GREGORIAN
METHOD:PUBLISH
X-ORIGINAL-URL:https://tvorimevropu.showyourweb.cz
X-WR-CALDESC:Akce na Tvoříme Evropu
REFRESH-INTERVAL;VALUE=DURATION:PT1H
X-Robots-Tag:noindex
X-PUBLISHED-TTL:PT1H
BEGIN:VTIMEZONE
TZID:UTC
BEGIN:STANDARD
TZOFFSETFROM:+0000
TZOFFSETTO:+0000
TZNAME:UTC
DTSTART:20240101T000000
END:STANDARD
END:VTIMEZONE
BEGIN:VEVENT
DTSTART;TZID=UTC:20240222T140000
DTEND;TZID=UTC:20240222T170000
DTSTAMP:20260420T033249
CREATED:20240208T111356Z
LAST-MODIFIED:20240208T111356Z
UID:169996-1708610400-1708621200@tvorimevropu.showyourweb.cz
SUMMARY:Solidarita každý den
DESCRIPTION:Nejen v Karlových Varech\, ale i v odlehlejších částech Karlovarského kraje se setkáváme s veřejností. \nZveme Vás tentokrát na tematickou debatu a workshop do Kraslic do Klubu Aktiv ve čtvrtek 22. února. \nJedná se o akci zaměřenou zejména na mládež od 12 do 26 let a pracovníky s mládeží\, ale i veřejnost. Akce začne ve 14 hodin představením Eurocentra a EUROPE DIRECT Karlovy Vary a jeho činností. Dále bude následovat přednáška a workshop o solidaritě a adaptaci v každodenním životě a diskuse na toto téma. Akci doprovodí promítání zajímavého dokumentárního filmu z programu Promítej i ty! na závěr akce bude zábavný kvíz o probírané tematice\, ale i o evropských zemích s cenami. \nTuto akci pořádáme společně s organizací Člověk v tísni Karlovarský kraj\, Klubem Aktiv a Eurodeskem ČR.
URL:https://tvorimevropu.showyourweb.cz/event/solidarita-kazdy-den-3/
CATEGORIES:Karlovy Vary
ATTACH;FMTTYPE=image/jpeg:https://tvorimevropu.showyourweb.cz/wp-content/uploads/2024/02/oprava_421969996_837640858167193_5206693955431345450_n-e1707480412469.jpg
END:VEVENT
BEGIN:VEVENT
DTSTART;TZID=UTC:20240206T120000
DTEND;TZID=UTC:20240206T150000
DTSTAMP:20260420T033249
CREATED:20240205T124955Z
LAST-MODIFIED:20240205T124955Z
UID:169987-1707220800-1707231600@tvorimevropu.showyourweb.cz
SUMMARY:Jak na solidární projekty s mydlárnou U Dvou koček
DESCRIPTION:Tuto a další otázky zodpoví ekologický workshop v mydlárně u Dvou koček\, který si připravilo Eurocentrum Pardubice a Eurocentrum Hradec Králové jako partneři sítě Eurodesk ČR ve spolupráci s mydlárnou u Dvou koček s.r.o. v Hradci Králové. \nCílem workshopu je poukázat na tradiční způsoby výroby mýdla a dalších kosmetických výrobků\, které přispívají k ochraně životního prostředí. Po skončení workshopu dojde na představení tzv. solidárních projektů nejen ekologického zaměření s celoevropským přesahem\, které vymyslí sami studenti a na které mohou v případě zájmu získat grant z programu Evropský sbor solidarity\, administrovaný Domem zahraniční spolupráce. \nNa konci obou workshopů dojde k představení dalších příležitostí pro mladé v EU a k soutěži o drobné ceny Eurocenter a sítě Eurodesk Česká republika. \n 
URL:https://tvorimevropu.showyourweb.cz/event/jak-na-solidarni-projekty-s-mydlarnou-u-dvou-kocek-3/
CATEGORIES:Pardubice
END:VEVENT
END:VCALENDAR