BEGIN:VCALENDAR
VERSION:2.0
PRODID:-//Tvoříme Evropu - ECPv6.15.0.1//NONSGML v1.0//EN
CALSCALE:GREGORIAN
METHOD:PUBLISH
X-WR-CALNAME:Tvoříme Evropu
X-ORIGINAL-URL:https://tvorimevropu.showyourweb.cz
X-WR-CALDESC:Akce na Tvoříme Evropu
REFRESH-INTERVAL;VALUE=DURATION:PT1H
X-Robots-Tag:noindex
X-PUBLISHED-TTL:PT1H
BEGIN:VTIMEZONE
TZID:Europe/Prague
BEGIN:DAYLIGHT
TZOFFSETFROM:+0100
TZOFFSETTO:+0200
TZNAME:CEST
DTSTART:20240331T010000
END:DAYLIGHT
BEGIN:STANDARD
TZOFFSETFROM:+0200
TZOFFSETTO:+0100
TZNAME:CET
DTSTART:20241027T010000
END:STANDARD
BEGIN:DAYLIGHT
TZOFFSETFROM:+0100
TZOFFSETTO:+0200
TZNAME:CEST
DTSTART:20250330T010000
END:DAYLIGHT
BEGIN:STANDARD
TZOFFSETFROM:+0200
TZOFFSETTO:+0100
TZNAME:CET
DTSTART:20251026T010000
END:STANDARD
END:VTIMEZONE
BEGIN:VTIMEZONE
TZID:UTC
BEGIN:STANDARD
TZOFFSETFROM:+0000
TZOFFSETTO:+0000
TZNAME:UTC
DTSTART:20240101T000000
END:STANDARD
END:VTIMEZONE
BEGIN:VEVENT
DTSTART;VALUE=DATE:20250402
DTEND;VALUE=DATE:20250417
DTSTAMP:20260420T013736
CREATED:20250221T104721Z
LAST-MODIFIED:20250221T104721Z
UID:170415-1743552000-1744847999@tvorimevropu.showyourweb.cz
SUMMARY:Velikonoce v EU (cyklus přednášek)
DESCRIPTION:Eurocentrum Pardubice pořádá cyklus přednášek VELIKONOCE v ZEMÍCH EU pro žáky základních škol a seniorkluby v Pardubickém kraji! \nPojďte s námi nahlédnout pod pokličku velikonočních pokrmů zemí Evropské unie a seznámit se s rozmanitostí oslav velikonočních svátků v členských státech EU\, jejich různými tradicemi a zvyky. \nOblíbené přednášky seznamují žáky základních škol a seniory v regionu s velikonočními zvyky a tradicemi napříč Evropou. \nVelikonoce patří v celé Evropě mezi nejvýznamnější svátky roku\, nicméně při velikonočních oslavách si každá členská země EU zachovává své tradice. Ne všude chodí chlapci koledovat s pomlázkou\, a ne všude se peče mazanec. Jak to tedy v jiných zemích o Velikonocích vypadá? Přijďte se vše dozvědět na naši přednášku! \nŽáci a senioři budou během přednášky aktivně zapojeni a na konci je čeká kvíz nebo samostatná práce\, případně hra Riskuj o Velikonocích v EU! \nRezervaci Vaší třídy či skupiny provádějte telefonicky na čísle (+420) 720 970 600 nebo e-mailem na lucie.boukalova@vlada.gov.cz. \nTěšíme se na vás!
URL:https://tvorimevropu.showyourweb.cz/event/velikonoce-v-eu-cyklus-prednasek-4-3/
CATEGORIES:Pardubice
END:VEVENT
BEGIN:VEVENT
DTSTART;VALUE=DATE:20250303
DTEND;VALUE=DATE:20250401
DTSTAMP:20260420T013736
CREATED:20250303T120024Z
LAST-MODIFIED:20250303T120024Z
UID:170420-1740960000-1743465599@tvorimevropu.showyourweb.cz
SUMMARY:Andersen na cestě po Evropě (soutěžní kvíz)
DESCRIPTION:Putujte společně s Andersenem a naším soutěžním kvízem po Evropě! \nU příležitosti již 25. ročníku tradiční mezinárodní akce Noc s Andersenem jsme si pro vás připravili kvíz ze světa evropských pohádek. Úkolem dětských soutěžících je vyplnit krátký kvíz a pak už si jen držet pěsti při losování! \nVyhrát můžete deskové hry\, knížky a další zajímavé ceny. Soutěž je určena pouze pro děti a mladistvé mladší 18 let. v každém kraji budou vybráni 3 výherci\, kteří obdrží věcné ceny! \nSoutěž probíhá od 3. do 31. března 2025. \nSoutěžní kvíz naleznete zde: https://forms.gle/bE6JGhF8oSRbvhZ39. Kvíz je možné najít i v papírové podobě ve vybraných knihovnách po celé ČR\, které jsou zapojené do akce Noc s Andersenem 2025.  \nPravidla soutěže ke stažení ZDE\, plakát ke stažení ZDE. \nAkce je spojena s výročím dánského pohádkáře H. Ch. Andersena a s Mezinárodním dnem dětské knihy. K podpoře dětského čtenářství ji pořádá Klub dětských knihoven SKIP ČR. \nPřejeme hodně štěstí\, zábavy a poučení!
URL:https://tvorimevropu.showyourweb.cz/event/andersen-na-ceste-po-evrope-soutezni-kviz-3/
CATEGORIES:Pardubice
END:VEVENT
BEGIN:VEVENT
DTSTART;TZID=Europe/Prague:20241213T130000
DTEND;TZID=Europe/Prague:20241213T143000
DTSTAMP:20260420T013736
CREATED:20241202T172100Z
LAST-MODIFIED:20241202T172100Z
UID:170377-1734094800-1734100200@tvorimevropu.showyourweb.cz
SUMMARY:Historie a současnost Maďarska očima novináře
DESCRIPTION:Eurocentrum Pardubice zve všechny zájemce na odborný seminář pro studenty Univerzity Pardubice – Univerzity třetího věku. \nBeseda se uskuteční dne 13. prosince 2024 v době od 13:00 do 14:30 hodin v prostorách Dopravní fakulty Jana Pernera Univerzity Pardubice\, učebně B5. na konci příspěvku nebude chybět ani diskuse s účastníky. \nCílovou skupinou jsou primárně studenti Univerzity Pardubice a senioři. \nCílem akce je zvýšit povědomí o současných\, nejvíce diskutovaných evropských tématech\, kulturních rozmanitostech Evropy a činnosti sítě Eurocenter. \nPozvání na akci přijal Luboš Palata\, novinář a odborník na střední a východní Evropu\, Seznam.cz. \nAkce je organizována u příležitosti končícího maďarského předsednictví v Radě EU.
URL:https://tvorimevropu.showyourweb.cz/event/historie-a-soucasnost-madarska-ocima-novinare-3/
CATEGORIES:Pardubice
END:VEVENT
BEGIN:VEVENT
DTSTART;TZID=UTC:20241004T130000
DTEND;TZID=UTC:20241004T143000
DTSTAMP:20260420T013736
CREATED:20240930T161238Z
LAST-MODIFIED:20240930T161238Z
UID:170300-1728046800-1728052200@tvorimevropu.showyourweb.cz
SUMMARY:Vliv orientu na evropskou zahradní tvorbu
DESCRIPTION:Eurocentrum Pardubice zve všechny zájemce na odborný seminář pro studenty Univerzity Pardubice – Univerzity třetího věku. \nBeseda se uskuteční dne 4. října 2024 v době od 13:00 do 14:30 hodin v prostorách Dopravní fakulty Jana Pernera Univerzity Pardubice\, učebně B5. na konci příspěvku nebude chybět ani diskuse s účastníky. \nCílovou skupinou jsou primárně studenti Univerzity Pardubice a senioři. \nCílem akce je zvýšit povědomí o současných\, nejvíce diskutovaných evropských tématech\, kulturních rozmanitostech Evropy a činnosti sítě Eurocenter. \nPozvání na akci přijal Ing. Bc. Aleš Papáček\, Národní památkový ústav ČR. \nAkce také tematicky odpovídá prioritám Národního konventu o EU. Národní konvent o Evropské unii je diskuzní platforma\, která představuje stálé místo pro debatu o evropských otázkách v ČR a koordinaci pozice ČR v EU. Činnost Národního konventu probíhá formou konferencí\, kulatých stolů a veřejných debat (seminářů) v Praze a v regionech České republiky.
URL:https://tvorimevropu.showyourweb.cz/event/vliv-orientu-na-evropskou-zahradni-tvorbu-3/
CATEGORIES:Pardubice
END:VEVENT
BEGIN:VEVENT
DTSTART;VALUE=DATE:20240930
DTEND;VALUE=DATE:20241004
DTSTAMP:20260420T013736
CREATED:20240912T123205Z
LAST-MODIFIED:20240912T123205Z
UID:170267-1727654400-1727999999@tvorimevropu.showyourweb.cz
SUMMARY:Evropský den jazyků na ZŠ
DESCRIPTION:Eurocentrum Pardubice ve spolupráci se základními školami v Pardubickém kraji oslavuje Evropský den jazyků! Kolik jazyků umíš\, tolikrát jsi člověkem aneb hravá dopoledne ušitá na míru žákům ZŠ v Pardubickém kraji\, kteří si vyzkouší základní fráze ve vybraných evropských jazycích. \nKolik je v EU zemí a kolik oficiálních jazyků? Kde se mluví více jazyky? Jaký je rozdíl mezi jazykem a nářečím? Co jsou to jazykové rodiny a proč je důležité učit se cizím jazykům? \nPro žáky ZŠ v kraji jsou v měsíci září a říjnu připraveny zajímavosti\, kvízy\, rébusy\, hry a hádanky spojené s vybranými evropskými jazyky. Nebude chybět poznávání nejen jazyků\, ale i evropských zemí\, a to prostřednictvím zábavné hry Riskuj! \nCílem Evropského dne jazyků je motivovat žáky a veřejnost učit se cizí jazyky\, informovat o možnostech cestování v Evropské unii\, vyzkoušet si praktické znalosti a porozumět kulturní rozmanitosti v Evropě. \nNeváhejte a rezervujte si program pro svoji školu e-mailem: lucie.boukalova@vlada.gov.cz či telefonicky: (+420) 720 970 600. \nTěšíme se na setkání v novém školním roce!
URL:https://tvorimevropu.showyourweb.cz/event/evropsky-den-jazyku-na-zs-3/
CATEGORIES:Pardubice
END:VEVENT
BEGIN:VEVENT
DTSTART;VALUE=DATE:20240925
DTEND;VALUE=DATE:20240926
DTSTAMP:20260420T013736
CREATED:20240917T084121Z
LAST-MODIFIED:20240917T084121Z
UID:170280-1727222400-1727308799@tvorimevropu.showyourweb.cz
SUMMARY:Evropský den jazyků 2024
DESCRIPTION:Přijďte si užít hravé a naučné dopoledne plné zajímavostí\, kvízů a soutěží s našimi partnery do centra Pardubic\, protože Eurocentrum Pardubice a Europe Direct Pardubice ve spolupráci s jazykovými centry oslavují Evropský den jazyků 2024! \n \nKolik jazyků umíš\, tolikrát jsi člověkem aneb hravá dopoledne ušitá na míru žákům ZŠ/SŠ v Pardubickém kraji\, kteří si vyzkouší základní fráze ve vybraných evropských jazycích\, a nejen to! \nPřipraveny budou soutěžní aktivity zaměřené na poznávání různých evropských jazyků. Představeny budou následující jazyky: angličtina\, francouzština\, němčina\, španělština\, ale také portugalština\, ukrajinština\, esperanto a znaková řeč! Nebude chybět ani zábavný FOTOkoutek a EUROkoutek pořadatelů – Eurocentra Pardubice a Europe Direct Pardubice s jazykovými aktivitami napříč Evropou. \nOsm škol z Pardubicka tak navštíví nejen jazyková centra Evropského spolkového domu na Pernštýnském náměstí v Pardubicích. \nCílem Evropského dne jazyků je motivovat žáky a studenty učit se cizí jazyk\, informovat o možnostech cestování v Evropské unii\, vyzkoušet si praktické znalosti a porozumět kulturní rozmanitosti v Evropě.  \nKdy: 25. září 2024 \nKde: Evropský spolkový dům\, Pernštýnské nám. 55\, 530 02 Pardubice I \nKapacita omezena! v případě zájmu prosíme o registraci zde: europedirect@ticpardubice.cz. \nTěšíme se na setkání! \n \n 
URL:https://tvorimevropu.showyourweb.cz/event/evropsky-den-jazyku-2024-2-3/
CATEGORIES:Pardubice
END:VEVENT
END:VCALENDAR