BEGIN:VCALENDAR
VERSION:2.0
PRODID:-//Tvoříme Evropu - ECPv6.15.0.1//NONSGML v1.0//EN
CALSCALE:GREGORIAN
METHOD:PUBLISH
X-WR-CALNAME:Tvoříme Evropu
X-ORIGINAL-URL:https://tvorimevropu.showyourweb.cz
X-WR-CALDESC:Akce na Tvoříme Evropu
REFRESH-INTERVAL;VALUE=DURATION:PT1H
X-Robots-Tag:noindex
X-PUBLISHED-TTL:PT1H
BEGIN:VTIMEZONE
TZID:UTC
BEGIN:STANDARD
TZOFFSETFROM:+0000
TZOFFSETTO:+0000
TZNAME:UTC
DTSTART:20240101T000000
END:STANDARD
END:VTIMEZONE
BEGIN:VEVENT
DTSTART;TZID=UTC:20240418T093000
DTEND;TZID=UTC:20240418T170000
DTSTAMP:20260420T031853
CREATED:20240409T122402Z
LAST-MODIFIED:20240409T122402Z
UID:170104-1713432600-1713459600@tvorimevropu.showyourweb.cz
SUMMARY:reVIZE
DESCRIPTION:Celokrajská ideová konference pro Karlovarský kraj\nZástupci kraje chtějí vzájemně propojit\, inspirovat a společně diskutovat o budoucnosti našeho kraje. Leitmotivem akce je návrat do budoucnosti aneb Karlovarský kraj v roce 2030\, protože v tomto roce by měly být dokončeny klíčové investiční projekty jako např. dostavba dálnice D6\, ale také strategické projekty z Operačního programu Spravedlivá transformace. \nPotkejte na jednom místě lidi z regionu\, kteří mají zdroje\, vliv a expertízu. Karlovarský kraj zve účastníky ze všech možných sfér – od podnikatelů přes politiky až po ředitele škol\, lidi z neziskového sektoru a další\, protože jejich spolupráce je důležitá. Jednou z hostek bude vedoucí Zastoupení Evropské komise v ČR\, která jistě připomene letošní výročí 20 let ČR v EU. \nProgram je rozdělený do čtyř hlavních bloků a je postavený tak\, aby pokryl všechny klíčové oblasti Karlovarského kraje: \nBudoucnost byznysu\nVzdělaná a spravedlivá společnost\nZdravé tělo\, zdravá duše\nPřírodní a kulturní bohatství \nAktuální informace\, včetně opravdu pestrého a inspirativního programu a potvrzených řečníků\, najdete v aplikaci Eventee. \nZaregistrovat se můžete v aplikace nebo na odkaze zde .
URL:https://tvorimevropu.showyourweb.cz/event/revize-3/
CATEGORIES:Karlovy Vary
ATTACH;FMTTYPE=image/jpeg:https://tvorimevropu.showyourweb.cz/wp-content/uploads/2024/04/LinkedIn-udalost_1920x1080px_-e1712665114671.jpg
END:VEVENT
END:VCALENDAR