BEGIN:VCALENDAR
VERSION:2.0
PRODID:-//Tvoříme Evropu - ECPv6.15.0.1//NONSGML v1.0//EN
CALSCALE:GREGORIAN
METHOD:PUBLISH
X-ORIGINAL-URL:https://tvorimevropu.showyourweb.cz
X-WR-CALDESC:Akce na Tvoříme Evropu
REFRESH-INTERVAL;VALUE=DURATION:PT1H
X-Robots-Tag:noindex
X-PUBLISHED-TTL:PT1H
BEGIN:VTIMEZONE
TZID:Europe/Prague
BEGIN:DAYLIGHT
TZOFFSETFROM:+0100
TZOFFSETTO:+0200
TZNAME:CEST
DTSTART:20250330T010000
END:DAYLIGHT
BEGIN:STANDARD
TZOFFSETFROM:+0200
TZOFFSETTO:+0100
TZNAME:CET
DTSTART:20251026T010000
END:STANDARD
END:VTIMEZONE
BEGIN:VTIMEZONE
TZID:UTC
BEGIN:STANDARD
TZOFFSETFROM:+0000
TZOFFSETTO:+0000
TZNAME:UTC
DTSTART:20240101T000000
END:STANDARD
END:VTIMEZONE
BEGIN:VEVENT
DTSTART;TZID=Europe/Prague:20250212T160000
DTEND;TZID=Europe/Prague:20250212T180000
DTSTAMP:20260419T220523
CREATED:20250210T095810Z
LAST-MODIFIED:20250210T095810Z
UID:170400-1739376000-1739383200@tvorimevropu.showyourweb.cz
SUMMARY:Odpoledne s puzzle
DESCRIPTION:Zveme Vás ve středu 12. února 2025 do knihovny  na zábavné odpoledne s puzzle\, které budou tematicky zaměřené na Evropu a její známá místa. \n \nPřijďte skládat puzzle nejrůznějších tvarů a velikostí. Pro soutěživé povahy bude připraveno skládání puzzle na čas\, nejlepší časy získají ceny. \n\nKde? – Dětské oddělení Knihovny Ústeckého kraje\, Ústí nad Labem\nKdy? – 12. února 2025 od 16. do 18. hodin.\nVstup je zdarma.\n\nTěšíme se na Vás!
URL:https://tvorimevropu.showyourweb.cz/event/odpoledne-s-puzzle-3/
CATEGORIES:Ústí nad Labem
END:VEVENT
BEGIN:VEVENT
DTSTART;TZID=UTC:20240131T160000
DTEND;TZID=UTC:20240131T180000
DTSTAMP:20260419T220523
CREATED:20240122T082645Z
LAST-MODIFIED:20240122T082645Z
UID:169972-1706716800-1706724000@tvorimevropu.showyourweb.cz
SUMMARY:Odpoledne s puzzle Evropy
DESCRIPTION:Zveme Vás na hravé odpoledne plné skládání oblíbených puzzle. Přijďte si do Knihovny Ústeckého kraje vyzkoušet puzzle pro začátečníky\, pokročilé\, skládání na čas\, nebo jen tak pro zábavu. Puzzle Vás navíc vezmou na cestu Evropou\, takže se dozvíte i zajímavosti z evropských států.  \nSkládat budete moct puzzle různých velikostí\, různého počtu dílků i puzzle nevšedních tvarů. Všechny bude spojovat jedno téma – Evropa. Složit tak můžete mapy Evropy nebo evropská města. Připraveny jsou puzzle pro nejmenší\, ale i pro dospělé nebo pokročilé. \nKdy? – 31. ledna 2024 od 16. do 18. hodin \nKde? – Knihovna Ústeckého kraje\, Winstona Churchilla 3\, Ústí nad Labem \nVstup je zdarma. Bez registrace. \nTěšíme se na Vás!
URL:https://tvorimevropu.showyourweb.cz/event/odpoledne-s-puzzle-evropy-3/
CATEGORIES:Ústí nad Labem
ATTACH;FMTTYPE=image/jpeg:https://tvorimevropu.showyourweb.cz/wp-content/uploads/2024/01/31.-1.-Puzzle-1-scaled-1.jpg
END:VEVENT
END:VCALENDAR