BEGIN:VCALENDAR
VERSION:2.0
PRODID:-//Tvoříme Evropu - ECPv6.15.0.1//NONSGML v1.0//EN
CALSCALE:GREGORIAN
METHOD:PUBLISH
X-ORIGINAL-URL:https://tvorimevropu.showyourweb.cz
X-WR-CALDESC:Akce na Tvoříme Evropu
REFRESH-INTERVAL;VALUE=DURATION:PT1H
X-Robots-Tag:noindex
X-PUBLISHED-TTL:PT1H
BEGIN:VTIMEZONE
TZID:UTC
BEGIN:STANDARD
TZOFFSETFROM:+0000
TZOFFSETTO:+0000
TZNAME:UTC
DTSTART:20240101T000000
END:STANDARD
END:VTIMEZONE
BEGIN:VEVENT
DTSTART;TZID=UTC:20241021T083000
DTEND;TZID=UTC:20241021T153000
DTSTAMP:20260419T235158
CREATED:20240924T122638Z
LAST-MODIFIED:20240924T122638Z
UID:170296-1729499400-1729524600@tvorimevropu.showyourweb.cz
SUMMARY:Seminář Jak na financování projektů mezinárodní spolupráce? - Pardubice
DESCRIPTION:Chcete zjistit\, jak financovat Vaše projekty s mezinárodním přesahem? Přijďte získat informace o financování projektů s mezinárodním přesahem a seznámit se s aktuálními výzvami! \nJaké jsou aktuálně otevřené výzvy v programech nadnárodní a přeshraniční spolupráce?\nJaké financování nabízí tzv. komunitární programy EU v oblasti kultury\, vzdělávání\, vědy a výzkumu nebo partnerství měst?\na jaké jsou další možnosti podpory skrze tzv. donátorské programy? \nPřijměte pozvání na náš seminář Jak na financování projektů mezinárodní spolupráce\, který se koná 21. 10. od 8:30 hodin v Sále Jana Kašpara Krajského úřadu Pardubického kraje\, Komenského nám. 120\, 530 02 Pardubice. \nSeminář je zdarma. Z důvodů omezené kapacity prosíme o registraci prostřednictvím formuláře ZDE. \nTěšíme se na setkání! \nPozvánka na seminář_Pardubice a Program_Pardubice ke stažení. \nKontaktní osoby:\nMgr. Lucie Boukalová (tel.: 720 970 600\, lucie.boukalova@vlada.gov.cz)\nIng. Michaela Hrdličková (tel.: 466 026 308\, michaela.hrdlickova@pardubickykraj.cz) \n  \nPREZENTACE ZE SEMINÁŘE KE STAŽENÍ: \nProgram přeshraniční spolupráce Interreg Česko -Polsko\, Miroslav Smejkal \nProgram přeshraniční spolupráce Interreg Česko –Polsko – Fond malých projektů\, Jaroslav Štefek \nProgramy nadnárodní spolupráce (Interreg Central Europe\, Interreg Danube) a meziregionální spolupráce (Interreg Europe\, ESPON)\, Adéla Kiššová \nPříklady dobré praxe (Interreg Europe) – RRA PK\, Klára Štefančová \nProgram meziregionální spolupráce URBACT IV a Evropská městská iniciativa\, Markéta Horská\, Vít Bořil \nHorizont Evropa\, Jana Čejková \nLIFE\, Lucie Blažejová \nCERV\, Martin Štefek \nKreativní Evropa\, Viktor Debnár \nErasmus+ a Evropský sbor solidarity\, Michal Urban \nMezinárodní visegrádský fond\, Česko-německý fond budoucnosti\, Program švýcarsko-české spolupráce\, Fondy EHP a Norské fondy\, Roman Klíma \n 
URL:https://tvorimevropu.showyourweb.cz/event/seminar-jak-na-financovani-projektu-mezinarodni-spoluprace-pardubice-3/
CATEGORIES:Pardubice
END:VEVENT
END:VCALENDAR