BEGIN:VCALENDAR
VERSION:2.0
PRODID:-//Tvoříme Evropu - ECPv6.15.0.1//NONSGML v1.0//EN
CALSCALE:GREGORIAN
METHOD:PUBLISH
X-ORIGINAL-URL:https://tvorimevropu.showyourweb.cz
X-WR-CALDESC:Akce na Tvoříme Evropu
REFRESH-INTERVAL;VALUE=DURATION:PT1H
X-Robots-Tag:noindex
X-PUBLISHED-TTL:PT1H
BEGIN:VTIMEZONE
TZID:Europe/Prague
BEGIN:DAYLIGHT
TZOFFSETFROM:+0100
TZOFFSETTO:+0200
TZNAME:CEST
DTSTART:20240331T010000
END:DAYLIGHT
BEGIN:STANDARD
TZOFFSETFROM:+0200
TZOFFSETTO:+0100
TZNAME:CET
DTSTART:20241027T010000
END:STANDARD
BEGIN:DAYLIGHT
TZOFFSETFROM:+0100
TZOFFSETTO:+0200
TZNAME:CEST
DTSTART:20250330T010000
END:DAYLIGHT
BEGIN:STANDARD
TZOFFSETFROM:+0200
TZOFFSETTO:+0100
TZNAME:CET
DTSTART:20251026T010000
END:STANDARD
END:VTIMEZONE
BEGIN:VTIMEZONE
TZID:UTC
BEGIN:STANDARD
TZOFFSETFROM:+0000
TZOFFSETTO:+0000
TZNAME:UTC
DTSTART:20220101T000000
END:STANDARD
END:VTIMEZONE
BEGIN:VEVENT
DTSTART;TZID=Europe/Prague:20250522T160000
DTEND;TZID=Europe/Prague:20250522T173000
DTSTAMP:20260419T220626
CREATED:20250509T071532Z
LAST-MODIFIED:20250509T071532Z
UID:170496-1747929600-1747935000@tvorimevropu.showyourweb.cz
SUMMARY:Budějovický Majáles - přednáška Cestuj\, pomáhej\, objevuj
DESCRIPTION:Zveme Vás na přednášku o dobrovolnictví v rámci programu Evropské unie – Evropského sboru solidarity. \nO své zkušenosti se podělí Amanda\, která vyjela pomáhat do Španělska\, a Khaoula a Hanna\, které jsou aktuálně dobrovolnicemi v Domu dětí a mládeže v Českých Budějovicích. \nVstup je zdarma. \nČást programu se uskuteční v angličtině.
URL:https://tvorimevropu.showyourweb.cz/event/budejovicky-majales-prednaska-cestuj-pomahej-objevuj-2/
CATEGORIES:České Budějovice
END:VEVENT
BEGIN:VEVENT
DTSTART;TZID=Europe/Prague:20250423T160000
DTEND;TZID=Europe/Prague:20250423T173000
DTSTAMP:20260419T220626
CREATED:20250416T082735Z
LAST-MODIFIED:20250416T082735Z
UID:170465-1745424000-1745429400@tvorimevropu.showyourweb.cz
SUMMARY:Bezpečné potraviny v EU: Co všechno musíme hlídat\, než se dostanou na talíř?
DESCRIPTION:Bezpečné potraviny v EU: Co všechno musíme hlídat\, než se dostanou na talíř? \nIvana Poustková\, Generální ředitelství pro zdraví a bezpečnost potravin\, Evropská komise \nEvropská unie disponuje jedním z nejpřísnějších systémů zajištění bezpečnosti potravin na světě. Kontrolují se nejen potraviny české nebo EU produkce\, ale také produkce z tzv. třetích zemí. Kontrole podléhají chemické kontaminace\, jako jsou jsou rezidua pesticidů\, rezidua veterinárních léčiv či látky migrující z obalových materiálů do potravin\, a mikrobiologická kontaminace. Důležitou roli hraje také správné označování potravin\, včetně výživových hodnot. \nIvana Poustková\, odbornice na bezpečnost potravin v Evropské komisi\, představí klíčové mechanismy kontrolního systému EU. Jakým způsobem probíhají úřední kontroly v oblasti bezpečnosti potravin? Jaké povinnosti musí plnit členské státy v rámci víceletých kontrolních plánů? a jaké podmínky musí splnit potraviny živočišného původu dovážené do EU ze třetích zemí? \nPřednáška nabídne detailní pohled na fungování evropského systému dohledu nad bezpečností potravin a jeho význam pro ochranu spotřebitelů. ale také ukáže cestu za kariérou v institucích EU. \n  \nKde: Přednáška se bude konat na VŠCHT v Budově B na adrese Technická 3\, 160 00 Praha 6. \nKdy: 23.4. 2025\, od 16:00 \nAkci pořádá Eurocentrum Praha ve spolupráci s VŠCHT Praha. \n 
URL:https://tvorimevropu.showyourweb.cz/event/bezpecne-potraviny-v-eu-co-vsechno-musime-hlidat-nez-se-dostanou-na-talir-2/
CATEGORIES:Praha
END:VEVENT
BEGIN:VEVENT
DTSTART;TZID=Europe/Prague:20241106T153000
DTEND;TZID=Europe/Prague:20241106T173000
DTSTAMP:20260419T220626
CREATED:20241022T213700Z
LAST-MODIFIED:20241022T213700Z
UID:170338-1730907000-1730914200@tvorimevropu.showyourweb.cz
SUMMARY:Mediální obezřetnost: Nenechme se nachytat!
DESCRIPTION:Jak úspěšně proplouvat záplavou informací na internetu a sociálních sítích? Jak rozpoznat ty pravdivé od lživých? Jaká je úloha médií ve společnosti? Hledání odpovědí nejen na tyto otázky bude předmětem přednáškového odpoledne v Městské knihovně v Ostrově ve středu 6. listopadu 2024 od 15:30. \nNa co se můžete těšit? \n– workshop certifikovaného lektora mediální obezřetnosti SEFTE Zdeňka Svobody \n– povídání o mediální praxi s ředitelem Českého rozhlasu Plzeň a Karlovy Vary Davidem Jakšem \n– hudební vystoupení Josefa Šorfy \n– tematický kvíz o zajímavé ceny \n– občerstvení \nAkci pořádá Novinářský inkubátor ve spolupráci s Českým rozhlasem a Eurocentrem a EUROPE DIRECT Karlovy Vary. \nVstup na akci je ZDARMA. Možná rezervace (není nutná) u MK Ostrov – TEL.: 354 224 970\, 773 546 490; E-MAIL: info@mkostrov.cz. \nTěšíme se na vás!
URL:https://tvorimevropu.showyourweb.cz/event/medialni-obezretnost-nenechme-se-nachytat-3/
CATEGORIES:Karlovy Vary
END:VEVENT
BEGIN:VEVENT
DTSTART;TZID=Europe/Prague:20241024T090000
DTEND;TZID=Europe/Prague:20241024T120000
DTSTAMP:20260419T220626
CREATED:20241016T150805Z
LAST-MODIFIED:20241016T150805Z
UID:170319-1729760400-1729771200@tvorimevropu.showyourweb.cz
SUMMARY:Maďarsko
DESCRIPTION:Ve spolupráci s Krajskou knihovnou Karlovy Vary jsme opět připravili zábavně – vzdělávací dopolední akci pro studenty středních škol nebo posledních ročníků základních škol Karlovarského kraje. Cílem je podpora znalostí o Evropské unii a jejích institucích\, podpora čtení a literatury. Vše je tentokrát zaměřeno na Maďarsko\, které jako členský stát předsedá v tomto pololetí Radě EU. \nV prostorách knihovny (A-klub\, učebna a hala) budou stanoviště/aktivity\, kterými studentky a studenti projdou. Bude to 1) přednáška o Maďarsku od pana Leona Tótha z Úřadu vlády ČR\, 2) přednáška o literatuře (maďarští autoři v podání Teodora Kravála a Vladimíra Kalného\, 3) kreativní workshop – výroba knižních záložek\, který zajišťuje lektorka z knihovny. \nÚčastníci se dále dozví o příležitostech pro studenty v rámci Evropské unie\, o aktivitách Eurocentra a EUROPE DIRECT Karlovy Vary (stáže\, soutěže apod.) a Domu zahraniční spolupráce (DiscoverEU\, Erasmus+).\nV případě zájmu se na nás předem obraťte emailem: jana.michkova@vlada.gov.cz nebo telefonem 725 8103 64. Kapacita akce je omezena! \n\nFotka od Gordon Johnson z Pixabay
URL:https://tvorimevropu.showyourweb.cz/event/madarsko-3/
CATEGORIES:Karlovy Vary
END:VEVENT
BEGIN:VEVENT
DTSTART;TZID=UTC:20240327T090000
DTEND;TZID=UTC:20240327T183000
DTSTAMP:20260419T220626
CREATED:20240311T132751Z
LAST-MODIFIED:20240311T132751Z
UID:170051-1711530000-1711564200@tvorimevropu.showyourweb.cz
SUMMARY:Green day aneb šetrně k životnímu prostředí
DESCRIPTION:Co to je?\nStav životního prostředí a péče o krajinu v posledních letech zajímá velkou část veřejnosti zejména mladých lidí. Co všechno do této kategorie spadá a jak se to promítá do našich každodenních aktivit? Co pro zlepšení situace můžeme udělat sami? Těmito otázkami se zabývají lidé i v jiných částech Evropy a evropské státy se rozhodly\, že to zkusí společně řešit. Vznikla proto Zelená Dohoda pro Evropu stanovující změny\, kterých chce Evropská unie dosáhnout a zlepšit tak situaci v této oblasti. \nKdy a kde?\nNás v Eurocentru Karlovy Vary toto téma také zajímá a proto již druhým rokem pořádáme ve spolupráci s krajskou knihovnou celodenní akci s názvem Green day – šetrně k životnímu prostředí. Fotky z loňské roku vidíte níže.\nLetos bude Green day ve středu 27. března od 9 do 18 hodin v Krajské knihovně Karlovy Vary. \nPro koho?\nBude to opět celodenní akce rozdělená na dvě části. Dopoledne bude určené pro středoškolské studentky a studenty\, kterým doplní výuku ekologie. Nejprve se společně podíváme na dokument s ekologickým zaměřením z databáze Jeden svět na školách (JSNS.cz – Člověk v tísni) a budeme o něm pak diskutovat. Následovat bude přednáška pana Jiřího Šindeláře o unikátní Bečovské botanické zahradě\, ale nejen o ní. Nakonec si účastníci mohou zasoutěžit v kvízu o ekologii\, ale také o Evropské unii a jejích institucích a něco malého vytvořit.\nOdpolední část je přístupná široké veřejnosti a začneme také promítáním dokumentu od JSNS.cz\, který určitě vyvolá otázky. Dále bude pokračovat kreativní workshop\, ze kterého si účastníci odnesou vlastnoručně vytvořenou interiérovou výzdobu ze sukulentů. \nA co dalšího?\nPracovnice krajské knihovny nám vytvoří na akci menší výstavu knih o životním prostředí a ekologii\, která bude k vidění i další 2 týdny. Kromě toho připravíme panely přibližující akce a činnosti Eurocentra Karlovy Vary. Ty zde také budou 2 týdny společně s ekologickým kvízem o ceny\, pro ty\, kteří by naši akci Green day nestihnou. \nProgram:\n9\,00 – 13\,00 / program pro školy\n16\,00 – 16\,30 / filmový dokument o ekologii\n16\,30 – 18\,30 / výtvarná dílna (přírodniny\, textil\, recyklace)\n– Výstava Green Day / vstupní chodba do A-klubu – knihy zaměřené k ekologii \n  \n                                 
URL:https://tvorimevropu.showyourweb.cz/event/green-day-aneb-setrne-k-zivotnimu-prostredi-3/
CATEGORIES:Karlovy Vary
ATTACH;FMTTYPE=image/jpeg:https://tvorimevropu.showyourweb.cz/wp-content/uploads/2024/03/431472349_823144403193669_448849428512060022_n-e1710163010658.jpg
END:VEVENT
BEGIN:VEVENT
DTSTART;TZID=UTC:20231209T100000
DTEND;TZID=UTC:20231209T180000
DTSTAMP:20260419T220626
CREATED:20231121T144117Z
LAST-MODIFIED:20231121T144117Z
UID:169944-1702116000-1702144800@tvorimevropu.showyourweb.cz
SUMMARY:Andělské Vánoce
DESCRIPTION:Advent se nezadržitelně blíží a my jsme pro vás přichystali poslední akci tohoto roku spolu s tradičním partnerem Krajskou knihovnou Karlovy Vary na tradiční téma andělského tvoření a povíme vám také něco o vánočních tradicích v Evropě. \nCelou sobotu 9. prosince budou v krajské knihovně probíhat vánoční trhy s kulturním programem. Vybere si určitě každý\, nikdo neodejde s prázdnou a program bude následující: \n\n\n\n10:30     Vánoční zvyky v Evropě – povídání a soutěže o vánočních tradicích v Evropě – přednáška Eurocentra Karlovy Vary\n11 – 12   Vystoupení pěveckého sboru ZUŠ Antonína Dvořáka „Zpíváme s radostí“ pod vedením Heleny Tašnerové\n12 – 16   Tvořivá dílna – vánoční dekorace\, hvězdy\, andělé a jiné tvoření s Romankou\n14 – 15   Vánoční a jiné písně s flašinetem – Eva Haufová\n15:30     Vánoční zvyky v Evropě – povídání a soutěže o vánočních tradicích v Evropě – přednáška Eurocentra Karlovy Vary \n16 – 17  Vánoční a jiné písně s kytarou – hrají členové kytarového klubu Krajské knihovny KV „Hrajeme na kytaru s Renatou“\n\n\n\nV průběhu celé akce:\n–  občerstvení a kavárenské posezení u vánočního čaje\, kávy nebo svařáku a něco sladkého na zoubek\n–  vánoční dárky pro návštěvníky pod vánočním stromkem\, každý si může něco odnést\n–  seznámení s flašinetem od 11 do 16\n–  vánoční foto koutek – udělejte si krásnou památku na Vánoce\, pošlete originální přání známým\n–  výstava andělů a betlémů v hale knihovny. \n \n 
URL:https://tvorimevropu.showyourweb.cz/event/andelske-vanoce-3/
CATEGORIES:Karlovy Vary
ATTACH;FMTTYPE=image/jpeg:https://tvorimevropu.showyourweb.cz/wp-content/uploads/2022/01/18419-120-aktualne.jpg
END:VEVENT
BEGIN:VEVENT
DTSTART;TZID=UTC:20231109T180000
DTEND;TZID=UTC:20231109T193000
DTSTAMP:20260419T220626
CREATED:20231020T105058Z
LAST-MODIFIED:20231020T105058Z
UID:169903-1699552800-1699558200@tvorimevropu.showyourweb.cz
SUMMARY:Dny evropských zemí\, poznej Evropu: Belgie
DESCRIPTION:Jak se žije v Belgii? \nJakou řeč musíte znát\, když si chcete objednat hranolky\, ochutnat dobré pralinky nebo třeba otevřít bankovní účet? Víte\, jaký je rozdíl mezi vaflemi na bruselský a na lutyšský způsob? Jedí Belgičani divočinu? a co mají společného Chimay\, Orval\, Rochefort a Westmalle? \nPřijďte načerpat inspiraci a trochu si zacestovat po zemi\, která je počtem obyvatel srovnatelná s Českou republikou! \nhost: Martin Svášek \ntiskový atašé Evropské komise v ČR a překladatel
URL:https://tvorimevropu.showyourweb.cz/event/dny-evropskych-zemi-poznej-evropu-belgie-3/
CATEGORIES:Liberec
END:VEVENT
BEGIN:VEVENT
DTSTART;TZID=UTC:20231106T090000
DTEND;TZID=UTC:20231106T170000
DTSTAMP:20260419T220626
CREATED:20231103T123640Z
LAST-MODIFIED:20231103T123640Z
UID:169931-1699261200-1699290000@tvorimevropu.showyourweb.cz
SUMMARY:Rada mladších - duševní zdraví
DESCRIPTION:Meziškolní konference středoškolské mládeže Karlovy Vary \nJedná se o celodenní akci v rámci projektu\, který byl dosud doménou hlavního města a letos se nově rozšiřuje do osmi krajů. Ústředním motivem letošního ročníku je duševní zdraví. Účastníci konference si z vypsaných témat vyberou to\, které je nejvíc osloví\, vytvoří 10 minutovou prezentaci (forma není omezena) a předvedou ji v rámci konference. \nPro letošní rok jsou vybrány následující okruhy: \n1. Jinakost\, menšinový stres\, stigmatizace LGBT+ \n2. Nebezpečí kyberprostoru\, poplašné zprávy a dezinformace \n3. Umělá inteligence\, jak nám může pomoci a jaká jsou její rizika \n4. Moje vlastní zkušenost s duševními obtížemi\, nebo zkušenost z mého okolí \nV krajské knihovně v Karlových Varech se v pondělí 6. listopadu představí až 20 studentských týmů či jednotlivců\, kteří budou muset sebrat odvahu a vystoupit s prezentací před plným sálem a s mikrofonem čelit zvídavým dotazů od lidí z pléna. Ke každému tématu náleží psychologem vedená diskuse\, při které žáci odpovídají na dotazy\, obhajují své názory a diskutují s vrstevníky\, odborníky nebo učiteli v sále\, případně s účastníky z online. \nPodobný scénář čeká během listopadu a prosince středoškoláky v Jihlavě\, Pardubicích a Praze\, následně Českých Budějovicích\, Zlíně\, Ostravě a Liberci. \nNejzajímavější příspěvky z celé republiky budou prezentovány na velkém finále v Praze\, ve Velkém zastupitelském sále Hlavního města Prahy za přítomnosti zástupců ministerstev\, krajů a odborníků na stanovená témata. Pomyslnou tečkou konference bude panelová diskuse\, kdy studenti společně s odborníky vytyčí top problémy dospívajících a společně se pokusí hledat řešení. \nKonference se koná pod záštitou MŠMT a hejtmana Karlovarského kraje. Konferenci organizuje nezisková společnost Dělej co tě baví\, která zábavnou formou motivuje děti a mládež k pohybu\, kreativitě a rozvíjení sebe sama. Rovnováhu mezi digitálním světem a fyzickou aktivitou staví na několika hodnotách: sociální rovnost\, zdravý\, slušný přístup k životu a ohleduplnost k přírodě. Hlavním partnerem projektu je Dům zahraniční spolupráce\, partnery potom Evropská komise\, Nadační fond Flamidia\, Unicorn University a Nadační fond Arnošta Lustiga. Mezi odbornými garanty jsou například společnosti EDUin\, Nevypusť duši\, Safer internet centrum a další. \nVíce informací o konferenci včetně časového harmonogramu a seznamu míst najdete na webu www.radamladsich.cz
URL:https://tvorimevropu.showyourweb.cz/event/rada-mladsich-dusevni-zdravi-3/
CATEGORIES:Karlovy Vary
ATTACH;FMTTYPE=:
END:VEVENT
BEGIN:VEVENT
DTSTART;TZID=UTC:20231106T090000
DTEND;TZID=UTC:20231106T160000
DTSTAMP:20260419T220626
CREATED:20231024T131259Z
LAST-MODIFIED:20231024T131259Z
UID:169911-1699261200-1699286400@tvorimevropu.showyourweb.cz
SUMMARY:Seminář Dotace EU a Cost-benefit analýza
DESCRIPTION:Chcete získat informace\, jak správně postupovat při zpracování Cost-benefit analýzy projektu spolufinancovaného z fondů EU? \nPřihlaste se na seminář Eurocentra Karlovy Vary. Seminář svou tématikou navazuje na cyklus seminářů Dotace EU a finanční řízení a je určen pro cílovou skupinu žadatelů a příjemců podpory z fondů EU. Účastníci semináře získají přehled o analýze nákladů a přínosů\, důležitou součástí semináře budou také praktické ukázky. \nŠkolitel: Ing. Lukáš Melecký\, Ph.D.\nKapacita omezená\, registrujte se prosím nejpozději do 3. 11. 2023.\nOdkaz pro registraci: https://1url.cz/suwmZ\nAkce je zdarma.\nPro praktické ukázky a cvičení je vhodné mít s sebou vlastní notebook či obdobné mobilní zařízení.\nKontaktní osoba: Markéta Novotná\, e-mail: marketa.novotna@mmr.cz\, tel.: 704 951 029.
URL:https://tvorimevropu.showyourweb.cz/event/seminar-dotace-eu-a-cost-benefit-analyza-3/
CATEGORIES:Karlovy Vary
ATTACH;FMTTYPE=:
END:VEVENT
BEGIN:VEVENT
DTSTART;TZID=UTC:20230607T080000
DTEND;TZID=UTC:20230607T170000
DTSTAMP:20260419T220626
CREATED:20230529T100902Z
LAST-MODIFIED:20230529T100902Z
UID:169774-1686124800-1686157200@tvorimevropu.showyourweb.cz
SUMMARY:Z pohádky do pohádky po zemích EU
DESCRIPTION:TATO AKCE JE JIŽ PLNĚ OBSAZENA! \nv případě zájmu nás\, prosím\, kontaktujte! \nDěkujeme!
URL:https://tvorimevropu.showyourweb.cz/event/z-pohadky-do-pohadky-po-zemich-eu-3/
CATEGORIES:Zlín
ATTACH;FMTTYPE=image/jpeg:https://tvorimevropu.showyourweb.cz/wp-content/uploads/2022/01/28696-120-telefon_pixabay.jpg
END:VEVENT
BEGIN:VEVENT
DTSTART;TZID=UTC:20230518T100000
DTEND;TZID=UTC:20230608T120000
DTSTAMP:20260419T220626
CREATED:20230427T065154Z
LAST-MODIFIED:20230427T065154Z
UID:169736-1684404000-1686225600@tvorimevropu.showyourweb.cz
SUMMARY:ZRUŠENO: Česká republika v EU: Ozvěny předsednictví - přednáška s ministrem pro Evropské záležitosti Mikulášem Bekem
DESCRIPTION:
URL:https://tvorimevropu.showyourweb.cz/event/ceska-republika-v-eu-ozveny-predsednictvi-prednaska-s-ministrem-pro-evropske-zalezitosti-mikulasem-bekem-3/
CATEGORIES:České Budějovice
END:VEVENT
BEGIN:VEVENT
DTSTART;TZID=UTC:20230413T170000
DTEND;TZID=UTC:20230413T190000
DTSTAMP:20260419T220626
CREATED:20230324T091438Z
LAST-MODIFIED:20230324T091438Z
UID:169656-1681405200-1681412400@tvorimevropu.showyourweb.cz
SUMMARY:Přednáška: Století staříci v Bullerbynu – současná švédská literatura
DESCRIPTION:Přijďte si poslechnout zajímavou přednášku o současné švédské literatuře. Dozvíte se mnoho informací nejen o známých autorech švédských detektivních románů\, ale také o autorech\, kteří jsou u nás téměř neznámí. Součástí přednášky budou i zajímavosti z oblasti překladatelství a vydávání knih. Přednášet pro Vás bude Skandinávský dům. Vstup je zdarma.  \nKdy? – 13. dubna v 17:00 \nKde? – Café Maryša\, Velká Hradební 49 (budova Knihovny Ústeckého kraje)\, Ústí nad Labem \nAkce probíhá ve spolupráci s Knihovnou Ústeckého kraje a Skandinávským domem v rámci předsednictví Švédska v Radě EU.
URL:https://tvorimevropu.showyourweb.cz/event/prednaska-stoleti-starici-v-bullerbynu-soucasna-svedska-literatura-3/
CATEGORIES:Ústí nad Labem
ATTACH;FMTTYPE=:
END:VEVENT
BEGIN:VEVENT
DTSTART;TZID=UTC:20220412T180000
DTEND;TZID=UTC:20220412T190000
DTSTAMP:20260419T220626
CREATED:20220404T111456Z
LAST-MODIFIED:20220404T111456Z
UID:169212-1649786400-1649790000@tvorimevropu.showyourweb.cz
SUMMARY:Velikonoce v Evropské unii – zvyky\, tradice a zajímavosti
DESCRIPTION:Zveme Vás společně s Městskou knihovnou Varnsdorf na přednášku o Velikonocích v EU. \nVelikonoce jsou nejen křesťanským svátkem\, ale také oslavou vítání jara. Jak se slaví velikonoční svátky v evropských zemích? Které tradice a zvyky se liší napříč Evropou? Přijďte si poslechnout přednášku a dozvíte se více o velikonočních oslavách v EU. Vstup je zdarma. \nKdy? – 12. dubna 2022 v 18. hodin \nKde? – Městská knihovna Varnsdorf\, Otáhalova 1260\, 407 47 Varnsdorf 
URL:https://tvorimevropu.showyourweb.cz/event/velikonoce-v-evropske-unii-zvyky-tradice-a-zajimavosti-3/
CATEGORIES:Ústí nad Labem
ATTACH;FMTTYPE=:
END:VEVENT
END:VCALENDAR