BEGIN:VCALENDAR
VERSION:2.0
PRODID:-//Tvoříme Evropu - ECPv6.15.0.1//NONSGML v1.0//EN
CALSCALE:GREGORIAN
METHOD:PUBLISH
X-ORIGINAL-URL:https://tvorimevropu.showyourweb.cz
X-WR-CALDESC:Akce na Tvoříme Evropu
REFRESH-INTERVAL;VALUE=DURATION:PT1H
X-Robots-Tag:noindex
X-PUBLISHED-TTL:PT1H
BEGIN:VTIMEZONE
TZID:Europe/Prague
BEGIN:DAYLIGHT
TZOFFSETFROM:+0100
TZOFFSETTO:+0200
TZNAME:CEST
DTSTART:20250330T010000
END:DAYLIGHT
BEGIN:STANDARD
TZOFFSETFROM:+0200
TZOFFSETTO:+0100
TZNAME:CET
DTSTART:20251026T010000
END:STANDARD
END:VTIMEZONE
BEGIN:VEVENT
DTSTART;VALUE=DATE:20250506
DTEND;VALUE=DATE:20250507
DTSTAMP:20260419T214116
CREATED:20250401T123757Z
LAST-MODIFIED:20250401T123757Z
UID:170471-1746489600-1746575999@tvorimevropu.showyourweb.cz
SUMMARY:Den ze zaměstnavateli Zlínského kraje
DESCRIPTION:pozor\, zrušeno!
URL:https://tvorimevropu.showyourweb.cz/event/den-ze-zamestnavateli-zlinskeho-kraje-2/
CATEGORIES:Zlín
ATTACH;FMTTYPE=image/png:https://tvorimevropu.showyourweb.cz/wp-content/uploads/2025/03/Web-4-7-1.png
END:VEVENT
END:VCALENDAR