BEGIN:VCALENDAR
VERSION:2.0
PRODID:-//Tvoříme Evropu - ECPv6.15.0.1//NONSGML v1.0//EN
CALSCALE:GREGORIAN
METHOD:PUBLISH
X-ORIGINAL-URL:https://tvorimevropu.showyourweb.cz
X-WR-CALDESC:Akce na Tvoříme Evropu
REFRESH-INTERVAL;VALUE=DURATION:PT1H
X-Robots-Tag:noindex
X-PUBLISHED-TTL:PT1H
BEGIN:VTIMEZONE
TZID:UTC
BEGIN:STANDARD
TZOFFSETFROM:+0000
TZOFFSETTO:+0000
TZNAME:UTC
DTSTART:20230101T000000
END:STANDARD
END:VTIMEZONE
BEGIN:VEVENT
DTSTART;TZID=UTC:20230511T093000
DTEND;TZID=UTC:20230511T143000
DTSTAMP:20260420T053601
CREATED:20230426T095750Z
LAST-MODIFIED:20230426T095750Z
UID:169718-1683797400-1683815400@tvorimevropu.showyourweb.cz
SUMMARY:Veletrh podpory podnikání pro firmy a obce z Pardubického kraje
DESCRIPTION:Agentura CzechInvest ve spolupráci s agenturou API a dalšími partnery z inovační platformy Pardubického kraje si vás dovoluje pozvat na Veletrh podpory podnikání a dotačních příležitostí\, který je určen nejen pro firmy\, ale také pro zástupce měst a obcí z Pardubického kraje. \nV jeden okamžik a na jednom místě budete mít možnost konzultovat své projektové záměry či získat potřebné informace o dotačních i nedotačních titulech pro rozvoj vašeho podnikání nebo obce. \n\nTermín: 11. 5. 2023 09:30 – 11. 5. 2023 14:30\nMísto: sál Jana Kašpara v budově Reálky\, Komenského náměstí 125\, v centru Pardubic\nKapacita: 100\n\n  \nPozvánka ke stažení ZDE.
URL:https://tvorimevropu.showyourweb.cz/event/veletrh-podpory-podnikani-pro-firmy-a-obce-z-pardubickeho-kraje-3/
CATEGORIES:Pardubice
ATTACH;FMTTYPE=image/jpeg:https://tvorimevropu.showyourweb.cz/wp-content/uploads/2022/01/28089-120-mayova.jpeg
END:VEVENT
END:VCALENDAR