BEGIN:VCALENDAR
VERSION:2.0
PRODID:-//Tvoříme Evropu - ECPv6.15.0.1//NONSGML v1.0//EN
CALSCALE:GREGORIAN
METHOD:PUBLISH
X-ORIGINAL-URL:https://tvorimevropu.showyourweb.cz
X-WR-CALDESC:Akce na Tvoříme Evropu
REFRESH-INTERVAL;VALUE=DURATION:PT1H
X-Robots-Tag:noindex
X-PUBLISHED-TTL:PT1H
BEGIN:VTIMEZONE
TZID:UTC
BEGIN:STANDARD
TZOFFSETFROM:+0000
TZOFFSETTO:+0000
TZNAME:UTC
DTSTART:20240101T000000
END:STANDARD
END:VTIMEZONE
BEGIN:VEVENT
DTSTART;TZID=UTC:20240424T100000
DTEND;TZID=UTC:20240424T160000
DTSTAMP:20260419T233757
CREATED:20240423T152744Z
LAST-MODIFIED:20240423T152744Z
UID:170129-1713952800-1713974400@tvorimevropu.showyourweb.cz
SUMMARY:Za kariérOU 2024
DESCRIPTION:Přijďte se podívat na kariérní festival Ostravské univerzity. Bohatý program plný přednášek s různorodým zaměřením zaujme každého zájemce o aktuální témata.\nPro zájemce o kariérní příležitosti (a nejen to) v EU jsme si připravili přednášku na téma kariéry v EU\, včetně EPSO testů. \nTěšit se můžete i na přednášky neziskových organizací\, či zástupců škol. \nVstup zdarma pro studenty\, absolventy i širokou veřejnost. \nOdkaz na akci zde.
URL:https://tvorimevropu.showyourweb.cz/event/za-karierou-2024-3/
CATEGORIES:Ostrava
ATTACH;FMTTYPE=image/png:https://tvorimevropu.showyourweb.cz/wp-content/uploads/2024/04/6131.png
END:VEVENT
BEGIN:VEVENT
DTSTART;TZID=UTC:20240126T090000
DTEND;TZID=UTC:20240126T170000
DTSTAMP:20260419T233757
CREATED:20240116T163225Z
LAST-MODIFIED:20240116T163225Z
UID:169956-1706259600-1706288400@tvorimevropu.showyourweb.cz
SUMMARY:Den otevřených dveří na Ostravské univerzitě
DESCRIPTION:Na všechny zájemce o studium na Ostravské univerzitě se budou těšit v Ostravě na jednotlivých fakultách v pátek 26. ledna 2024. Zájemci si mohou prohlédnout fakulty a jejich zázemí\, setkat se s vyučujícími\, studijními poradci i současnými studenty. \nPřihlášky ke studiu bude možné podávat od 15. listopadu 2023 do 15. března 2024. \n  \nVíce informací a odkazy na jednotlivé fakulty zde: https://www.osu.cz/dny-otevrenych-dveri/
URL:https://tvorimevropu.showyourweb.cz/event/den-otevrenych-dveri-na-ostravske-univerzite-3/
CATEGORIES:Ostrava
ATTACH;FMTTYPE=image/jpeg:https://tvorimevropu.showyourweb.cz/wp-content/uploads/2024/01/5891.jpg
END:VEVENT
END:VCALENDAR