BEGIN:VCALENDAR
VERSION:2.0
PRODID:-//Tvoříme Evropu - ECPv6.15.0.1//NONSGML v1.0//EN
CALSCALE:GREGORIAN
METHOD:PUBLISH
X-WR-CALNAME:Tvoříme Evropu
X-ORIGINAL-URL:https://tvorimevropu.showyourweb.cz
X-WR-CALDESC:Akce na Tvoříme Evropu
REFRESH-INTERVAL;VALUE=DURATION:PT1H
X-Robots-Tag:noindex
X-PUBLISHED-TTL:PT1H
BEGIN:VTIMEZONE
TZID:UTC
BEGIN:STANDARD
TZOFFSETFROM:+0000
TZOFFSETTO:+0000
TZNAME:UTC
DTSTART:20220101T000000
END:STANDARD
END:VTIMEZONE
BEGIN:VEVENT
DTSTART;TZID=UTC:20240502T000000
DTEND;TZID=UTC:20240602T000000
DTSTAMP:20260419T234754
CREATED:20240503T085324Z
LAST-MODIFIED:20240503T085324Z
UID:170147-1714608000-1717286400@tvorimevropu.showyourweb.cz
SUMMARY:Česko volí Evropu
DESCRIPTION:Kvíz o ceny při příležitosti výročí 20 let České republiky v Evropské unii a blížících se voleb do Evropského parlamentu \nS nadcházejícími volbami do Evropského parlamentu v červnu 2024 a při příležitosti výročí 20 let České republiky v Evropské unii jsme si pro vás připravili soutěžní kvíz o zajímavé ceny! \nDo soutěže se můžete zapojit na platformě Kahoot.it. zadáním herního pinu: 09699858 nebo kliknutím na následující odkaz: https://kahoot.it/challenge/09699858. \nSoutěž probíhá od 2. 5. do 2. 6. 2024.
URL:https://tvorimevropu.showyourweb.cz/event/cesko-voli-evropu-3/
CATEGORIES:20 let v EU,Jihlava
END:VEVENT
BEGIN:VEVENT
DTSTART;TZID=UTC:20230125T110000
DTEND;TZID=UTC:20230125T120000
DTSTAMP:20260419T234754
CREATED:20230123T151600Z
LAST-MODIFIED:20230123T151600Z
UID:169590-1674644400-1674648000@tvorimevropu.showyourweb.cz
SUMMARY:Cena Karla Velikého - informační schůzka - on line
DESCRIPTION:Pro mladé Evropany od 16 do 30 let\, kteří realizují projekty podporující demokracii v Evropě a přispívají ke spolupráci na základě demokratických hodnot\, je určena Cena Karla Velikého. \nCenu již od roku 2008 uděluje Evropský parlament společně s Nadací pro Mezinárodní cenu Karla Velikého v Cáchách. Více zde na našem webu https://eurocentra.cz/2023/01/23/cena-karla-velikeho/ \nPřihlaste svůj projekt do 2. února 2023 a získejte až 7500 eur a pomoc s dalším rozvojem svých aktivit. \nPodrobnější informace můžete zjistit po přečtení pravidel Ceny Karla Velikého pro mladé Evropany a na on line schůzce ve středu 25. ledna od 11 do 12 hodin.
URL:https://tvorimevropu.showyourweb.cz/event/cena-karla-velikeho-informacni-schuzka-on-line-3/
CATEGORIES:Karlovy Vary
ATTACH;FMTTYPE=:
END:VEVENT
BEGIN:VEVENT
DTSTART;TZID=UTC:20220419T173000
DTEND;TZID=UTC:20220419T190000
DTSTAMP:20260419T234754
CREATED:20220413T132705Z
LAST-MODIFIED:20220413T132705Z
UID:169243-1650389400-1650394800@tvorimevropu.showyourweb.cz
SUMMARY:Zachování českého vinařského a farmářského dědictví (ONLINE)
DESCRIPTION:Zemědělství a vinařství jsou tradičními doménami Jihomoravského kraje. Sektory zároveň čelí obrovským výzvám\, ať už jde o dopady klimatických změn\, rostoucí ceny nebo nejisté tržní prostředí. Pro následující měsíce a roky bude klíčové zvyšování jejich odolnosti vůči nejrůznějším vnějším negativním vlivům tak\, aby nadále mohly fungovat ve prospěch celé společnosti. Svou roli v tom může sehrát i EU. Evropské zemědělství zároveň čekají změny spojené s novou společnou zemědělskou politikou EU\, ale také s dopady ruské agrese vůči Ukrajině. Tématem by se mohlo v následujících měsících zabývat i české předsednictví v Radě EU\, kterého se země chopí ji 1. července 2022. \nDokáže se zemědělství a vinařství vypořádat s výzvami 21. století? Jak je modernizovat a zachovat jejich specifičnost? Jaké příležitosti nabízejí nové technologie? Co mohou zemědělci a vinaři očekávat od Evropské unie a jak se může Česko podílet na nelezení správných řešení? Právě o tom budou hosté\, kteří se zemědělství a vinařství věnují jak na akademické půdě\, tak i v praxi. \nDebatovat budou: \n Martin Chlad: prezident Svazu vinařů ČR\n Mojmír Baroň: prezident Unie enologů ČR\, vedoucí Ústavu vinohradnictví a vinařství MENDELU\n Lubor Lacina: vedoucí Ústavu financí Provozně ekonomické fakulty MENDELU \nDebatu moderuje Aneta Zachová (Euractiv.cz)  \nDebatu bude možné sledovat online na facebookové stránce Eurocentra Brno. Bližší informace najdete také ve facebookové události ZDE. \nSvé dotazy můžete pokládat do komentářů k živému vysílání nebo využít již nyní aplikace Slido.com s hashtagem #CZPRESBrno \nAkce se koná ve spolupráci Eurocentra Brno se Zastoupením Jihomoravského kraje při EU a webovými portály Euroskop.cz a EURACTIV.
URL:https://tvorimevropu.showyourweb.cz/event/zachovani-ceskeho-vinarskeho-a-farmarskeho-dedictvi-online-3/
CATEGORIES:Brno
ATTACH;FMTTYPE=image/jpeg:https://tvorimevropu.showyourweb.cz/wp-content/uploads/2022/01/24609-06_2015.jpg
END:VEVENT
END:VCALENDAR