BEGIN:VCALENDAR
VERSION:2.0
PRODID:-//Tvoříme Evropu - ECPv6.15.0.1//NONSGML v1.0//EN
CALSCALE:GREGORIAN
METHOD:PUBLISH
X-ORIGINAL-URL:https://tvorimevropu.showyourweb.cz
X-WR-CALDESC:Akce na Tvoříme Evropu
REFRESH-INTERVAL;VALUE=DURATION:PT1H
X-Robots-Tag:noindex
X-PUBLISHED-TTL:PT1H
BEGIN:VTIMEZONE
TZID:UTC
BEGIN:STANDARD
TZOFFSETFROM:+0000
TZOFFSETTO:+0000
TZNAME:UTC
DTSTART:20240101T000000
END:STANDARD
END:VTIMEZONE
BEGIN:VEVENT
DTSTART;TZID=UTC:20240425T170000
DTEND;TZID=UTC:20240728T180000
DTSTAMP:20260420T053555
CREATED:20240417T123028Z
LAST-MODIFIED:20240417T123028Z
UID:170124-1714064400-1722189600@tvorimevropu.showyourweb.cz
SUMMARY:Identita. Útěk z postsovětského prostoru
DESCRIPTION:Srdečně Vás zveme na otevření výstavy výstavy zabývající se trvajícími snahami o vymanění se Litvy\, potažmo pobaltských států\, ze stínu bývalého sovětského svazu. Výstava představí deset litevských umělců různých generací\, jejichž díla se zabývají neustálým hledáním vlastního kulturního já\, avšak všechny je spojuje neustálé hledání vlastní individuální a kulturní identity.\nSpolečenská\, ekonomická a kulturní transformace střední a východní Evropy na konci 20. století přiměla místní umělecké komunity k přehodnocení svých historických kořenů\, paměti a částečnému znovuobjevení vlastní identity. Přestože se ale bývalé porobené národy snaží zbavit své „postsovětské“ nálepky prostřednictvím aktivního de-sovětizačního a globalizačního úsilí\, kulturní a politické dědictví bývalých režimů je v jejich současném životě stále pronásleduje. Navzdory tomu\, že se tyto národy pevně etablovaly jako nedílná součást evropského a transatlantického společenství\, stále zpochybňují svou kulturní identitu a ptají se\, která část jejich kultury je jejich vlastní a která jim byla vnucena cizími utlačovateli. Časté používání pojmu „identita“ v umění poukazuje na jeho význam pro současný kulturní a společenský kontext. \n \nPobaltské státy nejsou výjimkou. Po rychlé reintegraci do západního společenství jsou stále vystaveny skrytému stínu sovětského dědictví. Výstava „Identita. Útěk z postsovětského prostoru“ se zabývá trvajícími snahami o vymanění se z tohoto stínu. Výstava představuje deset litevských umělců různých generací\, jejichž díla se zabývají neustálým hledáním vlastního kulturního já. Všechny je však spojuje neustálé hledání vlastní individuální a kulturní identity. \nVystavující umělci: Žygimantas Augustinas\, Algimantas Kensminas\, Tauras Kensminas\, Denisas Kolomyckis\, Žydrūnas Mirinavičius\, Rūta Putramentaitė\, Eglė Ridikaitė\, Indrė Rybakovaitė\, Ieva Skauronė\, Andrej Vasilenko \nPořádá Velvyslanectví Litvy v Praze ve spolupráci s Akademií výtvarných umění ve Vilniusu a Oblastní galerií Liberec. \nVýstava se koná pod záštitou Úřadu vlády České republiky v rámci výročí 20 let České republiky v Evropské unii.
URL:https://tvorimevropu.showyourweb.cz/event/identita-utek-z-postsovetskeho-prostoru-3/
CATEGORIES:20 let v EU,Liberec
ATTACH;FMTTYPE=image/png:https://tvorimevropu.showyourweb.cz/wp-content/uploads/2024/04/pozvanka1.png
END:VEVENT
END:VCALENDAR