BEGIN:VCALENDAR
VERSION:2.0
PRODID:-//Tvoříme Evropu - ECPv6.15.0.1//NONSGML v1.0//EN
CALSCALE:GREGORIAN
METHOD:PUBLISH
X-ORIGINAL-URL:https://tvorimevropu.showyourweb.cz
X-WR-CALDESC:Akce na Tvoříme Evropu
REFRESH-INTERVAL;VALUE=DURATION:PT1H
X-Robots-Tag:noindex
X-PUBLISHED-TTL:PT1H
BEGIN:VTIMEZONE
TZID:Europe/Prague
BEGIN:DAYLIGHT
TZOFFSETFROM:+0100
TZOFFSETTO:+0200
TZNAME:CEST
DTSTART:20250330T010000
END:DAYLIGHT
BEGIN:STANDARD
TZOFFSETFROM:+0200
TZOFFSETTO:+0100
TZNAME:CET
DTSTART:20251026T010000
END:STANDARD
END:VTIMEZONE
BEGIN:VEVENT
DTSTART;TZID=Europe/Prague:20250130T090000
DTEND;TZID=Europe/Prague:20250130T113000
DTSTAMP:20260419T234934
CREATED:20250116T105827Z
LAST-MODIFIED:20250116T105827Z
UID:170386-1738227600-1738236600@tvorimevropu.showyourweb.cz
SUMMARY:Obchodování EU a svět: Obchodní příležitosti v Kataru a Kuvajtu
DESCRIPTION:Obchodní příležitosti v Kataru a Kuvajtu\n\nPřihlásit se\n\n\n\n\n\n\n\n\n\n \nKdy: 30. 01. 2025 09:00 – 11:30\nKde: Vavrečkova 5262\, Zlín ( sídlo KHK ZK )\, 1.etáž \nHarmonogram:\n09:00                 Úvodní slovo\, Ivona Prusenovská\, KHK ZK\n09:10 – 09:20     Nástroje ekonomické a vědecké diplomacie\, Jiří Janíček\, odbor ekonomicko-vědecké diplomacie\, MZV ČR\n09:20 – 09:40     Obchodní příležitosti pro české firmy v Kataru\, Simona Drahoňovská\, ekonomická diplomatka\, Velvyslanectví ČR v Dauhá\n09:40 – 10:00     Obchodní příležitosti pro české firmy v Kuvajtu\, Tereza Valášková\, ekonomická diplomatka\, Velvyslanectví ČR v Kuvajtu\n10:00 – 10:20     Možnosti financování obchodu – Katar\, Kuvajt\, Radek Mendlík\, specialista zahraničního obchodu\, Komerční banka\, a.s.\n10:20 – 11:30     Diskuze \nÚčast na semináři ZDARMA po předchozí registraci.\nna seminář se můžete přihlásit nejpozději do 23. 01. 2025 v horní části obrazovky. \n  \n\n\n\n\n\n\n\n\nSoubory ke stažení\n\n\nPozvánka
URL:https://tvorimevropu.showyourweb.cz/event/obchodovani-eu-a-svet-obchodni-prilezitosti-v-kataru-a-kuvajtu-3/
CATEGORIES:Zlín
END:VEVENT
END:VCALENDAR