BEGIN:VCALENDAR
VERSION:2.0
PRODID:-//Tvoříme Evropu - ECPv6.15.0.1//NONSGML v1.0//EN
CALSCALE:GREGORIAN
METHOD:PUBLISH
X-ORIGINAL-URL:https://tvorimevropu.showyourweb.cz
X-WR-CALDESC:Akce na Tvoříme Evropu
REFRESH-INTERVAL;VALUE=DURATION:PT1H
X-Robots-Tag:noindex
X-PUBLISHED-TTL:PT1H
BEGIN:VTIMEZONE
TZID:UTC
BEGIN:STANDARD
TZOFFSETFROM:+0000
TZOFFSETTO:+0000
TZNAME:UTC
DTSTART:20240101T000000
END:STANDARD
END:VTIMEZONE
BEGIN:VEVENT
DTSTART;TZID=UTC:20240927T170000
DTEND;TZID=UTC:20240927T220000
DTSTAMP:20260420T053459
CREATED:20240923T123737Z
LAST-MODIFIED:20240923T123737Z
UID:170295-1727456400-1727474400@tvorimevropu.showyourweb.cz
SUMMARY:Noc vědců s Eurocentrem ČB
DESCRIPTION:V pátek 27. září se koná každoroční oblíbená akce Noc vědců\, která je určena široké veřejnosti. Letošním tématem je proměna – od evoluce v přírodě po revoluci v technologiích. Svou proměnou a vývojem prochází vše kolem nás. Pojďme společně proměnit jednu noc v roce na jedinečnou oslavu vědy! \nPřijďte za námi na Pedagogickou fakultu Jihočeské univerzity v Českých Budějovicích. na našem stanovišti se dozvíte\, jak EU proměnila Českou republiku a jak jsme EU obohatili my. Přijďte zjistit víc například o projektech podpořených z fondů EU a zasoutěžit si o zajímavé ceny.
URL:https://tvorimevropu.showyourweb.cz/event/noc-vedcu-s-eurocentrem-cb-3/
CATEGORIES:České Budějovice
END:VEVENT
BEGIN:VEVENT
DTSTART;TZID=UTC:20240927T170000
DTEND;TZID=UTC:20240927T220000
DTSTAMP:20260420T053459
CREATED:20240922T090125Z
LAST-MODIFIED:20240922T090125Z
UID:170292-1727456400-1727474400@tvorimevropu.showyourweb.cz
SUMMARY:Noc vědců: Eurocentrum Praha na ČVUT
DESCRIPTION:Jednu z největších vědecko-populárních akcí nejen v České republice\, ale i v Evropě\, můžete zažít v pátek 27. září 2024 od 17.00 hodin. Eurocentrum Praha se spojilo s ČVUT a tak nadejte náš stánek v hlavní budově ČVUT v Dejvicích. Přijďte zjistit více o evropských vynálezech\, dozvědět se o možnostech kariéry v EU a otestovat své znalosti ze světa evropské vědy. Přichystali jsme aktivity pro všechny věkové skupiny. Těšíme se na vás. \nNoc vědců\, akce oživující v jeden večer stovky vědeckých budov\, do kterých se běžný smrtelník nedostane. Návštěvníci proplouvají laboratořemi\, přednáškovými místnostmi\, vybuchujícími experimenty a jdou do hloubky aktuálních témat. Děti\, dospělí\, senioři\, každý zapálený pro vědu je vítaný.  \nV České republice se Noc vědců koná od roku 2005 a je zastoupena českými univerzitami\, vědeckými ústavy\, hvězdárnami a dalšími institucemi. \nLetošní ročník s tématem „Proměna“ nabídne opět nespočet zajímavých ukázek a experimentů. \nSledujte stránku akce: www.nocvedcu.cz
URL:https://tvorimevropu.showyourweb.cz/event/noc-vedcu-eurocentrum-praha-na-cvut-3/
CATEGORIES:Praha
END:VEVENT
BEGIN:VEVENT
DTSTART;TZID=UTC:20240927T160000
DTEND;TZID=UTC:20240927T220000
DTSTAMP:20260420T053459
CREATED:20240912T124609Z
LAST-MODIFIED:20240912T124609Z
UID:170268-1727452800-1727474400@tvorimevropu.showyourweb.cz
SUMMARY:Noc vědců 2024: Proměna
DESCRIPTION:Tajemná\, nedostižná a komplikovaná. i tak na vás může věda působit\, ale ne\, když je Noc vědců. Noc\, kdy vám věda a vědci ukážou svou pravou tvář. \nNoc vědců\, akce oživující v jeden večer stovky vědeckých budov\, do kterých se běžný smrtelník nedostane. Návštěvníci proplouvají laboratořemi\, přednáškovými místnostmi\, vybuchujícími experimenty a jdou do hloubky aktuálních témat. Děti\, dospělí\, senioři\, každý zapálený pro vědu je vítaný. Setkejte se s našimi vědci a oni už vás naučí vědu milovat. \nV České republice se Noc vědců koná od roku 2005 a je zastoupena českými univerzitami\, vědeckými ústavy\, hvězdárnami a dalšími institucemi. v současnosti probíhá akce pod národní koordinací Ostravské univerzity a VŠB – Technické univerzity v Ostravě. v roce 2020 se právě zmíněným univerzitám podařilo získat prestižní evropský projekt Marie Curie-Skłodowská\, díky kterému se česká Noc vědců dostává i na evropskou mapu! \nUniverzita Pardubice se i letos připojí k několika stovkám vědeckých institucí v ČR a v Evropě a otevře své brány všem zájemcům o vědu bez rozdílu věku. \nKdy: 27. 9. 2024\, 16.00 – 22.00  \nKde: Celý univerzitní program se letos koná v prostorách Technologického areálu Doubravice 41\, 532 10 Pardubice \nPro detailní program\, přenos i soutěž navštivte speciální web Noc vědců. \nVstup zdarma. \nNa akci se rovněž představí stánek Eurocentra Pardubice a Domu zahraniční spolupráce s tematickými soutěžemi a aktivitami pro děti i dospělé. \nTěšíme se na setkání! \n \n 
URL:https://tvorimevropu.showyourweb.cz/event/noc-vedcu-2024-promena-3/
CATEGORIES:Pardubice
END:VEVENT
END:VCALENDAR