BEGIN:VCALENDAR
VERSION:2.0
PRODID:-//Tvoříme Evropu - ECPv6.15.0.1//NONSGML v1.0//EN
CALSCALE:GREGORIAN
METHOD:PUBLISH
X-ORIGINAL-URL:https://tvorimevropu.showyourweb.cz
X-WR-CALDESC:Akce na Tvoříme Evropu
REFRESH-INTERVAL;VALUE=DURATION:PT1H
X-Robots-Tag:noindex
X-PUBLISHED-TTL:PT1H
BEGIN:VTIMEZONE
TZID:Europe/Prague
BEGIN:DAYLIGHT
TZOFFSETFROM:+0100
TZOFFSETTO:+0200
TZNAME:CEST
DTSTART:20250330T010000
END:DAYLIGHT
BEGIN:STANDARD
TZOFFSETFROM:+0200
TZOFFSETTO:+0100
TZNAME:CET
DTSTART:20251026T010000
END:STANDARD
END:VTIMEZONE
BEGIN:VTIMEZONE
TZID:UTC
BEGIN:STANDARD
TZOFFSETFROM:+0000
TZOFFSETTO:+0000
TZNAME:UTC
DTSTART:20240101T000000
END:STANDARD
END:VTIMEZONE
BEGIN:VEVENT
DTSTART;VALUE=DATE:20250303
DTEND;VALUE=DATE:20250401
DTSTAMP:20260420T033037
CREATED:20250303T120024Z
LAST-MODIFIED:20250303T120024Z
UID:170420-1740960000-1743465599@tvorimevropu.showyourweb.cz
SUMMARY:Andersen na cestě po Evropě (soutěžní kvíz)
DESCRIPTION:Putujte společně s Andersenem a naším soutěžním kvízem po Evropě! \nU příležitosti již 25. ročníku tradiční mezinárodní akce Noc s Andersenem jsme si pro vás připravili kvíz ze světa evropských pohádek. Úkolem dětských soutěžících je vyplnit krátký kvíz a pak už si jen držet pěsti při losování! \nVyhrát můžete deskové hry\, knížky a další zajímavé ceny. Soutěž je určena pouze pro děti a mladistvé mladší 18 let. v každém kraji budou vybráni 3 výherci\, kteří obdrží věcné ceny! \nSoutěž probíhá od 3. do 31. března 2025. \nSoutěžní kvíz naleznete zde: https://forms.gle/bE6JGhF8oSRbvhZ39. Kvíz je možné najít i v papírové podobě ve vybraných knihovnách po celé ČR\, které jsou zapojené do akce Noc s Andersenem 2025.  \nPravidla soutěže ke stažení ZDE\, plakát ke stažení ZDE. \nAkce je spojena s výročím dánského pohádkáře H. Ch. Andersena a s Mezinárodním dnem dětské knihy. K podpoře dětského čtenářství ji pořádá Klub dětských knihoven SKIP ČR. \nPřejeme hodně štěstí\, zábavy a poučení!
URL:https://tvorimevropu.showyourweb.cz/event/andersen-na-ceste-po-evrope-soutezni-kviz-3/
CATEGORIES:Pardubice
END:VEVENT
BEGIN:VEVENT
DTSTART;VALUE=DATE:20240304
DTEND;VALUE=DATE:20240325
DTSTAMP:20260420T033037
CREATED:20240312T104122Z
LAST-MODIFIED:20240312T104122Z
UID:170053-1709510400-1711324799@tvorimevropu.showyourweb.cz
SUMMARY:Noc s Andersenem v Ústeckém kraji
DESCRIPTION:Užijte si letos Noc s Andersenem a vyhrajte skvělé ceny! Eurocentra připravila celorepublikovou soutěž pro malé zvídavé čtenáře.  \nKvíz Pohádkové putování po zemích Evropské unie zavede soutěžící mezi pohádkové postavy z celé Evropy. Stačí načíst QR kód\, který se nachází pod textem a můžeš soutěžit. Nezapomeň vyplnit údaje svého zákonného zástupce a jsi ve hře o skvělé ceny (deskové hry\, zajímavé knihy a dokonce interaktivní glóbus). Soutěž trvá do 24. března 2024. v každém kraji budou vylosování tři výherci se správnými odpověďmi. \nNoc s Andersenem můžete zažít také na vlastní kůži. v Knihovně Ústeckého kraje v Ústí nad Labem pořádají 22. března 2024 Noc s Andersenem: Záchrana planety Book\, akce začíná v 19.00. Více informací se dozvíte ZDE. \n \nPodmínky soutěže ZDE. \nPřejeme hodně štěstí!
URL:https://tvorimevropu.showyourweb.cz/event/noc-s-andersenem-v-usteckem-kraji-3/
CATEGORIES:Ústí nad Labem
END:VEVENT
BEGIN:VEVENT
DTSTART;VALUE=DATE:20240304
DTEND;VALUE=DATE:20240325
DTSTAMP:20260420T033037
CREATED:20240308T155934Z
LAST-MODIFIED:20240308T155934Z
UID:170039-1709510400-1711324799@tvorimevropu.showyourweb.cz
SUMMARY:Noc s Andersenem 2024
DESCRIPTION:Eurocentra Úřadu vlády ČR spouští celorepublikovou soutěž v rámci blížící se Noci s Andersenem 2024! \nCo je to Noc s Andersenem?\nNoc s Andersenem je akce knihoven na podporu dětského čtenářství\, při níž děti nocují v knihovně u příležitosti výročí narození dánského pohádkáře\, Hanse Christiana Andersena. Akce se koná 2. dubna\, tedy v den\, kdy byl v roce 1967 vyhlášen Mezinárodní den dětské knihy. \nÚkolem soutěžících je vyplnit krátký kvíz a pak už si jen držet pěsti při losování! Vyhrát můžete třeba interaktivní globus\, deskovou hru nebo jiné zajímavé ceny. Soutěžit můžete prostřednictvím QR kódu níže. v každém kraji budou vybráni tři výherci\, kteří obdrží věcné ceny! \nSoutěž trvá od 4.3. – 24.3. 2024. Soutěž je pořádána také u příležitosti 20 let ČR v EU. \nVíce informací o Noci s Andersenem naleznete zde. \nPodmínky soutěže naleznete ZDE.
URL:https://tvorimevropu.showyourweb.cz/event/noc-s-andersenem-2024-3/
CATEGORIES:Pardubice
END:VEVENT
END:VCALENDAR