BEGIN:VCALENDAR
VERSION:2.0
PRODID:-//Tvoříme Evropu - ECPv6.15.0.1//NONSGML v1.0//EN
CALSCALE:GREGORIAN
METHOD:PUBLISH
X-ORIGINAL-URL:https://tvorimevropu.showyourweb.cz
X-WR-CALDESC:Akce na Tvoříme Evropu
REFRESH-INTERVAL;VALUE=DURATION:PT1H
X-Robots-Tag:noindex
X-PUBLISHED-TTL:PT1H
BEGIN:VTIMEZONE
TZID:UTC
BEGIN:STANDARD
TZOFFSETFROM:+0000
TZOFFSETTO:+0000
TZNAME:UTC
DTSTART:20230101T000000
END:STANDARD
END:VTIMEZONE
BEGIN:VEVENT
DTSTART;TZID=UTC:20240419T100000
DTEND;TZID=UTC:20240419T140000
DTSTAMP:20260420T033214
CREATED:20240410T210848Z
LAST-MODIFIED:20240410T210848Z
UID:170105-1713520800-1713535200@tvorimevropu.showyourweb.cz
SUMMARY:Výroční konference EUREGIA EGRENSIS
DESCRIPTION:Sdružení EUREGIO EGRENSIS působí ve středoevropském regionu v pohraniční oblasti mezi Bavorskem\, Čechami (Karlovarským krajem)\, Saskem a Durynskem. Funguje v této oblasti již od roku 1993 a jeho členy jsou zástupci měst\, obcí\, byznysu\, komor\, školství a kultury. Pomáhají svým členům překonávat přeshraniční bariéry a připravovat a realizovat řadu přeshraničních projektů.\nna jeho výroční konferenci se pravidelně setkávají zástupci všech 3 částí EUREGIA EGRENSIS s představitelkami a představiteli veřejných institucí a diskutují na aktuální témata\, která jsou relevantní pro jejich oblast. Letošní akce připomene výročí 20 let vstupu ČR do EU.\nLetošní Výroční konference se koná v bavorském Wunsiedelu v Fichtelgebirgshalle v pátek 19. dubna. My u toho nebudeme chybět a využijeme pozvání na akci pro možnost představit se účastníkům akce a navázat kontakty s dalšími organizacemi z příhraničí. Setkáme se také s kolegyněmi ze saského EUROPE DIRECT Vogtland. https://www.euregioegrensis.de/EUROPE-DIRECT \nÚčast jen pro registrované. Událost také na FB
URL:https://tvorimevropu.showyourweb.cz/event/vyrocni-konference-euregia-egrensis-3/
CATEGORIES:Karlovy Vary
ATTACH;FMTTYPE=image/jpeg:https://tvorimevropu.showyourweb.cz/wp-content/uploads/2024/04/425571238_773457664815058_6661818240315942858_n-e1712783263143.jpg
END:VEVENT
BEGIN:VEVENT
DTSTART;TZID=UTC:20230513T140000
DTEND;TZID=UTC:20230513T180000
DTSTAMP:20260420T033214
CREATED:20230503T100815Z
LAST-MODIFIED:20230503T100815Z
UID:169747-1683986400-1684000800@tvorimevropu.showyourweb.cz
SUMMARY:1. saský Den Evropy
DESCRIPTION:V nedalekém saském Annabergu pořádají naši partneři EUROPE DIRECT Erzgebirge 1. saský Den Evropy. Při návštěvě sousedního Německa se můžete odpoledne od 14 do 18 hodin podívat\, jak tento den slaví tam. \nKoncerty\, divadlo\, filmy\, debata\, ochutnávky\, aktivity pro děti\, mnoho německých i českých účinkujících. v programu si vybere celá rodina! \nPodrobnosti najdete na webu europatag-erzgebirge.com \n 
URL:https://tvorimevropu.showyourweb.cz/event/1-sasky-den-evropy-3/
CATEGORIES:Karlovy Vary
ATTACH;FMTTYPE=image/jpeg:https://tvorimevropu.showyourweb.cz/wp-content/uploads/2022/01/27525-michel_barnier.jpeg
END:VEVENT
BEGIN:VEVENT
DTSTART;TZID=UTC:20230427T090000
DTEND;TZID=UTC:20230427T153000
DTSTAMP:20260420T033214
CREATED:20230414T142913Z
LAST-MODIFIED:20230414T142913Z
UID:169695-1682586000-1682609400@tvorimevropu.showyourweb.cz
SUMMARY:Evropské setkání mladých z Německa a Česka
DESCRIPTION:Chceš si vyzkoušet\, jak jedná Evropský parlament? \nByl/a jsi vloni v saském Markneukirchenu na studentské debatě? Znáš soutěž Rozhoduj o Evropě? \nPokud NE\, můžeš se přihlásit na Evropské setkání mladých z Německa a Česka a všechno se dozvíš! \nPokud ANO\, víš o co jde. Tak se můžeš se přihlásit na pokračovací Evropské setkání mladých z Německa a Česka! \nAkce pro studentky/ty středních škol Karlovarského kraje. \nKdy? ve čtvrtek 27. dubna 2023\, 9:30 – 15:30 \nKde? v zastupitelském sále Krajského úřadu Karlovarského kraje\, Závodní ul. \nS kým? Přijedou studenti ze Saska \nCo se bude dít? \n– simulace jednání Evropského parlamentu k Evropskému aktu o svobodě sdělovacích prostředků \n– debata s hosty na téma – přeshraniční trh práce\, jaký je? (pan Lohr ze saského úřadu práce) \n– příležitosti v EU pro mladé\, jaká může být jejich přeshraniční spolupráce? (Markéta Kavalíková a Dan Grigar z Domu zahraniční spolupráce). \nÚčast je zdarma – akce je tlumočena – celodenní občerstvení zajištěno – aktivní studenti budou odměněni – registrace !!!!! zde: pskýttps://forms.gle/bMKNH52eHnzaWDteA \nAkci organizují EUROPE DIRECT Karlovy Vary\, EUROPE DIRECT Vogtland a EUTIS. \nFotka od Gerd Altmann z Pixabay
URL:https://tvorimevropu.showyourweb.cz/event/evropske-setkani-mladych-z-nemecka-a-ceska-3/
CATEGORIES:Karlovy Vary
ATTACH;FMTTYPE=:
END:VEVENT
BEGIN:VEVENT
DTSTART;TZID=UTC:20230421T100000
DTEND;TZID=UTC:20230421T150000
DTSTAMP:20260420T033214
CREATED:20230413T152410Z
LAST-MODIFIED:20230413T152410Z
UID:169693-1682071200-1682089200@tvorimevropu.showyourweb.cz
SUMMARY:Výroční akce - 30 let EUREGIA EGRENSIS
DESCRIPTION:Regionální sdružení obcí a měst EUREGIO EGRENSIS se svými třemi pracovními skupinami (AG Bavorsko\, AG Sasko-Durynsko a AG Čechy) patří již skoro 30 let k iniciátorům a k tvůrcům platformy pro přeshraniční spolupráci na česko-německé hranici. \n\nJeho cílem je udržovat a posilovat kvalitu života ve vymezeném příhraničním regionu pro občany a společnosti. Prostřednictvím společných iniciativ a aktivit je cílem čelit odlivu obyvatelstva a zůstat atraktivním místem k životu a práci. EUREGIO EGRENSIS za dobu své existence zrealizovalo desítky projektů obcí\, měst\, spolků i jednotlivců\, které přispěly k rozvoji dobrých sousedských vztahů mezi Českou republikou a Německem. Byly vybudovány nové kontakty a spolupráce v pohraničí se posunula na vyšší úroveň. \nAkce bude probíhat v pátek 21. dubna od 10 do 15 hodin v Kulturním centru Svoboda v Chebu. Představí se zde různé instituce a spolky\, které se zabývají příhraniční spoluprací. Nebude chybět ani doprovodný program a významní hosté. Rádi vás přivítáme i na stánku Eurocentra a EUROPE DIRECT Karlovy Vary. \n\nVíce naleznete na webu nebo v události na  FB. \n 
URL:https://tvorimevropu.showyourweb.cz/event/vyrocni-akce-30-let-euregia-egrensis-3/
CATEGORIES:Karlovy Vary
ATTACH;FMTTYPE=:
END:VEVENT
END:VCALENDAR