BEGIN:VCALENDAR
VERSION:2.0
PRODID:-//Tvoříme Evropu - ECPv6.15.0.1//NONSGML v1.0//EN
CALSCALE:GREGORIAN
METHOD:PUBLISH
X-WR-CALNAME:Tvoříme Evropu
X-ORIGINAL-URL:https://tvorimevropu.showyourweb.cz
X-WR-CALDESC:Akce na Tvoříme Evropu
REFRESH-INTERVAL;VALUE=DURATION:PT1H
X-Robots-Tag:noindex
X-PUBLISHED-TTL:PT1H
BEGIN:VTIMEZONE
TZID:Europe/Prague
BEGIN:DAYLIGHT
TZOFFSETFROM:+0100
TZOFFSETTO:+0200
TZNAME:CEST
DTSTART:20250330T010000
END:DAYLIGHT
BEGIN:STANDARD
TZOFFSETFROM:+0200
TZOFFSETTO:+0100
TZNAME:CET
DTSTART:20251026T010000
END:STANDARD
END:VTIMEZONE
BEGIN:VEVENT
DTSTART;VALUE=DATE:20250410
DTEND;VALUE=DATE:20250501
DTSTAMP:20260420T013937
CREATED:20250410T125416Z
LAST-MODIFIED:20250410T125416Z
UID:170460-1744243200-1746057599@tvorimevropu.showyourweb.cz
SUMMARY:Kvíz v rámci MS IIHF v ledním hokeji žen 2025
DESCRIPTION:V dubnu 2025 se v Českých Budějovicích koná Mistrovství světa IIHF v ledním hokeji žen. Vyzkoušejte si\, co víte o ženském hokeji a o zemích\, které jsou do mistrovství zapojeny. Vyhrát můžete zajímavé (nejen hokejové) ceny! \nDo kvízu je možné se zapojit do 30. 4. 2025. \n \nPravidla soutěže: \n\nVyplňte všech 10 kvízových otázek a získejte minimálně 6000 bodů. Pokud dosáhnete tohoto skóre\, budete automaticky zařazeni do slosování o zajímavé ceny.\nKvíz naleznete ZDE\, můžete také zadat soutěžní pin 04493842 na kahoot.it nebo naskenovat QR kód uvedený na plakátu.\nZ celkového počtu účastníků\, kteří splní podmínky\, vylosujeme 3 šťastné výherce\, kteří získají atraktivní ceny. Po ukončení soutěže budeme výherce kontaktovat na uvedeném e-mailu. v případě\, že daný výherce neodpoví do 7 dní\, nárok na výhru propadá a budeme kontaktovat náhradníka.\nVyplňte na konci kvízu své jméno a e-mailovou adresu. Tyto údaje je nutné vyplnit\, abychom Vás mohli kontaktovat v případě výhry. Pokud nebudou tyto údaje vyplněné\, nebudete zařazeni do slosování.\nVýhry odesíláme pouze na území České republiky\, do zahraničí není možné výhry zaslat.\n\n  \nPřejeme Vám hodně štěstí v soutěži!
URL:https://tvorimevropu.showyourweb.cz/event/kviz-v-ramci-ms-iihf-v-lednim-hokeji-zen-2025-3/
CATEGORIES:České Budějovice
END:VEVENT
END:VCALENDAR