BEGIN:VCALENDAR
VERSION:2.0
PRODID:-//Tvoříme Evropu - ECPv6.15.0.1//NONSGML v1.0//EN
CALSCALE:GREGORIAN
METHOD:PUBLISH
X-WR-CALNAME:Tvoříme Evropu
X-ORIGINAL-URL:https://tvorimevropu.showyourweb.cz
X-WR-CALDESC:Akce na Tvoříme Evropu
REFRESH-INTERVAL;VALUE=DURATION:PT1H
X-Robots-Tag:noindex
X-PUBLISHED-TTL:PT1H
BEGIN:VTIMEZONE
TZID:Europe/Prague
BEGIN:DAYLIGHT
TZOFFSETFROM:+0100
TZOFFSETTO:+0200
TZNAME:CEST
DTSTART:20250330T010000
END:DAYLIGHT
BEGIN:STANDARD
TZOFFSETFROM:+0200
TZOFFSETTO:+0100
TZNAME:CET
DTSTART:20251026T010000
END:STANDARD
END:VTIMEZONE
BEGIN:VEVENT
DTSTART;TZID=Europe/Prague:20250609T090000
DTEND;TZID=Europe/Prague:20250609T133000
DTSTAMP:20260419T235122
CREATED:20250403T115047Z
LAST-MODIFIED:20250403T115047Z
UID:170454-1749459600-1749475800@tvorimevropu.showyourweb.cz
SUMMARY:Seminář: Jak na mezinárodní programy a fondy? - Pardubice
DESCRIPTION:Chcete zjistit\, jak financovat Vaše projekty s mezinárodním přesahem? Zajímá Vás\, jaké jsou aktuálně otevřené výzvy? Jaké financování nabízí tzv. přeshraniční a mezinárodní programy EU nebo partnerství měst? a jaké jsou další možnosti podpory skrze tzv. donátorské programy? \nPřijďte získat informace o financování projektů mezinárodní spolupráce a seznámit se s aktuálními výzvami! \n \nPřijměte pozvání na náš seminář Jak na mezinárodní programy a fondy\, který se koná 9. 6. 2025 od 9:00 hodin na Krajském úřadě Pardubického kraje\, sál Zastupitelstva\, Komenského nám. 125\, 530 01 Pardubice. \nSeminář je zdarma. \nZ důvodů omezené kapacity prosíme o registraci do středy 4. června 2025 ZDE. \nPozvánka ke stažení. \nProgram ke stažení. \nTěšíme se na setkání! \nKontaktní osoby:\nIng. Michaela Hrdličková (tel.: 466 026 308\, michaela.hrdlickova@pardubickykraj.cz)\nPhDr. Radka Kozlová (tel. 739 682 806\, radka.kozlova@mmr.gov.cz)\nMgr. Lucie Boukalová (tel.: 720 970 600\, lucie.boukalova@vlada.gov.cz)
URL:https://tvorimevropu.showyourweb.cz/event/seminar-jak-na-mezinarodni-programy-a-fondy-ceska-trebova-3/
CATEGORIES:Pardubice
END:VEVENT
BEGIN:VEVENT
DTSTART;TZID=Europe/Prague:20250507T090000
DTEND;TZID=Europe/Prague:20250507T133000
DTSTAMP:20260419T235122
CREATED:20250403T115047Z
LAST-MODIFIED:20250403T115047Z
UID:157648-1746608400-1746624600@tvorimevropu.showyourweb.cz
SUMMARY:Seminář: Jak na mezinárodní programy a fondy? - Česká Třebová
DESCRIPTION:Chcete zjistit\, jak financovat Vaše projekty s mezinárodním přesahem? Zajímá Vás\, jaké jsou aktuálně otevřené výzvy? Jaké financování nabízí tzv. přeshraniční a mezinárodní programy EU nebo partnerství měst? a jaké jsou další možnosti podpory skrze tzv. donátorské programy? \nPřijďte získat informace o financování projektů mezinárodní spolupráce a seznámit se s aktuálními výzvami! \nPřijměte pozvání na náš seminář Jak na mezinárodní programy a fondy\, který se koná 7. 5. od 9:00 hodin v Městském muzeu Česká Třebová\, Klácelova 11\, 560 02 Česká Třebová. \nSeminář je zdarma. \nZ důvodů omezené kapacity prosíme o registraci do středy 30. dubna ZDE. \nPozvánka ke stažení. \nProgram ke stažení. \nTěšíme se na setkání! \nKontaktní osoby:\nIng. Michaela Hrdličková (tel.: 466 026 308\, michaela.hrdlickova@pardubickykraj.cz)\nPhDr. Radka Kozlová (tel. 739 682 806\, radka.kozlova@mmr.gov.cz)\nMgr. Lucie Boukalová (tel.: 720 970 600\, lucie.boukalova@vlada.gov.cz)
URL:https://tvorimevropu.showyourweb.cz/event/seminar-jak-na-mezinarodni-programy-a-fondy-ceska-trebova/
CATEGORIES:Pardubice
END:VEVENT
END:VCALENDAR