BEGIN:VCALENDAR
VERSION:2.0
PRODID:-//Tvoříme Evropu - ECPv6.15.0.1//NONSGML v1.0//EN
CALSCALE:GREGORIAN
METHOD:PUBLISH
X-ORIGINAL-URL:https://tvorimevropu.showyourweb.cz
X-WR-CALDESC:Akce na Tvoříme Evropu
REFRESH-INTERVAL;VALUE=DURATION:PT1H
X-Robots-Tag:noindex
X-PUBLISHED-TTL:PT1H
BEGIN:VTIMEZONE
TZID:UTC
BEGIN:STANDARD
TZOFFSETFROM:+0000
TZOFFSETTO:+0000
TZNAME:UTC
DTSTART:20230101T000000
END:STANDARD
END:VTIMEZONE
BEGIN:VEVENT
DTSTART;VALUE=DATE:20230203
DTEND;VALUE=DATE:20230307
DTSTAMP:20260420T053545
CREATED:20230203T123655Z
LAST-MODIFIED:20230203T123655Z
UID:169581-1675382400-1678147199@tvorimevropu.showyourweb.cz
SUMMARY:EuropaSecura 2023 - registrace
DESCRIPTION:Začíná 16. ročník soutěže EuropaSecura. Soutěž je určena pro studenty a studentky středních škol\, kteří se zajímají o aktuální dění v mezinárodní politice. \nSestavte tříčlenný tým\, zaregistrujte se do 6. března 2023 na stránkách https://www.europasecura.cz/ a zkuste si roli expertů na bezpečnost. \nCo Vás čeká? \n\nZákladní kolo: vědomostní test\nKrajské kolo: bezpečnostní analýzy\, dělí se na písemnou a ústní část\nCelostátní finále: vítězný tým z krajského kola pojede na týdenní workshop s Armádou ČR\nZájezd do Bruselu: získají tři nejlepší týmy z celostátního finále\n\nVšechny informace naleznete na oficiálních stránkách soutěže ZDE.  \nPřihlašování je otevřeno do 6. března 2023. 
URL:https://tvorimevropu.showyourweb.cz/event/europasecura-2023-registrace-3/
CATEGORIES:Ústí nad Labem
ATTACH;FMTTYPE=:
END:VEVENT
END:VCALENDAR