BEGIN:VCALENDAR
VERSION:2.0
PRODID:-//Tvoříme Evropu - ECPv6.15.0.1//NONSGML v1.0//EN
CALSCALE:GREGORIAN
METHOD:PUBLISH
X-ORIGINAL-URL:https://tvorimevropu.showyourweb.cz
X-WR-CALDESC:Akce na Tvoříme Evropu
REFRESH-INTERVAL;VALUE=DURATION:PT1H
X-Robots-Tag:noindex
X-PUBLISHED-TTL:PT1H
BEGIN:VTIMEZONE
TZID:Europe/Prague
BEGIN:DAYLIGHT
TZOFFSETFROM:+0100
TZOFFSETTO:+0200
TZNAME:CEST
DTSTART:20250330T010000
END:DAYLIGHT
BEGIN:STANDARD
TZOFFSETFROM:+0200
TZOFFSETTO:+0100
TZNAME:CET
DTSTART:20251026T010000
END:STANDARD
END:VTIMEZONE
BEGIN:VEVENT
DTSTART;TZID=Europe/Prague:20250529T113000
DTEND;TZID=Europe/Prague:20250529T130000
DTSTAMP:20260419T220517
CREATED:20250512T092755Z
LAST-MODIFIED:20250512T092755Z
UID:170499-1748518200-1748523600@tvorimevropu.showyourweb.cz
SUMMARY:Jak se žije na Maltě?
DESCRIPTION:Přednáška nabídne posluchačům fascinující pohled na každodenní život na tomto slunečném středomořském ostrově. Obyvatelé Malty představí různé aspekty maltského života\, od pracovního trhu a životních nákladů až po kulturu a zvyky. Promítnou fotografie barevných ulic Valletty i oblíbených maltských specialit. Přednáška bude tlumočena z angličtiny do češtiny\, takže žádné obavy – přijďte si užít slunečnou atmosféru s námi!
URL:https://tvorimevropu.showyourweb.cz/event/jak-se-zije-na-malte-2/
CATEGORIES:Hradec Králové
END:VEVENT
END:VCALENDAR