BEGIN:VCALENDAR
VERSION:2.0
PRODID:-//Tvoříme Evropu - ECPv6.15.0.1//NONSGML v1.0//EN
CALSCALE:GREGORIAN
METHOD:PUBLISH
X-WR-CALNAME:Tvoříme Evropu
X-ORIGINAL-URL:https://tvorimevropu.showyourweb.cz
X-WR-CALDESC:Akce na Tvoříme Evropu
REFRESH-INTERVAL;VALUE=DURATION:PT1H
X-Robots-Tag:noindex
X-PUBLISHED-TTL:PT1H
BEGIN:VTIMEZONE
TZID:UTC
BEGIN:STANDARD
TZOFFSETFROM:+0000
TZOFFSETTO:+0000
TZNAME:UTC
DTSTART:20220101T000000
END:STANDARD
END:VTIMEZONE
BEGIN:VEVENT
DTSTART;VALUE=DATE:20240501
DTEND;VALUE=DATE:20240901
DTSTAMP:20260420T013900
CREATED:20240426T075131Z
LAST-MODIFIED:20240426T075131Z
UID:170138-1714521600-1725148799@tvorimevropu.showyourweb.cz
SUMMARY:Literární soutěž: Všechny vůně Evropy
DESCRIPTION:Slavíme 20 let členství České republiky v Evropské unii! Oslavte s námi výročí vstupu do EU literární soutěží na téma „Všechny vůně Evropy“\, která je určena pro psavce a literáty bez rozdílu věku a žánru. Soutěž probíhá ve spolupráci s Knihovnou Ústeckého kraje do 31. srpna 2024. \n \nPopusťte uzdu své fantazie a představte si vůně Evropy\, které ve Vás vzbuzují inspiraci. Může se jednat o vůni jídla\, moře\, hor\, domova\, květin nebo třeba i vůni svobody. Záleží jen na Vás\, jaký literární žánr zvolíte. Odborná porota vybere nejlepší texty\, které budou oceněny zajímavými výhrami a vyjdou v září 2024 ve společném sborníku. \nZájemci mohou posílat své texty v maximální délce čtyři normostrany na e-mail eurocentrum.ul@vlada.gov.cz do 31. 8. 2024. Žánr textů není limitován\, stejně tak ani věk autorů. Příspěvky nesmí být nikde dříve publikovány a musí být psány v českém jazyce. \nKompletní pravidla soutěže naleznete ZDE.
URL:https://tvorimevropu.showyourweb.cz/event/literarni-soutez-vsechny-vune-evropy-3/
CATEGORIES:20 let v EU,Ústí nad Labem
END:VEVENT
BEGIN:VEVENT
DTSTART;VALUE=DATE:20240401
DTEND;VALUE=DATE:20240601
DTSTAMP:20260420T013900
CREATED:20240311T132204Z
LAST-MODIFIED:20240311T132204Z
UID:170050-1711929600-1717199999@tvorimevropu.showyourweb.cz
SUMMARY:Jak jsem zažil/a Evropu (literární soutěž)
DESCRIPTION:Potkali jste životní lásku na studijním pobytu Erasmus+? Vyjeli jste na pracovní stáž a získali díky tomu práci snů? Pomáhali jste jako dobrovolník v zahraničí a změnilo to Váš pohled na život? Napište nám o tom! \nNezáleží na tom\, zda jste změnili svět k lepšímu\, získali kamarády na celý život\, zažili nejlepší párty svého života nebo jen lépe poznali sami sebe. Napište nám svůj příběh\, jak jste zažili Evropu\, a vyhrajte skvělé ceny! \nLibovolnou formou (esej\, fejeton\, deník atp.) a v rozsahu alespoň 1 normostrany nám napište své zkušenosti\, příběhy a zážitky z různých evropských projektů a tři nejlepší z Vás odměníme otevřenými jízdenkami po Evropě od společnosti RegioJet v celkové hodnotě 6000 Kč! \nTermín soutěže: 1. 4. – 31. 5. 2024. \nSvé příběhy nám zasílejte na email: eurocentrum.hk@euroskop.cz\, případně nahrajte skrze formulář níže. Nezapomeňte uvést Vaše jméno\, příjmení\, kontakt\, termín a místo zahraniční mobility. Začátkem června vybereme nejlepší z účastníků a pozveme je na autorské čtení spojené s předáním cen vítězům! \nTěšíme se na Vaše příběhy! \nLiterární soutěže se mohou zúčastnit osoby ve věku 16 – 35 let\, které využily některou z možností mobilit v Evropské unii (studium\, výměnné pobyty a stáže přes program Erasmus+\, stáže v institucích EU\, Erasmus+ výměny mládeže\, dobrovolnictví v rámci Evropského sboru solidarity\, soutěž Discover EU aj.). \nAkce je organizována u příležitosti 20 let ČR v EU a Evropského týdne mládeže 2024. \nOrganizátorem soutěže je Eurocentrum Pardubice a Eurocentrum Hradec Králové. Partnerem akce je středisko Europe Direct Hradec Králové. Akce je podpořena sítí Eurodesk\, evropskou informační sítí pro mládež. Organizátoři jsou partnery této sítě. \n#20letvregionech \nPlakát ke stažení ZDE. \nPravidla soutěže naleznete ZDE. \n \n  \n\n	Upozornění: u tohoto obsahu je vyžadován JavaScript.
URL:https://tvorimevropu.showyourweb.cz/event/jak-jsem-zazila-evropu-literarni-soutez-3/
CATEGORIES:20 let v EU,Pardubice
END:VEVENT
BEGIN:VEVENT
DTSTART;TZID=UTC:20230904T080000
DTEND;TZID=UTC:20230924T235900
DTSTAMP:20260420T013900
CREATED:20230904T135313Z
LAST-MODIFIED:20230904T135313Z
UID:169851-1693814400-1695599940@tvorimevropu.showyourweb.cz
SUMMARY:Studentská soutěž esejí
DESCRIPTION:Začátek školního roku je tady a aby se studentky a studenti středních škol dostali do tempa\, připravili jsme pro ně literární soutěž. \nJejím tématem je SVOBODA a forma tvorby je ESEJ. \nJak to vidíme my: \nSvoboda je jednou z hlavních lidských hodnot a stojí za to o ni bojovat. \nJak to vidí jiní: \nSvoboda je možnost\, případně také schopnost volit\, rozhodovat a jednat „podle své vůle\,“ ať je jakákoli a nést za to přiměřenou odpovědnost (Wikipedie). \nSvoboda je volný prostor možností volby\, v jehož rámci může člověk rozhodovat sám o sobě za sebe sama (Wilhelm Weischedel\, německý filosof). \nSvoboda Evropy je nepředstavitelná bez svobodné Ukrajiny (Zelenskyj\, ukrajinský prezident). \nVnitřní svoboda je vlastní vědomá vůle jedince. \nVnější svoboda – svoboda je absence překážek\, omezení\, zajetí nebo útlaku (Websterův naučný slovník). \nJak vnímáš svobodu Ty? Co je svoboda pro Tebe? \nSoutěž končí 24. září!  \nPodmínky účasti včetně informací o vyhodnocení a vyhlášení výsledků jsou podrobně popsány v přiloženém souboru. S dalšími dotazy se neváhejte obrátit na nás. \nsoutez-eseje
URL:https://tvorimevropu.showyourweb.cz/event/studentska-soutez-eseji-3/
CATEGORIES:Karlovy Vary
ATTACH;FMTTYPE=:
END:VEVENT
BEGIN:VEVENT
DTSTART;TZID=UTC:20221001T080000
DTEND;TZID=UTC:20230515T170000
DTSTAMP:20260420T013900
CREATED:20230424T092314Z
LAST-MODIFIED:20230424T092314Z
UID:169708-1664611200-1684170000@tvorimevropu.showyourweb.cz
SUMMARY:Přečti EU\, Přečti Hradiště (literární soutěž)
DESCRIPTION:Přečti Hradiště / EU – soutěž pro 4. a 5. třídy\ntentokrát čteme šikmé věže s výškami 47.500 a 56.670 cm \n\n\n\n\n\nZapojte se se svou třídou do čtenářské soutěže!\nZadání je jednoduché – pokuste se přečíst za 7 měsíců 47 500 či 56 670 stran – nebo se jim přiblížit\nStartujeme 1. října!\n\n\n\n\n\n\n\n\n\nA JAK se DO KLÁNÍ ZAPOJIT? \n\nZaregistruj svou třídu (škola\, třída\, počet žáků\, učitel) na emailové adrese detske@knihovnabbb.cz\nObratem ti zašleme ARCH\, který si vytiskneš a do něhož si bude tvá třída zapisovat přečtené knihy s počtem stránek (poslední strana = poslední číslovaná stránka)\nArch odevzdej v knihovně do 15. května 2023\nTřída\, které se podaří přečíst nejvíce stran\, či třída\, která se nejvíce přiblíží výšce jedné z věží se může těšit na odměnu\nVyhlášení proběhne v měsíci červnu při Hradišťském sluníčku \nhttps://www.knihovnabbb.cz/precti-hradiste
URL:https://tvorimevropu.showyourweb.cz/event/precti-eu-precti-hradiste-literarni-soutez-3/
CATEGORIES:Zlín
ATTACH;FMTTYPE=image/png:https://tvorimevropu.showyourweb.cz/wp-content/uploads/2022/01/28251-online_shopping_graph.png
END:VEVENT
END:VCALENDAR