BEGIN:VCALENDAR
VERSION:2.0
PRODID:-//Tvoříme Evropu - ECPv6.15.0.1//NONSGML v1.0//EN
CALSCALE:GREGORIAN
METHOD:PUBLISH
X-ORIGINAL-URL:https://tvorimevropu.showyourweb.cz
X-WR-CALDESC:Akce na Tvoříme Evropu
REFRESH-INTERVAL;VALUE=DURATION:PT1H
X-Robots-Tag:noindex
X-PUBLISHED-TTL:PT1H
BEGIN:VTIMEZONE
TZID:UTC
BEGIN:STANDARD
TZOFFSETFROM:+0000
TZOFFSETTO:+0000
TZNAME:UTC
DTSTART:20230101T000000
END:STANDARD
END:VTIMEZONE
BEGIN:VEVENT
DTSTART;TZID=UTC:20230804T150000
DTEND;TZID=UTC:20230806T173000
DTSTAMP:20260420T054644
CREATED:20230718T095441Z
LAST-MODIFIED:20230718T095441Z
UID:169801-1691161200-1691343000@tvorimevropu.showyourweb.cz
SUMMARY:LandAndArt festival Königsmühle 2023
DESCRIPTION:Tradiční landart setkání na místě zaniklé obce Kőnigsmühle proběhne od 4. do 6. srpna 2023. \nNa programu jsou neotřelá hudební a divadelní představení\, nové landartové expozice\, přednášky o historii a domácí pochutiny. Nebudou chybět ani kreativní aktivity pro děti i dospělé a cvičení. Setká se tu opět po roce řada krušnohorských a Krušné hory milujících lidí z obou stran hranice. \nPodrobný program je na webu konigsmuhle.cz \, aktuální informace sledujte na fb stránce události LandAndArt festival Königsmühle 2023.Krušné Hory
URL:https://tvorimevropu.showyourweb.cz/event/landandart-festival-konigsmuhle-2023-3/
CATEGORIES:Karlovy Vary
ATTACH;FMTTYPE=image/jpeg:https://tvorimevropu.showyourweb.cz/wp-content/uploads/2022/01/26146-120-prouza.jpg
END:VEVENT
END:VCALENDAR