BEGIN:VCALENDAR
VERSION:2.0
PRODID:-//Tvoříme Evropu - ECPv6.15.0.1//NONSGML v1.0//EN
CALSCALE:GREGORIAN
METHOD:PUBLISH
X-ORIGINAL-URL:https://tvorimevropu.showyourweb.cz
X-WR-CALDESC:Akce na Tvoříme Evropu
REFRESH-INTERVAL;VALUE=DURATION:PT1H
X-Robots-Tag:noindex
X-PUBLISHED-TTL:PT1H
BEGIN:VTIMEZONE
TZID:UTC
BEGIN:STANDARD
TZOFFSETFROM:+0000
TZOFFSETTO:+0000
TZNAME:UTC
DTSTART:20230101T000000
END:STANDARD
END:VTIMEZONE
BEGIN:VEVENT
DTSTART;TZID=UTC:20240323T100000
DTEND;TZID=UTC:20240323T170000
DTSTAMP:20260420T053554
CREATED:20240311T165059Z
LAST-MODIFIED:20240311T165059Z
UID:170052-1711188000-1711213200@tvorimevropu.showyourweb.cz
SUMMARY:Maker Faire Karlovy Vary
DESCRIPTION:Co to je?\nJedná se o festival workshopů a interaktivních aktivit. Své projekty a prototypy zde prezentují samotní inovátoři. Prezentují se moderní technologie\, tradiční řemesla\, věda\, design a vzdělávání. Téměř vše si na něm lze vyzkoušet na vlastní kůži a mnohé si také vyrobit. \nKdy a kde?\n23. března od 10 do 17 hodin v SPA HOTEL THERMAL \nKoho na akci uvidíte? \nPrezentovat se budou kromě jednotlivých inovátorů a makerů z oblasti 3D tisku a robotiky třeba také místní INION nebo 4K – Agentura pro kulturní a kreativní průmysly Karlovarského kraje. v zóně vystavovatelů  bude mít po celou dobu akce informační stánek také Eurocentrum a EUROPE DIRECT Karlovy Vary s propagačními materiály a soutěžemi pro příchozí. \nDalší informace najdete na FB události https://fb.me/e/16eQ0fw3m a webu https://makerfaire.cz/kvary/ \nVstupenky můžete zakoupit bez fronty na goout.net \nZastavte se! \n 
URL:https://tvorimevropu.showyourweb.cz/event/maker-faire-karlovy-vary-3/
CATEGORIES:Karlovy Vary
END:VEVENT
BEGIN:VEVENT
DTSTART;TZID=UTC:20231108T090000
DTEND;TZID=UTC:20231108T140000
DTSTAMP:20260420T053554
CREATED:20231103T125125Z
LAST-MODIFIED:20231103T125125Z
UID:169932-1699434000-1699452000@tvorimevropu.showyourweb.cz
SUMMARY:Regionální seminář EPALE
DESCRIPTION:Interaktivita a kreativita v lektorské práci \nTo bude téma regionálního semináře\, který pořádá EPALE ČR a Dům zahraniční spolupráce. Jsme rádi\, že i v Karlových Varech se uskuteční akce na podporu kreativního vzdělávání. \nSeminář se bude konat v Hotelu Dvorana\, Chebská 394/44\, Karlovy Vary ve středu 8. 11. 2023. \nAkce je určena pro pracovníky s mládeží\, kteří zde mohou načerpat zkušenosti a náměty na svou další práci. \nPodrobný program a možnost registrace najdete na odkazu zde 
URL:https://tvorimevropu.showyourweb.cz/event/regionalni-seminar-epale-3/
CATEGORIES:Karlovy Vary
ATTACH;FMTTYPE=application/pdf:https://tvorimevropu.showyourweb.cz/wp-content/uploads/2022/01/18838-lundquist_panel_1.pdf
END:VEVENT
END:VCALENDAR