BEGIN:VCALENDAR
VERSION:2.0
PRODID:-//Tvoříme Evropu - ECPv6.15.0.1//NONSGML v1.0//EN
CALSCALE:GREGORIAN
METHOD:PUBLISH
X-WR-CALNAME:Tvoříme Evropu
X-ORIGINAL-URL:https://tvorimevropu.showyourweb.cz
X-WR-CALDESC:Akce na Tvoříme Evropu
REFRESH-INTERVAL;VALUE=DURATION:PT1H
X-Robots-Tag:noindex
X-PUBLISHED-TTL:PT1H
BEGIN:VTIMEZONE
TZID:UTC
BEGIN:STANDARD
TZOFFSETFROM:+0000
TZOFFSETTO:+0000
TZNAME:UTC
DTSTART:20240101T000000
END:STANDARD
END:VTIMEZONE
BEGIN:VEVENT
DTSTART;TZID=UTC:20240904T220000
DTEND;TZID=UTC:20240918T235900
DTSTAMP:20260420T033019
CREATED:20240904T195816Z
LAST-MODIFIED:20240904T195816Z
UID:170254-1725487200-1726703940@tvorimevropu.showyourweb.cz
SUMMARY:Noc literatury - kvíz
DESCRIPTION:Letos v září se koná již 18. ročník evropského literárního festivalu. Noc literatury je nejen o nové tvorbě evropských spisovatelek a spisovatelů\, ale také o propojení neobvyklých míst\, osobité interpretace literatury a nevšedních kulturních zážitků. \nPočet měst v ČR\, která se zapojují do Noci literatury\, každý rok stoupá. v Karlovarském kraji máte příležitost seznámit se s tvorbou současných evropských autorek a autorů na 4 místech. Abychom Vás na tato místa přilákali\, připravili jsme pro Vás krátký test. \nKdo správně odpoví na 5 otázek a pošle nám výsledky emailem na adresu: eurocentrum.kv@vlada.gov.cz do půlnoci 18. září\, bude zařazen do losování o 3 knihy s evropskou tematikou. \n1) na kolika místech v Chebu probíhá Noc literatury?\na) 3\nb) 4\nc) 5 \n2) Kdy se v roce 2024 koná Noc literatury v Knihovně Dalovice?\na) 19. září\nb) 18. září\nc) 17. září \n3) Kde se koná Noc literatury ve městě Žlutice?\na) v knihovně (Velké náměstí č. p. 137)\nb) v muzeu (Velké náměstí č. p. 1)\nc) na městském úřadě (Velké náměstí 144) \n4) v kolik hodin začíná Noc literatury v Horním Slavkově v kostele sv. Jiří?\na) ve 20 hodin\nb) v 19 hodin\nc) v 18 hodin \n5) Jak se jmenuje každoroční akce na podporu čtení dětí?\na) Noc v knihovně\nb) Nos s Andersenem\nc) Knihovnická noc \nDržíme palce všem účastníkům a těšíme se na Vaše odpovědi. \nFotka od Hermann Traub z Pixabay
URL:https://tvorimevropu.showyourweb.cz/event/noc-literatury-kviz-3/
CATEGORIES:Karlovy Vary
END:VEVENT
BEGIN:VEVENT
DTSTART;TZID=UTC:20240201T080000
DTEND;TZID=UTC:20240224T233000
DTSTAMP:20260420T033019
CREATED:20240208T113008Z
LAST-MODIFIED:20240208T113008Z
UID:169997-1706774400-1708817400@tvorimevropu.showyourweb.cz
SUMMARY:Objev Belgii - Ontdek België
DESCRIPTION:Výstava knih a kvíz o Belgii. \nZačíná to být tradice! \nVe spolupráci s Krajskou knihovnou Karlovy Vary jsme připravili zajímavou knižní výstavu belgických autorů v souvislosti s předsednictvím Belgie v Radě EU v tomto pololetí. Výstava je umístěna ve vstupní hale knihovny a v nabídce jsou detektivky\, romány či různí průvodci touto krásnou evropskou zemí. \nK příležitosti výstavy jsme si pro vás připravili soutěž ve formátu Kahoot o deskové hry a knihy. Odkaz k soutěži naleznete zde: https://1url.cz/bu0Bd kahoot PIN 06711667 \nVýherci dostanou deskovou hru nebo zajímavou knihu. Výstava potrvá celý únor a soutěžit s námi můžete do 24. února!!! \n 
URL:https://tvorimevropu.showyourweb.cz/event/objev-belgii-ontdek-belgie-3/
CATEGORIES:Karlovy Vary
ATTACH;FMTTYPE=image/jpeg:https://tvorimevropu.showyourweb.cz/wp-content/uploads/2024/02/421952649_835281311736481_4075354539319730551_n.jpg
END:VEVENT
END:VCALENDAR