BEGIN:VCALENDAR
VERSION:2.0
PRODID:-//Tvoříme Evropu - ECPv6.15.0.1//NONSGML v1.0//EN
CALSCALE:GREGORIAN
METHOD:PUBLISH
X-ORIGINAL-URL:https://tvorimevropu.showyourweb.cz
X-WR-CALDESC:Akce na Tvoříme Evropu
REFRESH-INTERVAL;VALUE=DURATION:PT1H
X-Robots-Tag:noindex
X-PUBLISHED-TTL:PT1H
BEGIN:VTIMEZONE
TZID:UTC
BEGIN:STANDARD
TZOFFSETFROM:+0000
TZOFFSETTO:+0000
TZNAME:UTC
DTSTART:20240101T000000
END:STANDARD
END:VTIMEZONE
BEGIN:VEVENT
DTSTART;TZID=UTC:20240721T090000
DTEND;TZID=UTC:20240721T190000
DTSTAMP:20260420T014942
CREATED:20240710T211705Z
LAST-MODIFIED:20240710T211705Z
UID:170210-1721552400-1721588400@tvorimevropu.showyourweb.cz
SUMMARY:Snídaně v botanické zahradě 2024
DESCRIPTION:Oslava 20 let České republiky v Evropské unii v Karlovarském kraji \nJestli na nějakém místě v Karlovarském kraji je vidět velká změna za posledních 20 let\, tak je to určitě Bečovská botanická zahrada. Díky evropským fondům byla tehdy nastartována její přeměna po mnoha letech bez péče. Společně s mnoha dobrovolníky a příspěvky od města Bečov\, Karlovarského kraje\, státu a MAS Kraj živých vod se stala BBZ opět místem s mnoha zajímavými rostlinnými exempláři. Stará se o ni stále pobočný spolek 23/02 ZO ČSOP BERKUT a více se o ní můžete dozvědět na webu https://www.becovskabotanicka.cz/ \nVybrali jsme si toto místo v Karlovarském kraji pro oslavu 20 let vstupu České republiky do Evropské unie. Akce bude součástí tradiční nedělní snídaně v Bečovské botanické zahradě v rámci Bečovských slavností. Návštěvníky čeká bohatý kulturní program včetně hudby\, slam poetry a tvořivé dílny pro děti. Kromě toho bude možné využít komentovanou prohlídku BBZ\, svést se na lodičce nebo využít sportovní vybavení v zahradě. a nebude chybět ani kvíz a další zábavně soutěžní aktivity na stánku EUROPE DIRECT a Eurocentra Karlovy Vary. Jako připomínka 20 let ČR v EU bude k vidění výstava projektů podpořených z evropských fondů v Karlovarském kraji. \nVíce informací ve FB události \n 
URL:https://tvorimevropu.showyourweb.cz/event/snidane-v-botanicke-zahrade-2024-3/
CATEGORIES:Karlovy Vary
ATTACH;FMTTYPE=image/jpeg:https://tvorimevropu.showyourweb.cz/wp-content/uploads/2024/07/Becov-maly-scaled-e1720645675192.jpg
END:VEVENT
END:VCALENDAR