BEGIN:VCALENDAR
VERSION:2.0
PRODID:-//Tvoříme Evropu - ECPv6.15.0.1//NONSGML v1.0//EN
CALSCALE:GREGORIAN
METHOD:PUBLISH
X-WR-CALNAME:Tvoříme Evropu
X-ORIGINAL-URL:https://tvorimevropu.showyourweb.cz
X-WR-CALDESC:Akce na Tvoříme Evropu
REFRESH-INTERVAL;VALUE=DURATION:PT1H
X-Robots-Tag:noindex
X-PUBLISHED-TTL:PT1H
BEGIN:VTIMEZONE
TZID:Europe/Prague
BEGIN:DAYLIGHT
TZOFFSETFROM:+0100
TZOFFSETTO:+0200
TZNAME:CEST
DTSTART:20250330T010000
END:DAYLIGHT
BEGIN:STANDARD
TZOFFSETFROM:+0200
TZOFFSETTO:+0100
TZNAME:CET
DTSTART:20251026T010000
END:STANDARD
END:VTIMEZONE
BEGIN:VTIMEZONE
TZID:UTC
BEGIN:STANDARD
TZOFFSETFROM:+0000
TZOFFSETTO:+0000
TZNAME:UTC
DTSTART:20240101T000000
END:STANDARD
END:VTIMEZONE
BEGIN:VEVENT
DTSTART;TZID=Europe/Prague:20250408T110000
DTEND;TZID=Europe/Prague:20250409T140000
DTSTAMP:20260419T233720
CREATED:20250407T124337Z
LAST-MODIFIED:20250407T124337Z
UID:170455-1744110000-1744207200@tvorimevropu.showyourweb.cz
SUMMARY:Veletrh Job Day
DESCRIPTION:Ve dnech 8. a 9. dubna 2025 proběhne veletrh pracovních příležitostí pro všechny studenty a absolventy Jihočeské univerzity v Českých Budějovicích\, a to v přízemí menzy JU. \nEurocentrum České Budějovice bude v úterý 8. dubna na svém stánku informovat o možnostech stáží a práce v institucích Evropské unie a také o dalších možnostech výjezdů přes programy EU.
URL:https://tvorimevropu.showyourweb.cz/event/veletrh-job-day-3/
CATEGORIES:České Budějovice
END:VEVENT
BEGIN:VEVENT
DTSTART;VALUE=DATE:20240409
DTEND;VALUE=DATE:20240411
DTSTAMP:20260419T233720
CREATED:20240328T131217Z
LAST-MODIFIED:20240328T131217Z
UID:170084-1712620800-1712793599@tvorimevropu.showyourweb.cz
SUMMARY:Veletrh JOBDAY 2024
DESCRIPTION:V dubnu se uskuteční veletrh pracovních příležitostí pro všechny studenty a absolventy Jihočeské univerzity v Českých Budějovicích. v úterý 9. dubna se na Vás budeme těšit – přijďte k našemu informačnímu stánku zjistit informace o stážích a práci nejen v institucích Evropské unie. \nVíce informací o akci naleznete na webových stránkách Jihočeské univerzity.
URL:https://tvorimevropu.showyourweb.cz/event/veletrh-jobday-2024-3/
CATEGORIES:České Budějovice
ATTACH;FMTTYPE=image/png:https://tvorimevropu.showyourweb.cz/wp-content/uploads/2024/03/JOBDAY-2024.png
END:VEVENT
END:VCALENDAR